Workbook
Name Meniu_ParamosIšmokėjimoBūdai: ParamosIšmokėjimoBūdai[Meniu_Būdas]
Name Meniu_ParamosIšmokėjimoBūdai: ParamosIšmokėjimoBūdai[Meniu_Būdas]
Name Meniu_ParamosIšmokėjimoBūdai: ParamosIšmokėjimoBūdai[Meniu_Būdas]
Name Meniu_ParamosIšmokėjimoBūdai: ParamosIšmokėjimoBūdai[Meniu_Būdas]
Name Meniu_ParamosIšmokėjimoBūdai: ParamosIšmokėjimoBūdai[Meniu_Būdas]
Name Meniu_TaipNe: TaipNe[Taip ar Ne]
Name part_3ee8e7ec16b44afe8777e3f1b27ce2d7: '9.2_nvo'!#REF!
Name part_528a181f99fa4dce91e9a4c6ed18ec6e: '9.2_nvo'!#REF!
Name part_b214239539ab4bb4a5177b487c86b6a8: '9.2_nvo'!#REF!

Sheet FA_nvoFormos
A12: A. | B12: PAGRINDINĖS VEIKLOS PINIGŲ SRAUTAI | D12: I. | E12: PAJAMOS | H12: TURTAS
A13: I. | B13: Įplaukos | D13: 1. | E13: Pajamos už suteiktas paslaugas, parduotas prekes | G13: A. | H13: ILGALAIKIS TURTAS
A14: I.1. | B14: Finansavimo sumos kitoms išlaidoms ir atsargoms: | D14: 2. | E14: Finansavimo pajamos | G14: I. | H14: NEMATERIALUSIS TURTAS
A15: I.1.1. | B15: iš valstybės biudžeto | D15: 2.1. | E15: Finansavimo sumų iš valstybės biudžeto panaudojimo pajamos | G15: 1. | H15: Patentai, licencijos
A16: I.1.2. | B16: iš ES, užsienio valstybių ir tarptautinių organizacijų | D16: 2.2. | E16: Kitos finansavimo pajamos | G16: 2. | H16: Programinė įranga
A17: I.1.3. | B17: iš kitų šaltinių | D17: 3. | E17: Kitos pajamos | G17: 3. | H17: Kitas nematerialusis turtas
A18: I.2. | B18: iš mokesčių | D18: II. | E18: SĄNAUDOS | G18: II. | H18: MATERIALUSIS TURTAS
A19: I.3. | B19: iš socialinių įmokų | D19: 1. | E19: Suteiktų paslaugų, parduotų prekių savikaina | G19: 1. | H19: Žemė
A20: I.4. | B20: už suteiktas paslaugas | D20: 2. | E20: Kitos sąnaudos | G20: 2. | H20: Pastatai ir statiniai
A21: I.5. | B21: gautos palūkanos | D21: 3. | E21: Veiklos sąnaudos | G21: 3. | H21: Mašinos ir įrengimai
A22: I.6. | B22: kitos įplaukos | D22: 3.1. | E22: Pardavimo | G22: 4. | H22: Transporto priemonės
A23: II. | B23: Pervestos lėšos | D23: 3.2. | E23: Darbuotojų išlaikymo | G23: 5. | H23: Kita įranga, prietaisai, įrankiai ir įrenginiai
A24: III. | B24: Išmokos | D24: 3.3. | E24: Nusidėvėjimo (amortizacijos) | G24: 6. | H24: Nebaigta statyba
... A34: III.10. | B34: socialinės apsaugos | D34: V. | E34: GRYNASIS VEIKLOS REZULTATAS | G34: II. | H34: PER VIENERIUS METUS GAUTINOS SUMOS
A35: B. | B35: INVESTICINĖS VEIKLOS PINIGŲ SRAUTAI | G35: 1. | H35: Pirkėjų įsiskolinimas
A36: I. | B36: Ilgalaikio turto (išskyrus finansinį) ir biologinio turto įsigijimas | G36: 2. | H36: Kitos gautinos sumos
A37: II. | B37: Ilgalaikio turto (išskyrus finansinį) ir biologinio turto perleidimas | G37: III. | H37: KITAS TRUMPALAIKIS TURTAS
A38: III. | B38: Ilgalaikio finansinio turto įsigijimas | G38: 1. | H38: Trumpalaikės investicijos
A39: IV. | B39: Ilgalaikio finansinio turto perleidimas | G39: 2. | H39: Terminuoti indėliai
A40: V. | B40: Terminuotųjų indėlių (padidėjimas) sumažėjimas | G40: 3. | H40: Kitas trumpalaikis turtas
A41: VI. | B41: Gauti dividendai | G41: IV. | H41: PINIGAI IR PINIGŲ EKVIVALENTAI
A42: VII. | B42: Kiti investicinės veiklos pinigų srautai | H42: TURTAS, IŠ VISO
A43: C. | B43: FINANSINĖS VEIKLOS PINIGŲ SRAUTAI
A44: I. | B44: Įplaukos iš gautų paskolų | H44: NUOSAVAS KAPITALAS IR ĮSIPAREIGOJIMAI
A45: II. | B45: Gautų paskolų grąžinimas | G45: C. | H45: NUOSAVAS KAPITALAS
A46: III. | B46: Finansinės nuomos (lizingo) įsipareigojimų apmokėjimas | G46: I. | H46: KAPITALAS | I46: DALININKŲ KAPITALAS
A47: IV. | B47: Gautos finansavimo sumos ilgalaikiam ir biologiniam turtui įsigyti | G47: II. | H47: PERKAINOJIMO REZERVAS | I47: REZERVAI
A48: V. | B48: Grąžintos finansavimo sumos ilgalaikiam ir biologiniam turtui įsigyti | G48: III. | H48: KITI REZERVAI | I48: NELIEČIAMSIS KAPITALAS
A49: VI. | B49: Gauti dalininko įnašai | G49: IV. | H49: VEIKLOS REZULTATAS | I49: SUKAUPTAS VEIKLOS REZULTATAS
A50: VII. | B50: Kiti finansinės veiklos pinigų srautai | G50: 1. | H50: Ataskaitinių metų veiklos rezultatas
A51: D. | B51: VALIUTOS KURSŲ PASIKEITIMO ĮTAKA PINIGŲ IR PINIGŲ EKVIVALENTŲ LIKUČIUI | G51: 2. | H51: Ankstesnių metų veiklos rezultatas
A52: I. | B52: Pinigų ir pinigų ekvivalentų padidėjimas (sumažėjimas) | G52: D. | H52: FINANSAVIMAS
A53: II. | B53: Pinigai ir pinigų ekvivalentai ataskaitinio laikotarpio pradžioje | G53: 1. | H53: Dotacija
A54: III. | B54: Pinigai ir pinigų ekvivalentai ataskaitinio laikotarpio pabaigoje | G54: 2. | H54: Tiksliniai įnašai
G55: 2.1. | H55: Finansavimo sumos iš valstybės biudžeto
G56: 2.2. | H56: Kiti tiksliniai įnašai
G57: 3. | H57: Nario mokesčiai
G58: 4. | H58: Kitas finansavimas
G59: E. | H59: MOKĖTINOS SUMOS IR ĮSIPAREIGOJIMAI
G60: I. | H60: ILGALAIKIAI ĮSIPAREIGOJIMAI
...

Sheet Konstantos
A1: Planuojamo verslo rūšis pagal pareiškėją
A2: –
A3: Socialinio verslo projektas: Juridinis asmuo, kurio steigime ir (ar) valdyme dalyvauja viešieji juridiniai asmenys, atitinkantys Gairių* 10 punkte nurodytas specialiąsias tinkamumo sąlygas pareiškėjams, ir kuris valdo ne mažiau kaip 51 proc. akcijų, pajų ar kitokių dalyvavimą juridinio asmens kapitale žyminčių kapitalo dalių arba tiesiogiai ar netiesiogiai (pagal balsavimo sutartį, balsavimo teisės perleidimo sutartį, įgaliojimą ir pan.)
A4: Socialinio verslo projektas: Viešasis juridinis asmuo, veikiantis pagal Lietuvos Respublikos viešųjų įstaigų įstatymą arba Lietuvos Respublikos asociacijų įstatymą, kurio veikla atitinka NVO apibrėžtį, yra įgijusi NVO žymą, valdantis ne mažiau kaip 51 proc. akcijų ar kt./turi sprendžiamąją galią, kaip nurodyta Gairėse.
A5: Socialinio verslo projektas: Labdaros ir paramos fondas, įsteigtas ir veikiantis pagal Lietuvos Respublikos labdaros ir paramos įstatymą, kurio veikla atitinka NVO apibrėžtį ir yra įgijęs NVO žymą, valdantis ne mažiau kaip 51 proc. akcijų ar kt./turi sprendžiamąją galią, kaip nurodyta Gairėse.
A6: Socialinio verslo projektas: Religinės bendruomenė ar bendrija, veikianti pagal Religinių bendruomenių ir bendrijų įstatymą, kurios veikla atitinka NVO apibrėžtį ir yra įgijusis NVO žymą, valdantis ne mažiau kaip 51 proc. akcijų ar kt./turi sprendžiamąją galią, kaip nurodyta Gairėse.
A7: Bendruomeninio verslo projektas: Bendruomeninė organizacija, atitinkanti Lietuvos Respublikos bendruomeninių organizacijų plėtros įstatymą ir projekto paraiškos pateikimo dieną turinti ne mažiau kaip 30 narių (narių sąrašas pateikiamas su projekto paraiška)
A8: Bendruomeninio verslo projektas: Kaimo bendruomenė, atitinkanti Lietuvos Respublikos žemės ūkio, maisto ūkio ir kaimo plėtros įstatymą.
A9: Bendruomeninio verslo projektas: Viešoji įstaiga, kurios pagrindinis steigėjas ir (ar) dalininkas, turintis ne mažiau kaip 51 proc. dalių (vertinama pagal VĮ Registrų centro JAR ir JADIS duomenis), turi būti bendruomeninės organizacijos
A10: Viešųjų paslaugų perdavimo projektas: NVO veikla teikia naudą ne tik jos dalyviams, bet ir visuomenei, bei atitinka Lietuvos Respublikos nevyriausybinių organizacijų plėtros įstatymo 8 straipsnio 2 dalies 1, 2, 4 ir 5 punktuose numatytas sąlygas. Pareiškėjo viešųjų paslaugų perdavimo projekte nurodytos viešosios paslaugos atitinka Lietuvos Respublikos vidaus reikalų ministerijos skelbiamą viešųjų paslaugų sąrašą ir pareiškėjas yra suderinęs su savivaldybe perimamas viešąsias paslaugas (jų dalį) arba informavęs ją apie naujų arba papildomų viešųjų paslaugų teikimą.
A13: Planuojamo verslo rūšis pagal verslo vykdymo laiką
A14: –
... A89: Paramos išmokėjimo būdai
A90: Meniu_Būdas | B90: Taikymas | C90: Būdas
A91: =IF(ParamosIšmokėjimoBūdai[[#This Row],[Taikymas]]="Taip",ParamosIšmokėjimoBūdai[[#This Row],[Būdas]],"") -> #NAME? | B91: =_xlfn.XLOOKUP(ParamosIšmokėjimoBūdai[[#This Row],[Būdas]],Lentelė5[Naudojami paramos išmokėjimo būdai],Lentelė5[Pasirinkti]) -> #NAME? | C91: Kompensavimas
A92: Sąskaitų apmokėjimo būdas | B92: =_xlfn.XLOOKUP(ParamosIšmokėjimoBūdai[[#This Row],[Būdas]],Lentelė5[Naudojami paramos išmokėjimo būdai],Lentelė5[Pasirinkti]) -> #NAME? | C92: Sąskaitų apmokėjimo būdas
A93: Kompensavimas su avansu | B93: =_xlfn.XLOOKUP(ParamosIšmokėjimoBūdai[[#This Row],[Būdas]],Lentelė5[Naudojami paramos išmokėjimo būdai],Lentelė5[Pasirinkti]) -> #NAME? | C93: Kompensavimas su avansu
A95: Matavimo vienetai
A96: vnt.
A97: val.
A98: t
A99: kg
A100: m2
A101: m3
A104: Pareiškėjas
A105: Verslo subjektai
A106: Asociacijos ir viešosios įstaigos
A109: Taip ar Ne
A110: Taip
A111: Ne

Sheet Forma
B2: Formos kodas | C2: L2
B4: Formos koregavimo ir pataisymų registras
A6: Eil. Nr. | B6: Problema | C6: Registravimo data | D6: Pataisymas | E6: Pataisymo data
A7: =ROW()-ROW(Pataisymai[[#Headers],[Eil. Nr.]]) -> 1 | B7: Jei NVO Balanso straipsnyje "Finansinis turtas" apskaitomas turtas susijęs su atsiskaitymais, jo pokyčiai Pinigų srautuose priskiriami ne pagrindinei, o investicinei veiklai. | C7: 45357 | D7: Problema nėra kritinė. Pinigų srautuose pinigų likutis skaičiuojamas teisingai, tačiau pagrindinės veiklos pinigų srautas, gali būti atvaizduotas neteisingai. Jei NVO būtų skaičiuojamas paskolų padengimo rodiklis, FA formas reikėtų tikslinti.
A8: =ROW()-ROW(Pataisymai[[#Headers],[Eil. Nr.]]) -> 2 | B8: Tikslinga papildyti paskolomis gautomis einamaisiais metais | C8: 45362
A9: =ROW()-ROW(Pataisymai[[#Headers],[Eil. Nr.]]) -> 3 | B9: Gali būti taikomi ne visi paramos būdai | C9: 45364 | D9: Papildytas Parametrų lapas: Galima pasirinkti taikomus paramos būdus | E9: 45385

Sheet Parametrai
B1: Nr. FR-2157
B3: (Verslo plano pagal Lietuvos žemės ūkio ir kaimo plėtros 2023–2027 metų strateginio plano intervencinę priemonę „Bendruomenių inicijuota vietos plėtra (LEADER)“ forma, skirta socialinio verslo / bendruomeninio verslo / viešųjų paslaugų perdavimo projektams)
B4: Parametrai
B6: Dokumento antraštė | C6: VERSLO PLANAS, TEIKIAMAS PAGAL ASOCIACIJOS "ŠIAULIŲ RAJONO VIETOS VEIKLOS GRUPĖ" 2023 - 2029 M. TERITORIJOS VIETOS PLĖTROS STRATEGIJOS PRIEMONĘ „BENDRUOMENINIŲ PASLAUGŲ PLĖTRA“ Nr. ŠIAU-LEADER-20VVG-08-08
B9: Forma | C9: Asociacijos ir viešosios įstaigos
B12: Paraiškos priimamos nuo | C12: 46119
B13: Galutinė paraiškos pateikimo diena | C13: 46153
B14: Ilgiausia projekto įgyvendinimo trukmė, mėn. | C14: 24
B15: Kontrolės laikotarpio trukmė po verslo plano įgyvendinimo, m. | C15: 3
B16: Galutinė projekto įgyvendinimo data | E16: jei neįrašyta, apskaičiuojama remiantis ilgiausia projekto įgyvendinimo trukme
B17: Paramos išmokėjimo trukmė, mėn. | C17: 3
B20: Ekonominio gyvybingumo rodikliai | C20: Kritinės reikšmės
B21: Paskolų padengimo | C21: 1.25
B22: Skolos | C22: 0.65
B23: Grynasis pelningumas | C23: 0.01
B24: Einamojo likvidumo rodiklis | C24: 1
B27: Didžiausias galimas išmokėti avanso dydis | C27: 0.4
B29: Naudojami paramos išmokėjimo būdai | C29: Pasirinkti
B30: Kompensavimas | C30: Taip
B31: Sąskaitų apmokėjimo būdas | C31: Taip
B32: Kompensavimas su avansu | C32: Taip

Sheet TURINYS
B2: TURINYS
B4: Eil. Nr. | C4: Skyriaus Nr. | D4: Skyrius
B5: =ROW()-ROW(Turinys[[#Headers],[Eil. Nr.]]) -> 1 | D5: Pastabos
B6: =ROW()-ROW(Turinys[[#Headers],[Eil. Nr.]]) -> 2 | C6: 1. | D6: Bendroji informacija
B7: =ROW()-ROW(Turinys[[#Headers],[Eil. Nr.]]) -> 3 | C7: 2. | D7: Informacija apie verslo idėją
B8: =ROW()-ROW(Turinys[[#Headers],[Eil. Nr.]]) -> 4 | C8: 3. | D8: Esama situacija (išskyrus finansinę) ir prognozuojamas pokytis po paramos gavimo
B9: =ROW()-ROW(Turinys[[#Headers],[Eil. Nr.]]) -> 5 | C9: 4. | D9: Informacija apie pajamas, produktų ir paslaugų pardavimus, gamybą
B10: =ROW()-ROW(Turinys[[#Headers],[Eil. Nr.]]) -> 6 | C10: 5. | D10: Informacija apie investicijas ir jų apmokėjimo šaltinius
B11: =ROW()-ROW(Turinys[[#Headers],[Eil. Nr.]]) -> 7 | C11: 6. | D11: Informacija apie ilgalaikį turtą
B12: =ROW()-ROW(Turinys[[#Headers],[Eil. Nr.]]) -> 8 | C12: 7. | D12: Informacija apie pareiškėjo veiklos sąnaudas
B13: =ROW()-ROW(Turinys[[#Headers],[Eil. Nr.]]) -> 9 | C13: 8. | D13: Informacija apie paskolas ir (arba) išperkamąją (finansinę) nuomą (lizingą)
B14: =ROW()-ROW(Turinys[[#Headers],[Eil. Nr.]]) -> 10 | C14: 9.1_nvo | D14: Balanso prognozės
B15: =ROW()-ROW(Turinys[[#Headers],[Eil. Nr.]]) -> 11 | C15: 9.2_nvo | D15: Pelno (nuostolių) prognozės
B16: =ROW()-ROW(Turinys[[#Headers],[Eil. Nr.]]) -> 12 | C16: 9.3_nvo | D16: Pinigų srautų prognozės
B17: =ROW()-ROW(Turinys[[#Headers],[Eil. Nr.]]) -> 13 | C17: 10_nvo | D17: Informacija apie ūkio subjekto ekonominio gyvybingumo rodiklius

Sheet Pastabos
G1: Turi būti tokios spalvos
B2: PASTABOS | F2: Pažymėta laukelio spalva | G2: Paaiškinimas
B3: Verslo plane visa informacija rašoma tik į pilkos spalvos langelius. Privalomai pildomas laukas (pildo vietos projekto pareiškėjas), suvedama prašoma informacija. | C3: visus paversti mėlynais | G3: Privalomai pildomas laukas (pildo vietos projekto pareiškėjas), suvedama prašoma informacija.
B4: Žalsvos spalvos fone pasirenkama reikšmė iš atverčiamo meniu. Automatizuotas atsakymas, pasirenkamas vienas iš siūlomų variantų (pildo vietos projekto pareiškėjas). Siūlomas variantas pasirenkamas su dešinėje laukelio pusėje esančia rodykle. | C4: visus paversti žaliais kaip paraiškos formoje | G4: Automatizuotas atsakymas, pasirenkamas vienas iš siūlomų variantų (pildo vietos projekto pareiškėjas). Siūlomas variantas pasirenkamas su dešinėje laukelio pusėje esančia rodykle.
B5: Baltos spalvos lengelis užrakintas ir negali būti redaguojamas. Laukas nepildomas. Skaičiavimui suvesta formulė arba tekstas. | C5: visus paversti pilkais | G5: Laukas nepildomas. Skaičiavimui suvesta formulė arba tekstas.
B6: Gelsvos spalvos langelyje pateikiami lentelių pavadinimai, lentelių antraštės, taip pat, rodomi verslo plano įgyvendinimo metai. | D6: 255;240;210
B7: Žalsvos spalvos lengeliuose gali būti pateikta svarbi informacija, kaip pildyti verslo plano eilutę, arba gali būti gautas pranešimas ar ši eilutė užpildyta teisingai. | C7: pirmiausia visur nuimti žalią verslo plane
B8: Rausvas langelis reiškia, kad duomenys yra neteisingai ar tik dalinai įvesti. Jei žalsvame stulpelyje "Pastabos" gaunamas pranešimas "Klaida! ...", jame nurodomas klaidos pobūdis. | C8: tegu lieka | D8: 255;205;205
B9: Auksinės spalvos langelis reiškia, kad atkreitumėte dėmesį ir pasitikrintumėte ar duomenys yra tikrai teisingi. Jei redaguotinas laukas, formulė langelyje gali būti ištrinta. | C9: tegu lieka | D9: 255;230;155
B11: Jei: - langelyje rašomas tekstas ir norima tekstą pradėti rašyti iš naujos eilutės langelio viduje, naudokite klavišų kombinaciją "Alt+Enter"; (Alt kairysis)
B12: - langeliuose skirtuose tekstui įvesti, dalis įvesto teksto nesimato ir negali būti sutrumpintas nes pateikiama svarbi informacija, tekstą palikite, jis bus perskaitytas iš šio excel failo.

Sheet 1
E1: =_xlfn.CONCAT("Versija: ",Forma!$C$2,TEXT(Parametrai!$C$2,".000")) -> #NAME? | G1: Pastabos
G2: Įrašykite pareiškėjo pavadinimą
C3: Vietos projekto vykdytojo pavadinimas
G4: Įrašykite adresą ir kontaktinius duomenis
C5: Adresas, e. paštas, telefono Nr.
A7: VERSLO PLANAS (SOCIALINIS VERSLAS/BENDRUOMENINIS VERSLAS/VIEŠŲJŲ PASLAUGŲ PERDAVIMAS)
A9: =Parametrai!C6 -> VERSLO PLANAS, TEIKIAMAS PAGAL ASOCIACIJOS "ŠIAULIŲ RAJONO VIETOS VEIKLOS GRUPĖ" 2023 - 2029 M. TERITORIJOS VIETOS PLĖTROS STRATEGIJOS PRIEMONĘ „BENDRUOMENINIŲ PASLAUGŲ PLĖTRA“ Nr. ŠIAU-LEADER-20VVG-08-08
G11: =IF(C11="","Klaida! Įveskite datą.","ok") -> Klaida! Įveskite datą.
C12: Data
C14: Vieta
A15: 1. | B15: BENDROJI INFORMACIJA
A16: 1.1. | B16: Informacija apie verslo plano įgyvendinimą
A17: 1.1.1. | B17: Projekto įgyvendinimo pradžia | G17: =IF(OR(C17="",C17<'1'!C11),"Klaida: Neįvesta arba neteisingai įvesta data. Projektas gali būti įgyvendinamas tik po paraiškos pateikimo","ok") -> Klaida: Neįvesta arba neteisingai įvesta data. Projektas gali būti įgyvendinamas tik po paraiškos pateikimo
A18: 1.1.2. | B18: Projekto įgyvendinimo pabaiga | G18: =IF(C17=0,"Klaida! Įveskite datą.",IF(OR(AND($C$18>Parametrai!$C$16,Parametrai!$C$16<>0),C19>Parametrai!$C$14),"Klaida: Neįvestas arba įvestas per ilgas projekto įgyvendinimo laikotarpis","ok")) -> Klaida! Įveskite datą.
A19: 1.1.3. | B19: Projekto įgyvendinimo trukmė, mėn. | C19: =IF(C17=0,"-",IFERROR(IF(DAY(C18) < DAY(C17), 1 + DATEDIF(C17, C18, "M") + (DAY(C18) - DAY(C17) + 1) / DAY(EOMONTH(C17,0)),DATEDIF(C17, C18, "M") + (DAY(C18) - DAY(C17) + 1) / DAY(EOMONTH(C17,0))),"-")) -> - | G19: =_xlfn.CONCAT("Vėliausia projekto įgyvendinimo pabaigos data: ", TEXT(IF(Parametrai!$C$16<>0, MIN(Parametrai!$C$16, EDATE($C$17, Parametrai!$C$14)-1), EDATE($C$17, Parametrai!$C$14)-1), "yyyy-mm-dd")) -> #NAME?
A20: 1.2. | B20: Informacija apie planuojamo verslo rūšį
A21: 1.2.1. | B21: Planuojamo verslo rūšis* | C21: – | G21: Pildoma pasirinkus reikšmę iš sąrašo
A22: 1.2.2. | B22: Planuojamo verslo rūšis pagal verslo vykdymo laiką | C22: – | D22: =IF(C22="Verslo pradžia","Ūkio subjekto registravimo data","") | G22: =IF(LEN(C22)<=2,"Pildoma pasirinkus reikšmę iš sąrašo",IF(AND(C22="Verslo pradžia",E22=""),"Klaida! Įveskite ūkio subjekto registravimo pradžią","ok")) -> Pildoma pasirinkus reikšmę iš sąrašo
A23: 1.2.3. | B23: Vykdomos veiklos pagal EVRK kodą: | C23: {=IFERROR(_xlfn.UNIQUE(_xlfn._xlws.FILTER('4'!D:D, ('4'!$B:$B="Veiklos kodas ir pavadinimas pagal EVRK")*('4'!$D:$D<>"")))," –")} -> – | G23: Užpildžius 4 skyrių, vykdomų veiklų sąrašas sudaromas automatiškai (automatiškai neužsipildys, jei naudojate senesnes Excel versijas).
B25: *Socialinio ir bendruomeninio verslo vykdymo bei viešųjų paslaugų perdavimo projektų, pateiktų pagal Lietuvos žemės ūkio ir kaimo plėtros 2023–2027 metų strateginio plano intervencines priemones, gairės: Gairėmis turi vadovautis pareiškėjai, rengdami ir teikdami projektų paramos paraiškas, ir paramos gavėjai, įgyvendindami projektus, finansuojamus pagal SP intervencinę priemonę „Bendruomenių inicijuota vietos plėtra (LEADER)“ (toliau – LEADER) ir vietos plėtros strategijas, įgyvendinamas bendruomenių inicijuotos vietos plėtros būdu (toliau – vietos projektai), ir SP intervencinę priemonę „Sumanieji kaimai“ (toliau – SK), įgyvendinamą pagal sumanaus kaimo strategijas, taip pat vietos veiklos grupės (toliau – VVG) ir institucijos, atliekančios projektų paraiškų atranką, vertinimą ir projektų įgyvendinimo priežiūrą, kai rengiami: 3.1. socialinio verslo, veikiančio pagal modelį, kai išnaudojant rinkos mechanizmus, pelno siekimas susiejamas su visuomenei naudingais tikslais ir prioritetais, remiamasi socialiai atsakingo verslo bei viešojo ir privataus sektorių partnerystės nuostatomis, taikomos socialinės inovacijos, vietos ir SK projektai; 3.2. bendruomeninio verslo, veikiančio pagal modelį, kai pagal SP remiama bendruomenės ekonominė veikla vykdoma remiantis socialiai atsakingo verslo nuostatomis, o gaunamas pelnas skiriamas tą veiklą vykdančios organizacijos (išskyrus viešojo sektoriaus organizacijas) veiklai užtikrinti, aktualioms bendruomenės problemoms spręsti, vietos ir SK projektai; 3.3. viešųjų paslaugų perdavimo projekto, veikiančio pagal modelį, kai viešosios paslaugos (socialinės, švietimo, mokslo, kultūros, sporto ir kitos įstatymų numatytos paslaugos) anksčiau buvo teikiamos valstybės ar savivaldybių įsteigtų specialių įstaigų bei organizacijų, ir yra visa apimtimi ar iš dalies perduodamos teikti organizacijoms (ne biudžetinėms įstaigoms), arba organizacijų (ne biudžetinių įstaigų) organizuojamos naujos viešosios paslaugos, kurios nebuvo teikiamos jų veiklos teritorijoje, tačiau jų poreikis yra, arba viešosios paslaugos yra teikiamos valstybės ar savivaldybių įsteigtų specialių įstaigų bei organizacijų, tačiau jų apimtys nėra pakankamos ar kokybė neatitinka vartotojų lūkesčių (poreikis grindžiamas dokumentais) ir organizacijos (ne biudžetinės įstaigos) imasi teikti jas (visais atvejais turi būti siekiama išmatuojamo teigiamo socialinio poveikio visuomenei ar jos daliai), vietos ir SK projektai.

Sheet 2-3
A1: 2. | B1: INFORMACIJA APIE VERSLO IDĖJĄ | M1: Pastabos
A2: 2.1. | B2: Esamos ir planuojamos ekonominės, socialinės/bendruomeninės/viešųjų paslaugų veiklos/-ų apibūdinimas | M2: Apibūdinama esama ir planuojama veikla. Nurodoma, ką ketinama gaminti ir (arba) kokias paslaugas ketinama teikti. Apibūdinamos planuojamų gaminti prekių ir (arba) teikti paslaugų savybės. Paaiškinama, kokią įtaką projekto investicijos turės vykdomai ekonominei veiklai ir jos rezultatams. Jei planuojama vykdyti socialinį verslą, pateikiama informacija, kaip projektas prisideda prie pareiškėjo socialinio verslo tikslų pasiekimo, kokias ir kokiu būdu sprendžia socialines problemas. Nurodomi, kokie bus reikalingi leidimai ir/arba licencijos įgyvendinus projektą (jei numatomam verslui vykdyti jie privalomi).
A3: 2.2. | B3: Steigimo dokumentuose numatyta socialinė/bendruomeninė misija | M3: Nurodomos steigimo dokumentų nuostatos, atliepiančios planuojamą verslą
A4: 2.3. | B4: Verslo schema ir socialinio poveikio procesai | M4: Apibūdinama verslo vykdymo schema ir socialinio poveikio procesai (paaiškinamas pvz., funkcijų pasiskirstymas tarp darbuotojų; nurodoma, kokioms verslą apimančioms veiklos dalims bus samdomi subrangovai ir pan.Nurodoma, kaip bus matuojamas socialinio poveikio rezultatas.
A6: 3. | B6: ESAMA SITUACIJA (IŠSKYRUS FINANSINĘ) IR PROGNOZUOJAMAS POKYTIS PO PARAMOS GAVIMO
A7: 3.1. | B7: Pareiškėjo turimi ištekliai (išskyrus finansinius)
A8: 3.1.1. | B8: Vidutinis darbuotojų skaičius ir darbo užmokestis
A9: Pagal Vidutinio metų sąrašinio darbuotojų skaičiaus apskaičiavimo metodiką, nustatytą Smulkiojo ir vidutinio verslo subjekto vidutinio metų sąrašinio darbuotojų skaičiaus nustatymo tvarkos apraše, patvirtintame Lietuvos Respublikos ūkio ministro 2008 m. kovo 31 d. įsakymu Nr. 4-126 „Dėl Smulkiojo ir vidutinio verslo subjekto vidutinio metų sąrašinio darbuotojų skaičiaus nustatymo tvarkos aprašo patvirtinimo“ (toliau – aprašas). Jeigu vietos projekto paraiška teikiama sausio mėnesį, vidutinis sąrašinis darbuotojų skaičius skaičiuojamas pagal ataskaitinių metų duomenis, jeigu vietos projekto paraiška teikiama vasario–gruodžio mėnesiais, vidutinis sąrašinis darbuotojų skaičius skaičiuojamas pagal einamųjų metų praėjusių mėnesių duomenis, naudojant aprašo 7 punkte nustatytą vidutinio sąrašinio darbuotojų nustatymo būdą.
A10: Eil. Nr. | B10: Straipsnis | C10: =IF(AND('1'!$C$22="Verslo pradžia",YEAR('1'!$E$22)=YEAR('1'!$C$11)),"Pradžios metai","Ataskaitiniai metai") -> Ataskaitiniai metai | D10: Prognoziniai metai
C11: =IF(C10="Pradžios metai",YEAR('1'!$E$22),IF((YEAR('1'!$C$11)-1)+COUNT(B11:$B11)>YEAR('1'!$C$18)+Parametrai!$C$15,"-",(YEAR('1'!$C$11)-1)+COUNT(B11:$B11))) -> 1899 | D11: =IF(D10="Pradžios metai",YEAR('1'!$E$22),IF((YEAR('1'!$C$11)-1)+COUNT($B11:C11)>YEAR('1'!$C$18)+Parametrai!$C$15,"-",(YEAR('1'!$C$11)-1)+COUNT($B11:C11))) -> 1900 | E11: =IF(E10="Pradžios metai",YEAR('1'!$E$22),IF((YEAR('1'!$C$11)-1)+COUNT($B11:D11)>YEAR('1'!$C$18)+Parametrai!$C$15,"-",(YEAR('1'!$C$11)-1)+COUNT($B11:D11))) -> 1901 | F11: =IF(F10="Pradžios metai",YEAR('1'!$E$22),IF((YEAR('1'!$C$11)-1)+COUNT($B11:E11)>YEAR('1'!$C$18)+Parametrai!$C$15,"-",(YEAR('1'!$C$11)-1)+COUNT($B11:E11))) -> 1902 | G11: =IF(G10="Pradžios metai",YEAR('1'!$E$22),IF((YEAR('1'!$C$11)-1)+COUNT($B11:F11)>YEAR('1'!$C$18)+Parametrai!$C$15,"-",(YEAR('1'!$C$11)-1)+COUNT($B11:F11))) -> 1903 | H11: =IF(H10="Pradžios metai",YEAR('1'!$E$22),IF((YEAR('1'!$C$11)-1)+COUNT($B11:G11)>YEAR('1'!$C$18)+Parametrai!$C$15,"-",(YEAR('1'!$C$11)-1)+COUNT($B11:G11))) -> - | I11: =IF(I10="Pradžios metai",YEAR('1'!$E$22),IF((YEAR('1'!$C$11)-1)+COUNT($B11:H11)>YEAR('1'!$C$18)+Parametrai!$C$15,"-",(YEAR('1'!$C$11)-1)+COUNT($B11:H11))) -> - | J11: =IF(J10="Pradžios metai",YEAR('1'!$E$22),IF((YEAR('1'!$C$11)-1)+COUNT($B11:I11)>YEAR('1'!$C$18)+Parametrai!$C$15,"-",(YEAR('1'!$C$11)-1)+COUNT($B11:I11))) -> - | K11: =IF(K10="Pradžios metai",YEAR('1'!$E$22),IF((YEAR('1'!$C$11)-1)+COUNT($B11:J11)>YEAR('1'!$C$18)+Parametrai!$C$15,"-",(YEAR('1'!$C$11)-1)+COUNT($B11:J11))) -> -
A12: 3.1.1.1. | B12: Vidutinis darbuotojų (etatų) skaičius
A13: 3.1.1.2. | B13: Darbuotojų vidutinis metinis darbo užmokestis (bruto), Eur | C13: =IFERROR(C14/C12,"-") -> -
A14: 3.1.1.3. | B14: Iš viso darbo užmokesčio sąnaudos, Eur | D14: =D12*D13 -> 0 | E14: =E12*E13 -> 0 | F14: =F12*F13 -> 0 | G14: =G12*G13 -> 0 | H14: =H12*H13 -> 0 | I14: =I12*I13 -> 0 | J14: =J12*J13 -> 0 | K14: =K12*K13 -> 0 | M14: Darbo užmokesčio sąnaudos ataskaitiniais metais įvedamos remiantis finansinės atskaitomybės duomenimis.
A15: 3.1.1.4. | B15: Darbuotojų skaičiaus ir darbo užmokesčio pokyčių paaiškinimas | M15: Jei keičiasi darbuotojų skaičius, paaiškinkite priežastis.
A17: 3.1.2. | B17: Informacija apie turimą ilgalaikį materialųjį turtą
A18: Nurodomas ilgalaikis turtas, susijęs su vykdoma veikla, projekto investicijomis ir ūkio gamybiniu potencialu. Nurodomas materialusis, įskaitant nekilnojamąjį, turtas. Nurodykite tik tą turtą, kuris yra susijęs su projekto investicijomis (kartu naudojamas gamybos ir (arba) paslaugų teikimo procese, taip pat nekilnojamas turtas, kuriame bus laikomos projekto investicijos).
A19: Eil. Nr. | B19: Turto objekto pavadinimas | C19: Valdymo teisė | E19: Unikalus objekto Nr. | I19: Pagaminimo metai | J19: Nuomos / panaudos davėjas (asmens vardas, pavardė / įmonės pavadinimas)
A20: 3.1.2.1. | C20: – | M20: Jei sutartis neterminuota, nuomos / panaudos termino įvesti nereikia.
A21: 3.1.2.2. | C21: –
A22: 3.1.2.3. | C22: –
A23: 3.1.2.4. | C23: –
A24: 3.1.2.5. | C24: –
A25: 3.1.2.6. | C25: –
A26: 3.1.2.7. | C26: –
A28: 3.2. | B28: Rinkos situacija
A29: 3.2.1. | B29: Paklausa. Verslo plane numatytų gaminti prekių ir (arba) teikti paslaugų paklausos apibūdinimas. | M29: Pateikiama informacija apie planuojamų parduoti prekių ir (arba) paslaugų pirkėjus / klientus. Glaustai apibūdinami pagrindinių rinkos segmentų požymiai, pirkėjų / kleintų poreikiai, kokioms prekėms / paslaugoms jie teikia prioritetą, kiek pareiškėjo gaminamos prekės ir (arba) teikiamos paslaugos atitinka pirkėjų / klientų poreikius. Apbūdinamos galimos rinkos kitimo tendencijos.
A30: 3.2.2. | B30: Pasiūla. Verslo plane numatytų gaminti prekių ir (arba) teikti paslaugų pasiūlos apibūdinimas (konkurencinė aplinka). | M30: Nurodomi ir apibūdinami pagrindiniai pareiškėjo konkurentai, paaiškinamos konkurentų silpnosios ir stipriosios savybės. Pateikiama informacija apie vidutinį planuojamų parduoti preikių ir (arba) paslaugų kainų lygį. Apbūdinamos galimos konkurencinės aplinkos ir kainų lygio kitimo tendencijos.

Sheet 4
N1: Pastabos | O1: Lygis | P1: Skyrius | Q1: 1 | R1: 2 | S1: 3
A2: 4. | B2: INFORMACIJA APIE PAJAMAS, PRODUKTŲ IR PASLAUGŲ PARDAVIMUS, GAMYBĄ
A4: Reikšmės | C4: Matavimo vnt. | D4: =IF(AND('1'!$C$22="Verslo pradžia",YEAR('1'!$E$22)=YEAR('1'!$C$11)),"Pradžios metai","Ataskaitiniai metai") -> Ataskaitiniai metai | E4: Prognoziniai metai
D5: =IF(D4="Pradžios metai",YEAR('1'!$E$22),IF((YEAR('1'!$C$11)-1)+COUNT($C5:C5)>YEAR('1'!$C$18)+Parametrai!$C$15,"-",(YEAR('1'!$C$11)-1)+COUNT($C5:C5))) -> 1899 | E5: =IF(E4="Pradžios metai",YEAR('1'!$E$22),IF((YEAR('1'!$C$11)-1)+COUNT($C5:D5)>YEAR('1'!$C$18)+Parametrai!$C$15,"-",(YEAR('1'!$C$11)-1)+COUNT($C5:D5))) -> 1900 | F5: =IF(F4="Pradžios metai",YEAR('1'!$E$22),IF((YEAR('1'!$C$11)-1)+COUNT($C5:E5)>YEAR('1'!$C$18)+Parametrai!$C$15,"-",(YEAR('1'!$C$11)-1)+COUNT($C5:E5))) -> 1901 | G5: =IF(G4="Pradžios metai",YEAR('1'!$E$22),IF((YEAR('1'!$C$11)-1)+COUNT($C5:F5)>YEAR('1'!$C$18)+Parametrai!$C$15,"-",(YEAR('1'!$C$11)-1)+COUNT($C5:F5))) -> 1902 | H5: =IF(H4="Pradžios metai",YEAR('1'!$E$22),IF((YEAR('1'!$C$11)-1)+COUNT($C5:G5)>YEAR('1'!$C$18)+Parametrai!$C$15,"-",(YEAR('1'!$C$11)-1)+COUNT($C5:G5))) -> 1903 | I5: =IF(I4="Pradžios metai",YEAR('1'!$E$22),IF((YEAR('1'!$C$11)-1)+COUNT($C5:H5)>YEAR('1'!$C$18)+Parametrai!$C$15,"-",(YEAR('1'!$C$11)-1)+COUNT($C5:H5))) -> - | J5: =IF(J4="Pradžios metai",YEAR('1'!$E$22),IF((YEAR('1'!$C$11)-1)+COUNT($C5:I5)>YEAR('1'!$C$18)+Parametrai!$C$15,"-",(YEAR('1'!$C$11)-1)+COUNT($C5:I5))) -> - | K5: =IF(K4="Pradžios metai",YEAR('1'!$E$22),IF((YEAR('1'!$C$11)-1)+COUNT($C5:J5)>YEAR('1'!$C$18)+Parametrai!$C$15,"-",(YEAR('1'!$C$11)-1)+COUNT($C5:J5))) -> - | L5: =IF(L4="Pradžios metai",YEAR('1'!$E$22),IF((YEAR('1'!$C$11)-1)+COUNT($C5:K5)>YEAR('1'!$C$18)+Parametrai!$C$15,"-",(YEAR('1'!$C$11)-1)+COUNT($C5:K5))) -> - | P5: 4
A6: =_xlfn.CONCAT($P6, ".", $Q6, IF($R6<>"", _xlfn.CONCAT(".", $R6), ""), ".") -> #NAME? | B6: Pajamos iš viso | C6: Eur | D6: =SUM(D7:D9) -> 0 | E6: =SUM(E7:E9) -> 0 | F6: =SUM(F7:F9) -> 0 | G6: =SUM(G7:G9) -> 0 | H6: =SUM(H7:H9) -> 0 | I6: =SUM(I7:I9) -> 0 | J6: =SUM(J7:J9) -> 0 | K6: =SUM(K7:K9) -> 0 | L6: =SUM(L7:L9) -> 0 | O6: 1 | P6: =+P5 -> 4 | Q6: =COUNTIFS($O$1:$O6,1) -> 1 | R6: =IF($O6=$R$1,IF($O6<>$O5, 1, R5+1),"") | T6: =CONCATENATE($P6, ".", $Q6, IF($R6<>"", CONCATENATE(".", $R6), ""), ".") -> 4.1.
A7: =_xlfn.CONCAT($P7, ".", $Q7, IF($R7<>"", _xlfn.CONCAT(".", $R7), ""), ".") -> #NAME? | B7: Pajamos iš gamybos | C7: Eur | D7: =SUMIFS(D:D,$B:$B,"Pajamos (gamyba)") -> 0 | E7: =SUMIFS(E:E,$B:$B,"Pajamos (gamyba)") -> 0 | F7: =SUMIFS(F:F,$B:$B,"Pajamos (gamyba)") -> 0 | G7: =SUMIFS(G:G,$B:$B,"Pajamos (gamyba)") -> 0 | H7: =SUMIFS(H:H,$B:$B,"Pajamos (gamyba)") -> 0 | I7: =SUMIFS(I:I,$B:$B,"Pajamos (gamyba)") -> 0 | J7: =SUMIFS(J:J,$B:$B,"Pajamos (gamyba)") -> 0 | K7: =SUMIFS(K:K,$B:$B,"Pajamos (gamyba)") -> 0 | L7: =SUMIFS(L:L,$B:$B,"Pajamos (gamyba)") -> 0 | O7: 2 | P7: =+P6 -> 4 | Q7: =COUNTIFS($O$1:$O7,1) -> 1 | R7: =IF($O7=$R$1,IF($O7<>$O6, 1, R6+1),"") -> 1 | T7: =CONCATENATE($P7, ".", $Q7, IF($R7<>"", CONCATENATE(".", $R7), ""), ".") -> 4.1.1.
A8: =_xlfn.CONCAT($P8, ".", $Q8, IF($R8<>"", _xlfn.CONCAT(".", $R8), ""), ".") -> #NAME? | B8: Pajamos iš paslaugų | C8: Eur | D8: =SUMIFS(D:D,$B:$B,"Pajamos (paslaugos)") -> 0 | E8: =SUMIFS(E:E,$B:$B,"Pajamos (paslaugos)") -> 0 | F8: =SUMIFS(F:F,$B:$B,"Pajamos (paslaugos)") -> 0 | G8: =SUMIFS(G:G,$B:$B,"Pajamos (paslaugos)") -> 0 | H8: =SUMIFS(H:H,$B:$B,"Pajamos (paslaugos)") -> 0 | I8: =SUMIFS(I:I,$B:$B,"Pajamos (paslaugos)") -> 0 | J8: =SUMIFS(J:J,$B:$B,"Pajamos (paslaugos)") -> 0 | K8: =SUMIFS(K:K,$B:$B,"Pajamos (paslaugos)") -> 0 | L8: =SUMIFS(L:L,$B:$B,"Pajamos (paslaugos)") -> 0 | O8: 2 | P8: =+P7 -> 4 | Q8: =COUNTIFS($O$1:$O8,1) -> 1 | R8: =IF($O8=$R$1,IF($O8<>$O7, 1, R7+1),"") -> 2 | T8: =CONCATENATE($P8, ".", $Q8, IF($R8<>"", CONCATENATE(".", $R8), ""), ".") -> 4.1.2.
A9: =_xlfn.CONCAT($P9, ".", $Q9, IF($R9<>"", _xlfn.CONCAT(".", $R9), ""), ".") -> #NAME? | B9: Pajamos iš kitos veiklos | C9: Eur | D9: =SUMIFS(D:D,$B:$B,"Pajamos (kita veikla)") -> 0 | E9: =SUMIFS(E:E,$B:$B,"Pajamos (kita veikla)") -> 0 | F9: =SUMIFS(F:F,$B:$B,"Pajamos (kita veikla)") -> 0 | G9: =SUMIFS(G:G,$B:$B,"Pajamos (kita veikla)") -> 0 | H9: =SUMIFS(H:H,$B:$B,"Pajamos (kita veikla)") -> 0 | I9: =SUMIFS(I:I,$B:$B,"Pajamos (kita veikla)") -> 0 | J9: =SUMIFS(J:J,$B:$B,"Pajamos (kita veikla)") -> 0 | K9: =SUMIFS(K:K,$B:$B,"Pajamos (kita veikla)") -> 0 | L9: =SUMIFS(L:L,$B:$B,"Pajamos (kita veikla)") -> 0 | O9: 2 | P9: =+P8 -> 4 | Q9: =COUNTIFS($O$1:$O9,1) -> 1 | R9: =IF($O9=$R$1,IF($O9<>$O8, 1, R8+1),"") -> 3 | T9: =CONCATENATE($P9, ".", $Q9, IF($R9<>"", CONCATENATE(".", $R9), ""), ".") -> 4.1.3.
A10: =CONCATENATE($P10, ".", $Q10, IF($R10<>"", CONCATENATE(".", $R10), ""), ".") -> 4.2. | B10: Produkto pavadinimas | N10: Gaminamo produkto pavadinimas. | O10: 1 | P10: =+P9 -> 4 | Q10: =COUNTIFS($O$1:$O10,1) -> 2 | R10: =IF($O10=$R$1,IF($O10<>$O9, 1, R9+1),"") | T10: =CONCATENATE($P10, ".", $Q10, IF($R10<>"", CONCATENATE(".", $R10), ""), ".") -> 4.2.
A11: =CONCATENATE($P11, ".", $Q11, IF($R11<>"", CONCATENATE(".", $R11), ""), ".") -> 4.2.1. | B11: Veiklos kodas ir pavadinimas pagal EVRK | N11: Veiklos kodas ir pavadinimas pagal EVRK (pvz., 10.32. Vaisių, uogų ir daržovių sulčių gamyba). | O11: 2 | P11: =+P10 -> 4 | Q11: =COUNTIFS($O$1:$O11,1) -> 2 | R11: =IF($O11=$R$1,IF($O11<>$O10, 1, R10+1),"") -> 1 | T11: =CONCATENATE($P11, ".", $Q11, IF($R11<>"", CONCATENATE(".", $R11), ""), ".") -> 4.2.1.
A12: =CONCATENATE($P12, ".", $Q12, IF($R12<>"", CONCATENATE(".", $R12), ""), ".") -> 4.2.2. | B12: Pagamintas kiekis | C12: vnt. | N12: Stulpelyje " Matavimo vnt." pasirenkama tinkama matavimo vieneto reikšmė iš sąrašo. | O12: 2 | P12: =+P11 -> 4 | Q12: =COUNTIFS($O$1:$O12,1) -> 2 | R12: =IF($O12=$R$1,IF($O12<>$O11, 1, R11+1),"") -> 2 | T12: =CONCATENATE($P12, ".", $Q12, IF($R12<>"", CONCATENATE(".", $R12), ""), ".") -> 4.2.2.
A13: =CONCATENATE($P13, ".", $Q13, IF($R13<>"", CONCATENATE(".", $R13), ""), ".") -> 4.2.3. | B13: Parduotas kiekis | C13: =+C12 -> vnt. | N13: Rekomenduojama: nurodomas visas pagamintas kiekis, kaip parduodamas, nebent dalis pagamintos produkcijos sunaudojama kitų produktų gamybai. | O13: 2 | P13: =+P12 -> 4 | Q13: =COUNTIFS($O$1:$O13,1) -> 2 | R13: =IF($O13=$R$1,IF($O13<>$O12, 1, R12+1),"") -> 3 | T13: =CONCATENATE($P13, ".", $Q13, IF($R13<>"", CONCATENATE(".", $R13), ""), ".") -> 4.2.3.
A14: =CONCATENATE($P14, ".", $Q14, IF($R14<>"", CONCATENATE(".", $R14), ""), ".") -> 4.2.4. | B14: Vidutinė kaina | C14: =CONCATENATE("Eur/",C13) -> Eur/vnt. | D14: =IFERROR(ROUND(D15/D13,2),"-") -> - | N14: Rekomenduojama: kainos prognozuojamu laikotarpiu neturėtų būti didinamos (infliacijos įtaka nevertinama). Jei kainų pokyčiai dėl pareiškėjo kainodaros sprendimų prognozuojami, juos reikia pagrįsti ir paaiškinti. | O14: 2 | P14: =+P13 -> 4 | Q14: =COUNTIFS($O$1:$O14,1) -> 2 | R14: =IF($O14=$R$1,IF($O14<>$O13, 1, R13+1),"") -> 4 | T14: =CONCATENATE($P14, ".", $Q14, IF($R14<>"", CONCATENATE(".", $R14), ""), ".") -> 4.2.4.
A15: =CONCATENATE($P15, ".", $Q15, IF($R15<>"", CONCATENATE(".", $R15), ""), ".") -> 4.2.5. | B15: Pajamos (gamyba) | C15: Eur | E15: =ROUND(E13*E14,0) -> 0 | F15: =ROUND(F13*F14,0) -> 0 | G15: =ROUND(G13*G14,0) -> 0 | H15: =ROUND(H13*H14,0) -> 0 | I15: =ROUND(I13*I14,0) -> 0 | J15: =ROUND(J13*J14,0) -> 0 | K15: =ROUND(K13*K14,0) -> 0 | L15: =ROUND(L13*L14,0) -> 0 | O15: 2 | P15: =+P14 -> 4 | Q15: =COUNTIFS($O$1:$O15,1) -> 2 | R15: =IF($O15=$R$1,IF($O15<>$O14, 1, R14+1),"") -> 5 | T15: =CONCATENATE($P15, ".", $Q15, IF($R15<>"", CONCATENATE(".", $R15), ""), ".") -> 4.2.5.
A16: =CONCATENATE($P16, ".", $Q16, IF($R16<>"", CONCATENATE(".", $R16), ""), ".") -> 4.2.6. | B16: Parduoto kiekio ir pardavimo kainų pagrindimas | N16: Paaiškinimas rašomas tik tuo atveju, kai kainos ir (ar) pardavimo kiekiai keičiasi. | O16: 2 | P16: =+P15 -> 4 | Q16: =COUNTIFS($O$1:$O16,1) -> 2 | R16: =IF($O16=$R$1,IF($O16<>$O15, 1, R15+1),"") -> 6 | T16: =CONCATENATE($P16, ".", $Q16, IF($R16<>"", CONCATENATE(".", $R16), ""), ".") -> 4.2.6.
A17: =CONCATENATE($P17, ".", $Q17, IF($R17<>"", CONCATENATE(".", $R17), ""), ".") -> 4.3. | B17: Produkto pavadinimas | N17: Gaminamo produkto pavadinimas. | O17: 1 | P17: =+P16 -> 4 | Q17: =COUNTIFS($O$1:$O17,1) -> 3 | R17: =IF($O17=$R$1,IF($O17<>$O16, 1, R16+1),"") | T17: =CONCATENATE($P17, ".", $Q17, IF($R17<>"", CONCATENATE(".", $R17), ""), ".") -> 4.3.
A18: =CONCATENATE($P18, ".", $Q18, IF($R18<>"", CONCATENATE(".", $R18), ""), ".") -> 4.3.1. | B18: Veiklos kodas ir pavadinimas pagal EVRK | N18: Veiklos kodas ir pavadinimas pagal EVRK (pvz., 10.32. Vaisių, uogų ir daržovių sulčių gamyba). | O18: 2 | P18: =+P17 -> 4 | Q18: =COUNTIFS($O$1:$O18,1) -> 3 | R18: =IF($O18=$R$1,IF($O18<>$O17, 1, R17+1),"") -> 1 | T18: =CONCATENATE($P18, ".", $Q18, IF($R18<>"", CONCATENATE(".", $R18), ""), ".") -> 4.3.1.
A19: =CONCATENATE($P19, ".", $Q19, IF($R19<>"", CONCATENATE(".", $R19), ""), ".") -> 4.3.2. | B19: Pagamintas kiekis | C19: vnt. | N19: Stulpelyje " Matavimo vnt." pasirenkama tinkama matavimo vieneto reikšmė iš sąrašo. | O19: 2 | P19: =+P18 -> 4 | Q19: =COUNTIFS($O$1:$O19,1) -> 3 | R19: =IF($O19=$R$1,IF($O19<>$O18, 1, R18+1),"") -> 2 | T19: =CONCATENATE($P19, ".", $Q19, IF($R19<>"", CONCATENATE(".", $R19), ""), ".") -> 4.3.2.
A20: =CONCATENATE($P20, ".", $Q20, IF($R20<>"", CONCATENATE(".", $R20), ""), ".") -> 4.3.3. | B20: Parduotas kiekis | C20: =+C19 -> vnt. | N20: Rekomenduojama: nurodomas visas pagamintas kiekis, kaip parduodamas, nebent dalis pagamintos produkcijos sunaudojama kitų produktų gamybai. | O20: 2 | P20: =+P19 -> 4 | Q20: =COUNTIFS($O$1:$O20,1) -> 3 | R20: =IF($O20=$R$1,IF($O20<>$O19, 1, R19+1),"") -> 3 | T20: =CONCATENATE($P20, ".", $Q20, IF($R20<>"", CONCATENATE(".", $R20), ""), ".") -> 4.3.3.
A21: =CONCATENATE($P21, ".", $Q21, IF($R21<>"", CONCATENATE(".", $R21), ""), ".") -> 4.3.4. | B21: Vidutinė kaina | C21: =CONCATENATE("Eur/",C20) -> Eur/vnt. | D21: =IFERROR(ROUND(D22/D20,2),"-") -> - | N21: Rekomenduojama: kainos prognozuojamu laikotarpiu neturėtų būti didinamos (infliacijos įtaka nevertinama). Jei kainų pokyčiai dėl pareiškėjo kainodaros sprendimų prognozuojami, juos reikia pagrįsti ir paaiškinti. | O21: 2 | P21: =+P20 -> 4 | Q21: =COUNTIFS($O$1:$O21,1) -> 3 | R21: =IF($O21=$R$1,IF($O21<>$O20, 1, R20+1),"") -> 4 | T21: =CONCATENATE($P21, ".", $Q21, IF($R21<>"", CONCATENATE(".", $R21), ""), ".") -> 4.3.4.
A22: =CONCATENATE($P22, ".", $Q22, IF($R22<>"", CONCATENATE(".", $R22), ""), ".") -> 4.3.5. | B22: Pajamos (gamyba) | C22: Eur | E22: =ROUND(E20*E21,0) -> 0 | F22: =ROUND(F20*F21,0) -> 0 | G22: =ROUND(G20*G21,0) -> 0 | H22: =ROUND(H20*H21,0) -> 0 | I22: =ROUND(I20*I21,0) -> 0 | J22: =ROUND(J20*J21,0) -> 0 | K22: =ROUND(K20*K21,0) -> 0 | L22: =ROUND(L20*L21,0) -> 0 | O22: 2 | P22: =+P21 -> 4 | Q22: =COUNTIFS($O$1:$O22,1) -> 3 | R22: =IF($O22=$R$1,IF($O22<>$O21, 1, R21+1),"") -> 5 | T22: =CONCATENATE($P22, ".", $Q22, IF($R22<>"", CONCATENATE(".", $R22), ""), ".") -> 4.3.5.
A23: =CONCATENATE($P23, ".", $Q23, IF($R23<>"", CONCATENATE(".", $R23), ""), ".") -> 4.3.6. | B23: Parduoto kiekio ir pardavimo kainų pagrindimas | N23: Paaiškinimas rašomas tik tuo atveju, kai kainos ir (ar) pardavimo kiekiai keičiasi. | O23: 2 | P23: =+P22 -> 4 | Q23: =COUNTIFS($O$1:$O23,1) -> 3 | R23: =IF($O23=$R$1,IF($O23<>$O22, 1, R22+1),"") -> 6 | T23: =CONCATENATE($P23, ".", $Q23, IF($R23<>"", CONCATENATE(".", $R23), ""), ".") -> 4.3.6.
A24: =CONCATENATE($P24, ".", $Q24, IF($R24<>"", CONCATENATE(".", $R24), ""), ".") -> 4.4. | B24: Produkto pavadinimas | N24: Gaminamo produkto pavadinimas. | O24: 1 | P24: =+P23 -> 4 | Q24: =COUNTIFS($O$1:$O24,1) -> 4 | R24: =IF($O24=$R$1,IF($O24<>$O23, 1, R23+1),"") | T24: =CONCATENATE($P24, ".", $Q24, IF($R24<>"", CONCATENATE(".", $R24), ""), ".") -> 4.4.
A25: =CONCATENATE($P25, ".", $Q25, IF($R25<>"", CONCATENATE(".", $R25), ""), ".") -> 4.4.1. | B25: Veiklos kodas ir pavadinimas pagal EVRK | N25: Veiklos kodas ir pavadinimas pagal EVRK (pvz., 10.32. Vaisių, uogų ir daržovių sulčių gamyba). | O25: 2 | P25: =+P24 -> 4 | Q25: =COUNTIFS($O$1:$O25,1) -> 4 | R25: =IF($O25=$R$1,IF($O25<>$O24, 1, R24+1),"") -> 1 | T25: =CONCATENATE($P25, ".", $Q25, IF($R25<>"", CONCATENATE(".", $R25), ""), ".") -> 4.4.1.
A26: =CONCATENATE($P26, ".", $Q26, IF($R26<>"", CONCATENATE(".", $R26), ""), ".") -> 4.4.2. | B26: Pagamintas kiekis | C26: vnt. | N26: Stulpelyje " Matavimo vnt." pasirenkama tinkama matavimo vieneto reikšmė iš sąrašo. | O26: 2 | P26: =+P25 -> 4 | Q26: =COUNTIFS($O$1:$O26,1) -> 4 | R26: =IF($O26=$R$1,IF($O26<>$O25, 1, R25+1),"") -> 2 | T26: =CONCATENATE($P26, ".", $Q26, IF($R26<>"", CONCATENATE(".", $R26), ""), ".") -> 4.4.2.
A27: =CONCATENATE($P27, ".", $Q27, IF($R27<>"", CONCATENATE(".", $R27), ""), ".") -> 4.4.3. | B27: Parduotas kiekis | C27: =+C26 -> vnt. | N27: Rekomenduojama: nurodomas visas pagamintas kiekis, kaip parduodamas, nebent dalis pagamintos produkcijos sunaudojama kitų produktų gamybai. | O27: 2 | P27: =+P26 -> 4 | Q27: =COUNTIFS($O$1:$O27,1) -> 4 | R27: =IF($O27=$R$1,IF($O27<>$O26, 1, R26+1),"") -> 3 | T27: =CONCATENATE($P27, ".", $Q27, IF($R27<>"", CONCATENATE(".", $R27), ""), ".") -> 4.4.3.
A28: =CONCATENATE($P28, ".", $Q28, IF($R28<>"", CONCATENATE(".", $R28), ""), ".") -> 4.4.4. | B28: Vidutinė kaina | C28: =CONCATENATE("Eur/",C27) -> Eur/vnt. | D28: =IFERROR(ROUND(D29/D27,2),"-") -> - | N28: Rekomenduojama: kainos prognozuojamu laikotarpiu neturėtų būti didinamos (infliacijos įtaka nevertinama). Jei kainų pokyčiai dėl pareiškėjo kainodaros sprendimų prognozuojami, juos reikia pagrįsti ir paaiškinti. | O28: 2 | P28: =+P27 -> 4 | Q28: =COUNTIFS($O$1:$O28,1) -> 4 | R28: =IF($O28=$R$1,IF($O28<>$O27, 1, R27+1),"") -> 4 | T28: =CONCATENATE($P28, ".", $Q28, IF($R28<>"", CONCATENATE(".", $R28), ""), ".") -> 4.4.4.
A29: =CONCATENATE($P29, ".", $Q29, IF($R29<>"", CONCATENATE(".", $R29), ""), ".") -> 4.4.5. | B29: Pajamos (gamyba) | C29: Eur | E29: =ROUND(E27*E28,0) -> 0 | F29: =ROUND(F27*F28,0) -> 0 | G29: =ROUND(G27*G28,0) -> 0 | H29: =ROUND(H27*H28,0) -> 0 | I29: =ROUND(I27*I28,0) -> 0 | J29: =ROUND(J27*J28,0) -> 0 | K29: =ROUND(K27*K28,0) -> 0 | L29: =ROUND(L27*L28,0) -> 0 | O29: 2 | P29: =+P28 -> 4 | Q29: =COUNTIFS($O$1:$O29,1) -> 4 | R29: =IF($O29=$R$1,IF($O29<>$O28, 1, R28+1),"") -> 5 | T29: =CONCATENATE($P29, ".", $Q29, IF($R29<>"", CONCATENATE(".", $R29), ""), ".") -> 4.4.5.
A30: =CONCATENATE($P30, ".", $Q30, IF($R30<>"", CONCATENATE(".", $R30), ""), ".") -> 4.4.6. | B30: Parduoto kiekio ir pardavimo kainų pagrindimas | N30: Paaiškinimas rašomas tik tuo atveju, kai kainos ir (ar) pardavimo kiekiai keičiasi. | O30: 2 | P30: =+P29 -> 4 | Q30: =COUNTIFS($O$1:$O30,1) -> 4 | R30: =IF($O30=$R$1,IF($O30<>$O29, 1, R29+1),"") -> 6 | T30: =CONCATENATE($P30, ".", $Q30, IF($R30<>"", CONCATENATE(".", $R30), ""), ".") -> 4.4.6.
A31: =CONCATENATE($P31, ".", $Q31, IF($R31<>"", CONCATENATE(".", $R31), ""), ".") -> 4.5. | B31: Produkto pavadinimas | N31: Gaminamo produkto pavadinimas. | O31: 1 | P31: =+P30 -> 4 | Q31: =COUNTIFS($O$1:$O31,1) -> 5 | R31: =IF($O31=$R$1,IF($O31<>$O30, 1, R30+1),"") | T31: =CONCATENATE($P31, ".", $Q31, IF($R31<>"", CONCATENATE(".", $R31), ""), ".") -> 4.5.
A32: =CONCATENATE($P32, ".", $Q32, IF($R32<>"", CONCATENATE(".", $R32), ""), ".") -> 4.5.1. | B32: Veiklos kodas ir pavadinimas pagal EVRK | N32: Veiklos kodas ir pavadinimas pagal EVRK (pvz., 10.32. Vaisių, uogų ir daržovių sulčių gamyba). | O32: 2 | P32: =+P31 -> 4 | Q32: =COUNTIFS($O$1:$O32,1) -> 5 | R32: =IF($O32=$R$1,IF($O32<>$O31, 1, R31+1),"") -> 1 | T32: =CONCATENATE($P32, ".", $Q32, IF($R32<>"", CONCATENATE(".", $R32), ""), ".") -> 4.5.1.
A33: =CONCATENATE($P33, ".", $Q33, IF($R33<>"", CONCATENATE(".", $R33), ""), ".") -> 4.5.2. | B33: Pagamintas kiekis | C33: vnt. | N33: Stulpelyje " Matavimo vnt." pasirenkama tinkama matavimo vieneto reikšmė iš sąrašo. | O33: 2 | P33: =+P32 -> 4 | Q33: =COUNTIFS($O$1:$O33,1) -> 5 | R33: =IF($O33=$R$1,IF($O33<>$O32, 1, R32+1),"") -> 2 | T33: =CONCATENATE($P33, ".", $Q33, IF($R33<>"", CONCATENATE(".", $R33), ""), ".") -> 4.5.2.
A34: =CONCATENATE($P34, ".", $Q34, IF($R34<>"", CONCATENATE(".", $R34), ""), ".") -> 4.5.3. | B34: Parduotas kiekis | C34: =+C33 -> vnt. | N34: Rekomenduojama: nurodomas visas pagamintas kiekis, kaip parduodamas, nebent dalis pagamintos produkcijos sunaudojama kitų produktų gamybai. | O34: 2 | P34: =+P33 -> 4 | Q34: =COUNTIFS($O$1:$O34,1) -> 5 | R34: =IF($O34=$R$1,IF($O34<>$O33, 1, R33+1),"") -> 3 | T34: =CONCATENATE($P34, ".", $Q34, IF($R34<>"", CONCATENATE(".", $R34), ""), ".") -> 4.5.3.
A35: =CONCATENATE($P35, ".", $Q35, IF($R35<>"", CONCATENATE(".", $R35), ""), ".") -> 4.5.4. | B35: Vidutinė kaina | C35: =CONCATENATE("Eur/",C34) -> Eur/vnt. | D35: =IFERROR(ROUND(D36/D34,2),"-") -> - | N35: Rekomenduojama: kainos prognozuojamu laikotarpiu neturėtų būti didinamos (infliacijos įtaka nevertinama). Jei kainų pokyčiai dėl pareiškėjo kainodaros sprendimų prognozuojami, juos reikia pagrįsti ir paaiškinti. | O35: 2 | P35: =+P34 -> 4 | Q35: =COUNTIFS($O$1:$O35,1) -> 5 | R35: =IF($O35=$R$1,IF($O35<>$O34, 1, R34+1),"") -> 4 | T35: =CONCATENATE($P35, ".", $Q35, IF($R35<>"", CONCATENATE(".", $R35), ""), ".") -> 4.5.4.
A36: =CONCATENATE($P36, ".", $Q36, IF($R36<>"", CONCATENATE(".", $R36), ""), ".") -> 4.5.5. | B36: Pajamos (gamyba) | C36: Eur | E36: =ROUND(E34*E35,0) -> 0 | F36: =ROUND(F34*F35,0) -> 0 | G36: =ROUND(G34*G35,0) -> 0 | H36: =ROUND(H34*H35,0) -> 0 | I36: =ROUND(I34*I35,0) -> 0 | J36: =ROUND(J34*J35,0) -> 0 | K36: =ROUND(K34*K35,0) -> 0 | L36: =ROUND(L34*L35,0) -> 0 | O36: 2 | P36: =+P35 -> 4 | Q36: =COUNTIFS($O$1:$O36,1) -> 5 | R36: =IF($O36=$R$1,IF($O36<>$O35, 1, R35+1),"") -> 5 | T36: =CONCATENATE($P36, ".", $Q36, IF($R36<>"", CONCATENATE(".", $R36), ""), ".") -> 4.5.5.
A37: =CONCATENATE($P37, ".", $Q37, IF($R37<>"", CONCATENATE(".", $R37), ""), ".") -> 4.5.6. | B37: Parduoto kiekio ir pardavimo kainų pagrindimas | N37: Paaiškinimas rašomas tik tuo atveju, kai kainos ir (ar) pardavimo kiekiai keičiasi. | O37: 2 | P37: =+P36 -> 4 | Q37: =COUNTIFS($O$1:$O37,1) -> 5 | R37: =IF($O37=$R$1,IF($O37<>$O36, 1, R36+1),"") -> 6 | T37: =CONCATENATE($P37, ".", $Q37, IF($R37<>"", CONCATENATE(".", $R37), ""), ".") -> 4.5.6.
A38: =CONCATENATE($P38, ".", $Q38, IF($R38<>"", CONCATENATE(".", $R38), ""), ".") -> 4.6. | B38: Produkto pavadinimas | N38: Gaminamo produkto pavadinimas. | O38: 1 | P38: =+P37 -> 4 | Q38: =COUNTIFS($O$1:$O38,1) -> 6 | R38: =IF($O38=$R$1,IF($O38<>$O37, 1, R37+1),"") | T38: =CONCATENATE($P38, ".", $Q38, IF($R38<>"", CONCATENATE(".", $R38), ""), ".") -> 4.6.
A39: =CONCATENATE($P39, ".", $Q39, IF($R39<>"", CONCATENATE(".", $R39), ""), ".") -> 4.6.1. | B39: Veiklos kodas ir pavadinimas pagal EVRK | N39: Veiklos kodas ir pavadinimas pagal EVRK (pvz., 10.32. Vaisių, uogų ir daržovių sulčių gamyba). | O39: 2 | P39: =+P38 -> 4 | Q39: =COUNTIFS($O$1:$O39,1) -> 6 | R39: =IF($O39=$R$1,IF($O39<>$O38, 1, R38+1),"") -> 1 | T39: =CONCATENATE($P39, ".", $Q39, IF($R39<>"", CONCATENATE(".", $R39), ""), ".") -> 4.6.1.
A40: =CONCATENATE($P40, ".", $Q40, IF($R40<>"", CONCATENATE(".", $R40), ""), ".") -> 4.6.2. | B40: Pagamintas kiekis | C40: vnt. | N40: Stulpelyje " Matavimo vnt." pasirenkama tinkama matavimo vieneto reikšmė iš sąrašo. | O40: 2 | P40: =+P39 -> 4 | Q40: =COUNTIFS($O$1:$O40,1) -> 6 | R40: =IF($O40=$R$1,IF($O40<>$O39, 1, R39+1),"") -> 2 | T40: =CONCATENATE($P40, ".", $Q40, IF($R40<>"", CONCATENATE(".", $R40), ""), ".") -> 4.6.2.
A41: =CONCATENATE($P41, ".", $Q41, IF($R41<>"", CONCATENATE(".", $R41), ""), ".") -> 4.6.3. | B41: Parduotas kiekis | C41: =+C40 -> vnt. | N41: Rekomenduojama: nurodomas visas pagamintas kiekis, kaip parduodamas, nebent dalis pagamintos produkcijos sunaudojama kitų produktų gamybai. | O41: 2 | P41: =+P40 -> 4 | Q41: =COUNTIFS($O$1:$O41,1) -> 6 | R41: =IF($O41=$R$1,IF($O41<>$O40, 1, R40+1),"") -> 3 | T41: =CONCATENATE($P41, ".", $Q41, IF($R41<>"", CONCATENATE(".", $R41), ""), ".") -> 4.6.3.
...

Sheet 5
A1: 5. | B1: INFORMACIJA APIE INVESTICIJAS IR JŲ APMOKĖJIMO ŠALTINIUS | H1: Pastabos | I1: Etapai | J1: Suma finansavimui
A3: 5.1 | B3: Investicijų apmokėjimo šaltiniai
B4: Šaltinis | C4: Suma, Eur
A5: 5.1.1. | B5: Pareiškėjo lėšos | C5: =SUMIFS(E:E,B:B,B5) -> 0
A6: 5.1.2. | B6: Grąžintinas PVM | C6: =SUMIFS(E:E,B:B,B6) -> 0
A7: 5.1.3. | B7: Paskola (lizingas) | C7: =SUMIFS(E:E,B:B,B7) -> 0
A8: 5.1.4. | B8: Paramos lėšos | C8: =SUMIFS(E:E,B:B,B8) -> 0
A9: 5.1.5. | B9: Iš viso | C9: =SUM(C5:C8) -> 0
A10: 5.1.6. | B10: Investicijų vertė su PVM | C10: =E19 -> 0
A11: 5.1.7. | B11: Prašomos paramos dydis | D11: =F19 -> 0 | E11: << Įvesta 5.2 lentelėje | H11: Prašomos paramos dydis turi sutapti su duomenimis paraiškoje.
A12: 5.1.8. | B12: Paramos išmokėjimo būdas | H12: =IF(OR(C12=Konstantos!$A$90,'5'!C12=""),"Pasirinkite paramos išmokėjimo būdą","ok") -> Pasirinkite paramos išmokėjimo būdą
A13: 5.1.9. | B13: =IFERROR(IF(SEARCH("*avans*",C12)=1, "Prašomo išmokėti avanso dalis, proc.",""),"") | H13: =IF(AND(B13="",C13<>0),"Ištrinkite duomenis",IF(AND(B13<>"",C13=0), _xlfn.CONCAT("Jei pasirinktas paramos išmokėjimo būdas 'Kompensavimas su avansu', būtina įvesti avanso dydį procentais. Avanso dydis negali būti didesnis kaip ",Parametrai!C27*100," proc. nuo paramos dydžio."),"ok")) -> ok
A14: 5.1.10. | B14: =IFERROR(IF(SEARCH("*avans*",C12)=1, "Paramos išmokėjimas avansu, Eur",""),"") | C14: =IF(B14<>"",C13*C11,0) -> 0
A15: 5.1.11. | B15: =IFERROR(IF(SEARCH("*avans*",C12)=1, "Planuojama avanso išmokėjimo data",""),"") | H15: =IF(AND(B15="",C15<>0),"Ištrinkite datą",IF(AND(B15<>"",C15=0),"Įveskite datą","ok")) -> ok
A17: 5.2 | B17: Investicijų įgyvendinimo ir paramos išmokėjimo planas
B18: Investicijos pavadinimas | C18: Etapo mokėjimo prašymo pateikimo data | D18: Investicijų suma be PVM, Eur | E18: Investicijų suma su PVM, Eur | F18: Paramos suma, Eur
B19: IŠ VISO | D19: =SUMIFS(D:D,$B:$B,"Iš viso investicijų*") -> 0 | E19: =SUMIFS(E:E,$B:$B,"Iš viso investicijų*") -> 0 | F19: =SUMIFS(F:F,$B:$B,"Paramos išmokėjimas*")+$C$14 -> 0 | H19: Kompensavimo su avansu atveju į paramos sumą įskaičiuojamas avansas.
A20: 5.2.1 | B20: I etapas | H20: =IF(AND(C20="",D26<>0),"Klaida! Įveskite etapo paramos išmokėjimo prašymo pateikimo datą","ok") -> ok
A21: 5.2.1.1
A22: 5.2.1.2
A23: 5.2.1.3
A24: 5.2.1.4
A25: 5.2.1.5
B26: Iš viso investicijų iki | C26: =IF(C20="","-",C20) -> - | D26: =SUM(D21:D25) -> 0 | E26: =SUM(E21:E25) -> 0
B27: Paramos išmokėjimas už I etapą, data ir suma | C27: =IF(C20="","-",EOMONTH(C20,Parametrai!$C$17)) -> - | F27: =IF($C$14+SUMIFS($F$17:$F19,$B$17:$B19,"Paramos išmokėjimas*")+SUM(F21:F25)<$C$11,SUM(F21:F25),IF($C$14+SUMIFS($F$17:$F19,$B$17:$B19,"Paramos išmokėjimas*")<=$C$11,$C$11-$C$14-SUMIFS($F$17:$F19,$B$17:$B19,"Paramos išmokėjimas*"),0)) -> 0 | I27: =OR(SUM(F21:F25)>0) -> FALSE
B28: Apmokėjimo šaltiniai
A29: 5.2.1.6 | B29: Pareiškėjo lėšos
A30: 5.2.1.7 | B30: Grąžintinas PVM
A31: 5.2.1.8 | B31: Paskola (lizingas)
A32: 5.2.1.9 | B32: Paramos lėšos | H32: =IF($C$12=Konstantos!$A$91, IF(J32<0, _xlfn.CONCAT("Klaida! Įvesta per didelė paramos sumą. Sumažinkite: ", J32, " Eur"), _xlfn.CONCAT("Paramos likutis etapo investicijų finansavimui: ", J32, " Eur")), IF($C$12=Konstantos!$A$93, IF(J32>=0, _xlfn.CONCAT("Paramos likutis etapo investicijų finansavimui: ", J32, " Eur"), _xlfn.CONCAT("Klaida! Įvedėte per didelį paramos dydį: ", J32, " Eur")), IF($C$12=Konstantos!$A$92, IF(F27<>E32, _xlfn.CONCAT("Klaida! Įveskite etapo paramos sumą: ", F27, " Eur"), "ok"), "Klaida! Pasirinkite paramos išmokėjimo būdą!"))) -> #NAME? | J32: =IF( OR( $C$12 = Konstantos!$A$91, $C$12 = Konstantos!$A$93 ), SUMIFS( $F$1:$F19, $B$1:$B19, "Paramos išmokėjimas*" ) + $C$14 - SUMIFS( $E$1:$E32, $B$1:$B32, "Paramos lėšos" ), IF( $C$12 = Konstantos!$A$92, $F27, "-" ) ) -> #NAME?
B33: Iš viso finansavimo šaltinių | E33: =SUM(E29:E32) -> 0
A34: 5.2.2 | B34: II etapas | H34: =IF(AND(C34="",D40<>0),"Klaida! Įveskite etapo paramos išmokėjimo prašymo pateikimo datą","ok") -> ok
A35: 5.2.2.1
A36: 5.2.2.2
A37: 5.2.2.3
A38: 5.2.2.4
A39: 5.2.2.5
B40: Iš viso investicijų iki | C40: =IF(C34="","-",C34) -> - | D40: =SUM(D35:D39) -> 0 | E40: =SUM(E35:E39) -> 0
B41: Paramos išmokėjimas už II etapą, data ir suma | C41: =IF(C34="","-",EOMONTH(C34,Parametrai!$C$17)) -> - | F41: =IF($C$14+SUMIFS($F$17:$F33,$B$17:$B33,"Paramos išmokėjimas*")+SUM(F35:F39)<$C$11,SUM(F35:F39),IF($C$14+SUMIFS($F$17:$F33,$B$17:$B33,"Paramos išmokėjimas*")<=$C$11,$C$11-$C$14-SUMIFS($F$17:$F33,$B$17:$B33,"Paramos išmokėjimas*"),0)) -> 0 | I41: =OR(SUM(F35:F39)>0) -> FALSE
B42: Apmokėjimo šaltiniai
...

Sheet 6
B1: 6. | C1: INFORMACIJA APIE ILGALAIKĮ TURTĄ, EUR | N1: Pastabos
C2: Sutikrinimas su 5 skyriuje nurodytais įsigijimais | D2: =D62-SUMIFS('5'!$D:$D,'5'!$C:$C,">="&DATE('6'!D$4,1,1),'5'!$C:$C,"<="&DATE('6'!D$4,12,31)) -> 0 | E2: =E62-SUMIFS('5'!$D:$D,'5'!$C:$C,">="&DATE('6'!E$4,1,1),'5'!$C:$C,"<="&DATE('6'!E$4,12,31)) -> 0 | N2: =IF(COUNTIFS($D$2:$L$2,"<0")>0,"Klaida! Tikrinkite, investicijų suma įvesta 5 skyriuje yra didesnė už įsigijimus šiame skyriuje","ok") -> ok
B3: Eil. Nr. | C3: Straipsnis | D3: =IF(AND('1'!$C$22="Verslo pradžia",YEAR('1'!$E$22)=YEAR('1'!$C$11)),"Pradžios metai","Ataskaitiniai metai") -> Ataskaitiniai metai | E3: Prognoziniai metai | N3: =IF(COUNTIFS($D$2:$L$2,">0")>0,"Dėmesio! Įsitikinkite, ar tikrai investicijų suma įvesta 5 skyriuje turi būti mažesnė už įsigijimų vertę šiame skyriuje","ok") -> ok
D4: =IF(D3="Pradžios metai",YEAR('1'!$E$22),IF((YEAR('1'!$C$11)-1)+COUNT($C4:C4)>YEAR('1'!$C$18)+Parametrai!$C$15,"-",(YEAR('1'!$C$11)-1)+COUNT($C4:C4))) -> 1899 | E4: =IF(E3="Pradžios metai",YEAR('1'!$E$22),IF((YEAR('1'!$C$11)-1)+COUNT($C4:D4)>YEAR('1'!$C$18)+Parametrai!$C$15,"-",(YEAR('1'!$C$11)-1)+COUNT($C4:D4))) -> 1900 | F4: =IF(F3="Pradžios metai",YEAR('1'!$E$22),IF((YEAR('1'!$C$11)-1)+COUNT($C4:E4)>YEAR('1'!$C$18)+Parametrai!$C$15,"-",(YEAR('1'!$C$11)-1)+COUNT($C4:E4))) -> 1901 | G4: =IF(G3="Pradžios metai",YEAR('1'!$E$22),IF((YEAR('1'!$C$11)-1)+COUNT($C4:F4)>YEAR('1'!$C$18)+Parametrai!$C$15,"-",(YEAR('1'!$C$11)-1)+COUNT($C4:F4))) -> 1902 | H4: =IF(H3="Pradžios metai",YEAR('1'!$E$22),IF((YEAR('1'!$C$11)-1)+COUNT($C4:G4)>YEAR('1'!$C$18)+Parametrai!$C$15,"-",(YEAR('1'!$C$11)-1)+COUNT($C4:G4))) -> 1903 | I4: =IF(I3="Pradžios metai",YEAR('1'!$E$22),IF((YEAR('1'!$C$11)-1)+COUNT($C4:H4)>YEAR('1'!$C$18)+Parametrai!$C$15,"-",(YEAR('1'!$C$11)-1)+COUNT($C4:H4))) -> - | J4: =IF(J3="Pradžios metai",YEAR('1'!$E$22),IF((YEAR('1'!$C$11)-1)+COUNT($C4:I4)>YEAR('1'!$C$18)+Parametrai!$C$15,"-",(YEAR('1'!$C$11)-1)+COUNT($C4:I4))) -> - | K4: =IF(K3="Pradžios metai",YEAR('1'!$E$22),IF((YEAR('1'!$C$11)-1)+COUNT($C4:J4)>YEAR('1'!$C$18)+Parametrai!$C$15,"-",(YEAR('1'!$C$11)-1)+COUNT($C4:J4))) -> - | L4: =IF(L3="Pradžios metai",YEAR('1'!$E$22),IF((YEAR('1'!$C$11)-1)+COUNT($C4:K4)>YEAR('1'!$C$18)+Parametrai!$C$15,"-",(YEAR('1'!$C$11)-1)+COUNT($C4:K4))) -> -
B5: 6.1. | C5: Žemė | N5: Nurodoma žemės vertė, įskaitant mišką.
B6: 6.1.1. | C6: Turto vertė metų pradžioje | E6: =D9 -> 0 | F6: =E9 -> 0 | G6: =F9 -> 0 | H6: =G9 -> 0 | I6: =H9 -> 0 | J6: =I9 -> 0 | K6: =J9 -> 0 | L6: =K9 -> 0
B7: 6.1.2. | C7: Įsigyta per metus
B8: 6.1.3. | C8: Parduota per metus
B9: 6.1.4. | C9: Turto likutinė vertė metų pabaigoje | D9: =SUM(D6,D7)-D8 -> 0 | E9: =SUM(E6,E7)-E8 -> 0 | F9: =SUM(F6,F7)-F8 -> 0 | G9: =SUM(G6,G7)-G8 -> 0 | H9: =SUM(H6,H7)-H8 -> 0 | I9: =SUM(I6,I7)-I8 -> 0 | J9: =SUM(J6,J7)-J8 -> 0 | K9: =SUM(K6,K7)-K8 -> 0 | L9: =SUM(L6,L7)-L8 -> 0
B10: 6.2. | C10: Pastatai ir statiniai | N10: Nurodoma vertė, įskaitant sumokėtus avansus ir vykdomus materialiojo turto statybos (gamybos) darbus
B11: 6.3.1. | C11: Turto pradinė vertė metų pradžioje | E11: =D14 -> 0 | F11: =E14 -> 0 | G11: =F14 -> 0 | H11: =G14 -> 0 | I11: =H14 -> 0 | J11: =I14 -> 0 | K11: =J14 -> 0 | L11: =K14 -> 0
B12: 6.3.2. | C12: Įsigyta per metus
B13: 6.3.3. | C13: Pardavimai, nurašymai per metus
B14: 6.3.4. | C14: Turto pradinė vertė metų pabaigoje | D14: =+D11+D12-D13 -> 0 | E14: =+E11+E12-E13 -> 0 | F14: =+F11+F12-F13 -> 0 | G14: =+G11+G12-G13 -> 0 | H14: =+H11+H12-H13 -> 0 | I14: =+I11+I12-I13 -> 0 | J14: =+J11+J12-J13 -> 0 | K14: =+K11+K12-K13 -> 0 | L14: =+L11+L12-L13 -> 0
B15: 6.3.5. | C15: Sukauptas nusidėvėjimas metų pradžioje | E15: =+D18 -> 0 | F15: =+E18 -> 0 | G15: =+F18 -> 0 | H15: =+G18 -> 0 | I15: =+H18 -> 0 | J15: =+I18 -> 0 | K15: =+J18 -> 0 | L15: =+K18 -> 0
B16: 6.3.6. | C16: Priskaičiuota
B17: 6.3.7. | C17: Nurašyto turto nusidėvėjimas
B18: 6.3.8. | C18: Sukauptas nusidėvėjimas metų pabaigoje | D18: =SUM(D15:D17) -> 0 | E18: =SUM(E15:E17) -> 0 | F18: =SUM(F15:F17) -> 0 | G18: =SUM(G15:G17) -> 0 | H18: =SUM(H15:H17) -> 0 | I18: =SUM(I15:I17) -> 0 | J18: =SUM(J15:J17) -> 0 | K18: =SUM(K15:K17) -> 0 | L18: =SUM(L15:L17) -> 0
B19: 6.3.9. | C19: Turto likutinė vertė metų pabaigoje | D19: =+D14-D18 -> 0 | E19: =+E14-E18 -> 0 | F19: =+F14-F18 -> 0 | G19: =+G14-G18 -> 0 | H19: =+H14-H18 -> 0 | I19: =+I14-I18 -> 0 | J19: =+J14-J18 -> 0 | K19: =+K14-K18 -> 0 | L19: =+L14-L18 -> 0
B20: 6.3. | C20: Mašinos ir įrengimai
B21: 6.3.1. | C21: Turto pradinė vertė metų pradžioje | E21: =D24 -> 0 | F21: =E24 -> 0 | G21: =F24 -> 0 | H21: =G24 -> 0 | I21: =H24 -> 0 | J21: =I24 -> 0 | K21: =J24 -> 0 | L21: =K24 -> 0
B22: 6.3.2. | C22: Įsigyta per metus
B23: 6.3.3. | C23: Pardavimai, nurašymai per metus
B24: 6.3.4. | C24: Turto pradinė vertė metų pabaigoje | D24: =+D21+D22-D23 -> 0 | E24: =+E21+E22-E23 -> 0 | F24: =+F21+F22-F23 -> 0 | G24: =+G21+G22-G23 -> 0 | H24: =+H21+H22-H23 -> 0 | I24: =+I21+I22-I23 -> 0 | J24: =+J21+J22-J23 -> 0 | K24: =+K21+K22-K23 -> 0 | L24: =+L21+L22-L23 -> 0
B25: 6.3.5. | C25: Sukauptas nusidėvėjimas metų pradžioje | E25: =D28 -> 0 | F25: =E28 -> 0 | G25: =F28 -> 0 | H25: =G28 -> 0 | I25: =H28 -> 0 | J25: =I28 -> 0 | K25: =J28 -> 0 | L25: =K28 -> 0
B26: 6.3.6. | C26: Priskaičiuota
B27: 6.3.7. | C27: Nurašyto turto nusidėvėjimas
B28: 6.3.8. | C28: Sukauptas nusidėvėjimas metų pabaigoje | D28: =SUM(D25:D27) -> 0 | E28: =SUM(E25:E27) -> 0 | F28: =SUM(F25:F27) -> 0 | G28: =SUM(G25:G27) -> 0 | H28: =SUM(H25:H27) -> 0 | I28: =SUM(I25:I27) -> 0 | J28: =SUM(J25:J27) -> 0 | K28: =SUM(K25:K27) -> 0 | L28: =SUM(L25:L27) -> 0
B29: 6.3.9. | C29: Turto likutinė vertė metų pabaigoje | D29: =+D24-D28 -> 0 | E29: =+E24-E28 -> 0 | F29: =+F24-F28 -> 0 | G29: =+G24-G28 -> 0 | H29: =+H24-H28 -> 0 | I29: =+I24-I28 -> 0 | J29: =+J24-J28 -> 0 | K29: =+K24-K28 -> 0 | L29: =+L24-L28 -> 0
B30: 6.4. | C30: Transporto priemonės
B31: 6.4.1. | C31: Turto pradinė vertė metų pradžioje | E31: =D34 -> 0 | F31: =E34 -> 0 | G31: =F34 -> 0 | H31: =G34 -> 0 | I31: =H34 -> 0 | J31: =I34 -> 0 | K31: =J34 -> 0 | L31: =K34 -> 0
B32: 6.4.2. | C32: Įsigyta per metus
B33: 6.4.3. | C33: Pardavimai, nurašymai per metus
B34: 6.4.4. | C34: Turto pradinė vertė metų pabaigoje | D34: =+D31+D32-D33 -> 0 | E34: =+E31+E32-E33 -> 0 | F34: =+F31+F32-F33 -> 0 | G34: =+G31+G32-G33 -> 0 | H34: =+H31+H32-H33 -> 0 | I34: =+I31+I32-I33 -> 0 | J34: =+J31+J32-J33 -> 0 | K34: =+K31+K32-K33 -> 0 | L34: =+L31+L32-L33 -> 0
B35: 6.4.5. | C35: Sukauptas nusidėvėjimas metų pradžioje | E35: =D38 -> 0 | F35: =E38 -> 0 | G35: =F38 -> 0 | H35: =G38 -> 0 | I35: =H38 -> 0 | J35: =I38 -> 0 | K35: =J38 -> 0 | L35: =K38 -> 0
B36: 6.4.6. | C36: Priskaičiuota
B37: 6.4.7. | C37: Nurašyto turto nusidėvėjimas
B38: 6.4.8. | C38: Sukauptas nusidėvėjimas metų pabaigoje | D38: =SUM(D35:D37) -> 0 | E38: =SUM(E35:E37) -> 0 | F38: =SUM(F35:F37) -> 0 | G38: =SUM(G35:G37) -> 0 | H38: =SUM(H35:H37) -> 0 | I38: =SUM(I35:I37) -> 0 | J38: =SUM(J35:J37) -> 0 | K38: =SUM(K35:K37) -> 0 | L38: =SUM(L35:L37) -> 0
B39: 6.4.9. | C39: Turto likutinė vertė metų pabaigoje | D39: =+D34-D38 -> 0 | E39: =+E34-E38 -> 0 | F39: =+F34-F38 -> 0 | G39: =+G34-G38 -> 0 | H39: =+H34-H38 -> 0 | I39: =+I34-I38 -> 0 | J39: =+J34-J38 -> 0 | K39: =+K34-K38 -> 0 | L39: =+L34-L38 -> 0
B40: 6.5. | C40: Kiti įrenginiai, prietaisai ir įrankiai
...

Sheet 7
A1: 7. | B1: INFORMACIJA APIE PAREIŠKĖJO VEIKLOS SĄNAUDAS, EUR | M1: Pastabos
A3: Eil. Nr. | B3: Sąnaudos | C3: =IF(AND('1'!$C$22="Verslo pradžia",YEAR('1'!$E$22)=YEAR('1'!$C$11)),"Pradžios metai","Ataskaitiniai metai") -> Ataskaitiniai metai | D3: Prognoziniai metai
