Workbook
Name Meniu_ParamosIšmokėjimoBūdai: ParamosIšmokėjimoBūdai[Meniu_Būdas]
Name Meniu_ParamosIšmokėjimoBūdai: ParamosIšmokėjimoBūdai[Meniu_Būdas]
Name Meniu_ParamosIšmokėjimoBūdai: ParamosIšmokėjimoBūdai[Meniu_Būdas]
Name Meniu_ParamosIšmokėjimoBūdai: ParamosIšmokėjimoBūdai[Meniu_Būdas]
Name Meniu_ParamosIšmokėjimoBūdai: ParamosIšmokėjimoBūdai[Meniu_Būdas]
Name Meniu_TaipNe: TaipNe[Taip ar Ne]
Name part_3ee8e7ec16b44afe8777e3f1b27ce2d7: '9.2_nvo'!#REF!
Name part_528a181f99fa4dce91e9a4c6ed18ec6e: '9.2_nvo'!#REF!
Name part_b214239539ab4bb4a5177b487c86b6a8: '9.2_nvo'!#REF!

Sheet FA_nvoFormos
A12: A. | B12: PAGRINDINĖS VEIKLOS PINIGŲ SRAUTAI | D12: I. | E12: PAJAMOS | H12: TURTAS
A13: I. | B13: Įplaukos | D13: 1. | E13: Pajamos už suteiktas paslaugas, parduotas prekes | G13: A. | H13: ILGALAIKIS TURTAS
A14: I.1. | B14: Finansavimo sumos kitoms išlaidoms ir atsargoms: | D14: 2. | E14: Finansavimo pajamos | G14: I. | H14: NEMATERIALUSIS TURTAS
A15: I.1.1. | B15: iš valstybės biudžeto | D15: 2.1. | E15: Finansavimo sumų iš valstybės biudžeto panaudojimo pajamos | G15: 1. | H15: Patentai, licencijos
A16: I.1.2. | B16: iš ES, užsienio valstybių ir tarptautinių organizacijų | D16: 2.2. | E16: Kitos finansavimo pajamos | G16: 2. | H16: Programinė įranga
A17: I.1.3. | B17: iš kitų šaltinių | D17: 3. | E17: Kitos pajamos | G17: 3. | H17: Kitas nematerialusis turtas
A18: I.2. | B18: iš mokesčių | D18: II. | E18: SĄNAUDOS | G18: II. | H18: MATERIALUSIS TURTAS
A19: I.3. | B19: iš socialinių įmokų | D19: 1. | E19: Suteiktų paslaugų, parduotų prekių savikaina | G19: 1. | H19: Žemė
A20: I.4. | B20: už suteiktas paslaugas | D20: 2. | E20: Kitos sąnaudos | G20: 2. | H20: Pastatai ir statiniai
A21: I.5. | B21: gautos palūkanos | D21: 3. | E21: Veiklos sąnaudos | G21: 3. | H21: Mašinos ir įrengimai
A22: I.6. | B22: kitos įplaukos | D22: 3.1. | E22: Pardavimo | G22: 4. | H22: Transporto priemonės
A23: II. | B23: Pervestos lėšos | D23: 3.2. | E23: Darbuotojų išlaikymo | G23: 5. | H23: Kita įranga, prietaisai, įrankiai ir įrenginiai
A24: III. | B24: Išmokos | D24: 3.3. | E24: Nusidėvėjimo (amortizacijos) | G24: 6. | H24: Nebaigta statyba
... A34: III.10. | B34: socialinės apsaugos | D34: V. | E34: GRYNASIS VEIKLOS REZULTATAS | G34: II. | H34: PER VIENERIUS METUS GAUTINOS SUMOS
A35: B. | B35: INVESTICINĖS VEIKLOS PINIGŲ SRAUTAI | G35: 1. | H35: Pirkėjų įsiskolinimas
A36: I. | B36: Ilgalaikio turto (išskyrus finansinį) ir biologinio turto įsigijimas | G36: 2. | H36: Kitos gautinos sumos
A37: II. | B37: Ilgalaikio turto (išskyrus finansinį) ir biologinio turto perleidimas | G37: III. | H37: KITAS TRUMPALAIKIS TURTAS
A38: III. | B38: Ilgalaikio finansinio turto įsigijimas | G38: 1. | H38: Trumpalaikės investicijos
A39: IV. | B39: Ilgalaikio finansinio turto perleidimas | G39: 2. | H39: Terminuoti indėliai
A40: V. | B40: Terminuotųjų indėlių (padidėjimas) sumažėjimas | G40: 3. | H40: Kitas trumpalaikis turtas
A41: VI. | B41: Gauti dividendai | G41: IV. | H41: PINIGAI IR PINIGŲ EKVIVALENTAI
A42: VII. | B42: Kiti investicinės veiklos pinigų srautai | H42: TURTAS, IŠ VISO
A43: C. | B43: FINANSINĖS VEIKLOS PINIGŲ SRAUTAI
A44: I. | B44: Įplaukos iš gautų paskolų | H44: NUOSAVAS KAPITALAS IR ĮSIPAREIGOJIMAI
A45: II. | B45: Gautų paskolų grąžinimas | G45: C. | H45: NUOSAVAS KAPITALAS
A46: III. | B46: Finansinės nuomos (lizingo) įsipareigojimų apmokėjimas | G46: I. | H46: KAPITALAS | I46: DALININKŲ KAPITALAS
A47: IV. | B47: Gautos finansavimo sumos ilgalaikiam ir biologiniam turtui įsigyti | G47: II. | H47: PERKAINOJIMO REZERVAS | I47: REZERVAI
A48: V. | B48: Grąžintos finansavimo sumos ilgalaikiam ir biologiniam turtui įsigyti | G48: III. | H48: KITI REZERVAI | I48: NELIEČIAMSIS KAPITALAS
A49: VI. | B49: Gauti dalininko įnašai | G49: IV. | H49: VEIKLOS REZULTATAS | I49: SUKAUPTAS VEIKLOS REZULTATAS
A50: VII. | B50: Kiti finansinės veiklos pinigų srautai | G50: 1. | H50: Ataskaitinių metų veiklos rezultatas
A51: D. | B51: VALIUTOS KURSŲ PASIKEITIMO ĮTAKA PINIGŲ IR PINIGŲ EKVIVALENTŲ LIKUČIUI | G51: 2. | H51: Ankstesnių metų veiklos rezultatas
A52: I. | B52: Pinigų ir pinigų ekvivalentų padidėjimas (sumažėjimas) | G52: D. | H52: FINANSAVIMAS
A53: II. | B53: Pinigai ir pinigų ekvivalentai ataskaitinio laikotarpio pradžioje | G53: 1. | H53: Dotacija
A54: III. | B54: Pinigai ir pinigų ekvivalentai ataskaitinio laikotarpio pabaigoje | G54: 2. | H54: Tiksliniai įnašai
G55: 2.1. | H55: Finansavimo sumos iš valstybės biudžeto
G56: 2.2. | H56: Kiti tiksliniai įnašai
G57: 3. | H57: Nario mokesčiai
G58: 4. | H58: Kitas finansavimas
G59: E. | H59: MOKĖTINOS SUMOS IR ĮSIPAREIGOJIMAI
G60: I. | H60: ILGALAIKIAI ĮSIPAREIGOJIMAI
G61: 1. | H61: Finansinės skolos
G62: 2. | H62: Kiti ilgalaikiai įsipareigojimai
G63: II. | H63: TRUMPALAIKIAI ĮSIPAREIGOJIMAI
G64: 1. | H64: Ilgalaikių skolų einamųjų metų dalis
G65: 2. | H65: Finansinės skolos
G66: 3. | H66: Skolos tiekėjams
... G69: 6. | H69: Kiti trumpalaikiai įsipareigojimai
H70: NUOSAVAS KAPITALAS, FINANSAVIMAS IR ĮSIPAREIGOJIMAI, IŠ VISO

Sheet Konstantos
A1: Planuojamo verslo rūšis pagal pareiškėją
A2: –
A3: Socialinio verslo projektas: Juridinis asmuo, kurio steigime ir (ar) valdyme dalyvauja viešieji juridiniai asmenys, atitinkantys Gairių* 10 punkte nurodytas specialiąsias tinkamumo sąlygas pareiškėjams, ir kuris valdo ne mažiau kaip 51 proc. akcijų, pajų ar kitokių dalyvavimą juridinio asmens kapitale žyminčių kapitalo dalių arba tiesiogiai ar netiesiogiai (pagal balsavimo sutartį, balsavimo teisės perleidimo sutartį, įgaliojimą ir pan.)
A4: Socialinio verslo projektas: Viešasis juridinis asmuo, veikiantis pagal Lietuvos Respublikos viešųjų įstaigų įstatymą arba Lietuvos Respublikos asociacijų įstatymą, kurio veikla atitinka NVO apibrėžtį, yra įgijusi NVO žymą, valdantis ne mažiau kaip 51 proc. akcijų ar kt./turi sprendžiamąją galią, kaip nurodyta Gairėse.
A5: Socialinio verslo projektas: Labdaros ir paramos fondas, įsteigtas ir veikiantis pagal Lietuvos Respublikos labdaros ir paramos įstatymą, kurio veikla atitinka NVO apibrėžtį ir yra įgijęs NVO žymą, valdantis ne mažiau kaip 51 proc. akcijų ar kt./turi sprendžiamąją galią, kaip nurodyta Gairėse.
A6: Socialinio verslo projektas: Religinės bendruomenė ar bendrija, veikianti pagal Religinių bendruomenių ir bendrijų įstatymą, kurios veikla atitinka NVO apibrėžtį ir yra įgijusis NVO žymą, valdantis ne mažiau kaip 51 proc. akcijų ar kt./turi sprendžiamąją galią, kaip nurodyta Gairėse.
A7: Bendruomeninio verslo projektas: Bendruomeninė organizacija, atitinkanti Lietuvos Respublikos bendruomeninių organizacijų plėtros įstatymą ir projekto paraiškos pateikimo dieną turinti ne mažiau kaip 30 narių (narių sąrašas pateikiamas su projekto paraiška)
A8: Bendruomeninio verslo projektas: Kaimo bendruomenė, atitinkanti Lietuvos Respublikos žemės ūkio, maisto ūkio ir kaimo plėtros įstatymą.
A9: Bendruomeninio verslo projektas: Viešoji įstaiga, kurios pagrindinis steigėjas ir (ar) dalininkas, turintis ne mažiau kaip 51 proc. dalių (vertinama pagal VĮ Registrų centro JAR ir JADIS duomenis), turi būti bendruomeninės organizacijos
A10: Viešųjų paslaugų perdavimo projektas: NVO veikla teikia naudą ne tik jos dalyviams, bet ir visuomenei, bei atitinka Lietuvos Respublikos nevyriausybinių organizacijų plėtros įstatymo 8 straipsnio 2 dalies 1, 2, 4 ir 5 punktuose numatytas sąlygas. Pareiškėjo viešųjų paslaugų perdavimo projekte nurodytos viešosios paslaugos atitinka Lietuvos Respublikos vidaus reikalų ministerijos skelbiamą viešųjų paslaugų sąrašą ir pareiškėjas yra suderinęs su savivaldybe perimamas viešąsias paslaugas (jų dalį) arba informavęs ją apie naujų arba papildomų viešųjų paslaugų teikimą.
A13: Planuojamo verslo rūšis pagal verslo vykdymo laiką
A14: –
... A89: Paramos išmokėjimo būdai
A90: Meniu_Būdas | B90: Taikymas | C90: Būdas
A91: =IF(ParamosIšmokėjimoBūdai[[#This Row],[Taikymas]]="Taip",ParamosIšmokėjimoBūdai[[#This Row],[Būdas]],"") -> #NAME? | B91: =_xlfn.XLOOKUP(ParamosIšmokėjimoBūdai[[#This Row],[Būdas]],Lentelė5[Naudojami paramos išmokėjimo būdai],Lentelė5[Pasirinkti]) -> #NAME? | C91: Kompensavimas
A92: Sąskaitų apmokėjimo būdas | B92: =_xlfn.XLOOKUP(ParamosIšmokėjimoBūdai[[#This Row],[Būdas]],Lentelė5[Naudojami paramos išmokėjimo būdai],Lentelė5[Pasirinkti]) -> #NAME? | C92: Sąskaitų apmokėjimo būdas
A93: Kompensavimas su avansu | B93: =_xlfn.XLOOKUP(ParamosIšmokėjimoBūdai[[#This Row],[Būdas]],Lentelė5[Naudojami paramos išmokėjimo būdai],Lentelė5[Pasirinkti]) -> #NAME? | C93: Kompensavimas su avansu
A95: Matavimo vienetai
A96: vnt.
A97: val.
A98: t
A99: kg
A100: m2
A101: m3
A104: Pareiškėjas
A105: Verslo subjektai
A106: Asociacijos ir viešosios įstaigos
A109: Taip ar Ne
A110: Taip
A111: Ne

Sheet Forma
B2: Formos kodas | C2: L2
B4: Formos koregavimo ir pataisymų registras
A6: Eil. Nr. | B6: Problema | C6: Registravimo data | D6: Pataisymas | E6: Pataisymo data
A7: =ROW()-ROW(Pataisymai[[#Headers],[Eil. Nr.]]) -> 1 | B7: Jei NVO Balanso straipsnyje "Finansinis turtas" apskaitomas turtas susijęs su atsiskaitymais, jo pokyčiai Pinigų srautuose priskiriami ne pagrindinei, o investicinei veiklai. | C7: 45357 | D7: Problema nėra kritinė. Pinigų srautuose pinigų likutis skaičiuojamas teisingai, tačiau pagrindinės veiklos pinigų srautas, gali būti atvaizduotas neteisingai. Jei NVO būtų skaičiuojamas paskolų padengimo rodiklis, FA formas reikėtų tikslinti.
A8: =ROW()-ROW(Pataisymai[[#Headers],[Eil. Nr.]]) -> 2 | B8: Tikslinga papildyti paskolomis gautomis einamaisiais metais | C8: 45362
A9: =ROW()-ROW(Pataisymai[[#Headers],[Eil. Nr.]]) -> 3 | B9: Gali būti taikomi ne visi paramos būdai | C9: 45364 | D9: Papildytas Parametrų lapas: Galima pasirinkti taikomus paramos būdus | E9: 45385

Sheet Parametrai
B1: Nr. FR-2157
B3: (Verslo plano pagal Lietuvos žemės ūkio ir kaimo plėtros 2023–2027 metų strateginio plano intervencinę priemonę „Bendruomenių inicijuota vietos plėtra (LEADER)“ forma, skirta socialinio verslo / bendruomeninio verslo / viešųjų paslaugų perdavimo projektams)
B4: Parametrai
B6: Dokumento antraštė | C6: VERSLO PLANAS, TEIKIAMAS PAGAL ASOCIACIJOS "ŠIAULIŲ RAJONO VIETOS VEIKLOS GRUPĖ" 2023 - 2029 M. TERITORIJOS VIETOS PLĖTROS STRATEGIJOS PRIEMONĘ „BENDRUOMENINIŲ PASLAUGŲ PLĖTRA“ Nr. ŠIAU-LEADER-20VVG-08-08
B9: Forma | C9: Asociacijos ir viešosios įstaigos
B12: Paraiškos priimamos nuo | C12: 46119
B13: Galutinė paraiškos pateikimo diena | C13: 46153
B14: Ilgiausia projekto įgyvendinimo trukmė, mėn. | C14: 24
B15: Kontrolės laikotarpio trukmė po verslo plano įgyvendinimo, m. | C15: 3
B16: Galutinė projekto įgyvendinimo data | E16: jei neįrašyta, apskaičiuojama remiantis ilgiausia projekto įgyvendinimo trukme
B17: Paramos išmokėjimo trukmė, mėn. | C17: 3
B20: Ekonominio gyvybingumo rodikliai | C20: Kritinės reikšmės
B21: Paskolų padengimo | C21: 1.25
B22: Skolos | C22: 0.65
B23: Grynasis pelningumas | C23: 0.01
B24: Einamojo likvidumo rodiklis | C24: 1
B27: Didžiausias galimas išmokėti avanso dydis | C27: 0.4
B29: Naudojami paramos išmokėjimo būdai | C29: Pasirinkti
B30: Kompensavimas | C30: Taip
B31: Sąskaitų apmokėjimo būdas | C31: Taip
B32: Kompensavimas su avansu | C32: Taip

Sheet TURINYS
B2: TURINYS
B4: Eil. Nr. | C4: Skyriaus Nr. | D4: Skyrius
B5: =ROW()-ROW(Turinys[[#Headers],[Eil. Nr.]]) -> 1 | D5: Pastabos
B6: =ROW()-ROW(Turinys[[#Headers],[Eil. Nr.]]) -> 2 | C6: 1. | D6: Bendroji informacija
B7: =ROW()-ROW(Turinys[[#Headers],[Eil. Nr.]]) -> 3 | C7: 2. | D7: Informacija apie verslo idėją
B8: =ROW()-ROW(Turinys[[#Headers],[Eil. Nr.]]) -> 4 | C8: 3. | D8: Esama situacija (išskyrus finansinę) ir prognozuojamas pokytis po paramos gavimo
B9: =ROW()-ROW(Turinys[[#Headers],[Eil. Nr.]]) -> 5 | C9: 4. | D9: Informacija apie pajamas, produktų ir paslaugų pardavimus, gamybą
B10: =ROW()-ROW(Turinys[[#Headers],[Eil. Nr.]]) -> 6 | C10: 5. | D10: Informacija apie investicijas ir jų apmokėjimo šaltinius
B11: =ROW()-ROW(Turinys[[#Headers],[Eil. Nr.]]) -> 7 | C11: 6. | D11: Informacija apie ilgalaikį turtą
B12: =ROW()-ROW(Turinys[[#Headers],[Eil. Nr.]]) -> 8 | C12: 7. | D12: Informacija apie pareiškėjo veiklos sąnaudas
B13: =ROW()-ROW(Turinys[[#Headers],[Eil. Nr.]]) -> 9 | C13: 8. | D13: Informacija apie paskolas ir (arba) išperkamąją (finansinę) nuomą (lizingą)
B14: =ROW()-ROW(Turinys[[#Headers],[Eil. Nr.]]) -> 10 | C14: 9.1_nvo | D14: Balanso prognozės
B15: =ROW()-ROW(Turinys[[#Headers],[Eil. Nr.]]) -> 11 | C15: 9.2_nvo | D15: Pelno (nuostolių) prognozės
B16: =ROW()-ROW(Turinys[[#Headers],[Eil. Nr.]]) -> 12 | C16: 9.3_nvo | D16: Pinigų srautų prognozės
B17: =ROW()-ROW(Turinys[[#Headers],[Eil. Nr.]]) -> 13 | C17: 10_nvo | D17: Informacija apie ūkio subjekto ekonominio gyvybingumo rodiklius

Sheet Pastabos
G1: Turi būti tokios spalvos
B2: PASTABOS | F2: Pažymėta laukelio spalva | G2: Paaiškinimas
B3: Verslo plane visa informacija rašoma tik į pilkos spalvos langelius. Privalomai pildomas laukas (pildo vietos projekto pareiškėjas), suvedama prašoma informacija. | C3: visus paversti mėlynais | G3: Privalomai pildomas laukas (pildo vietos projekto pareiškėjas), suvedama prašoma informacija.
B4: Žalsvos spalvos fone pasirenkama reikšmė iš atverčiamo meniu. Automatizuotas atsakymas, pasirenkamas vienas iš siūlomų variantų (pildo vietos projekto pareiškėjas). Siūlomas variantas pasirenkamas su dešinėje laukelio pusėje esančia rodykle. | C4: visus paversti žaliais kaip paraiškos formoje | G4: Automatizuotas atsakymas, pasirenkamas vienas iš siūlomų variantų (pildo vietos projekto pareiškėjas). Siūlomas variantas pasirenkamas su dešinėje laukelio pusėje esančia rodykle.
B5: Baltos spalvos lengelis užrakintas ir negali būti redaguojamas. Laukas nepildomas. Skaičiavimui suvesta formulė arba tekstas. | C5: visus paversti pilkais | G5: Laukas nepildomas. Skaičiavimui suvesta formulė arba tekstas.
B6: Gelsvos spalvos langelyje pateikiami lentelių pavadinimai, lentelių antraštės, taip pat, rodomi verslo plano įgyvendinimo metai. | D6: 255;240;210
B7: Žalsvos spalvos lengeliuose gali būti pateikta svarbi informacija, kaip pildyti verslo plano eilutę, arba gali būti gautas pranešimas ar ši eilutė užpildyta teisingai. | C7: pirmiausia visur nuimti žalią verslo plane
B8: Rausvas langelis reiškia, kad duomenys yra neteisingai ar tik dalinai įvesti. Jei žalsvame stulpelyje "Pastabos" gaunamas pranešimas "Klaida! ...", jame nurodomas klaidos pobūdis. | C8: tegu lieka | D8: 255;205;205
B9: Auksinės spalvos langelis reiškia, kad atkreitumėte dėmesį ir pasitikrintumėte ar duomenys yra tikrai teisingi. Jei redaguotinas laukas, formulė langelyje gali būti ištrinta. | C9: tegu lieka | D9: 255;230;155
B11: Jei: - langelyje rašomas tekstas ir norima tekstą pradėti rašyti iš naujos eilutės langelio viduje, naudokite klavišų kombinaciją "Alt+Enter"; (Alt kairysis)
B12: - langeliuose skirtuose tekstui įvesti, dalis įvesto teksto nesimato ir negali būti sutrumpintas nes pateikiama svarbi informacija, tekstą palikite, jis bus perskaitytas iš šio excel failo.

Sheet 1
E1: =_xlfn.CONCAT("Versija: ",Forma!$C$2,TEXT(Parametrai!$C$2,".000")) -> #NAME? | G1: Pastabos
G2: Įrašykite pareiškėjo pavadinimą
C3: Vietos projekto vykdytojo pavadinimas
G4: Įrašykite adresą ir kontaktinius duomenis
C5: Adresas, e. paštas, telefono Nr.
A7: VERSLO PLANAS (SOCIALINIS VERSLAS/BENDRUOMENINIS VERSLAS/VIEŠŲJŲ PASLAUGŲ PERDAVIMAS)
A9: =Parametrai!C6 -> VERSLO PLANAS, TEIKIAMAS PAGAL ASOCIACIJOS "ŠIAULIŲ RAJONO VIETOS VEIKLOS GRUPĖ" 2023 - 2029 M. TERITORIJOS VIETOS PLĖTROS STRATEGIJOS PRIEMONĘ „BENDRUOMENINIŲ PASLAUGŲ PLĖTRA“ Nr. ŠIAU-LEADER-20VVG-08-08
G11: =IF(C11="","Klaida! Įveskite datą.","ok") -> Klaida! Įveskite datą.
C12: Data
C14: Vieta
A15: 1. | B15: BENDROJI INFORMACIJA
A16: 1.1. | B16: Informacija apie verslo plano įgyvendinimą
A17: 1.1.1. | B17: Projekto įgyvendinimo pradžia | G17: =IF(OR(C17="",C17<'1'!C11),"Klaida: Neįvesta arba neteisingai įvesta data. Projektas gali būti įgyvendinamas tik po paraiškos pateikimo","ok") -> Klaida: Neįvesta arba neteisingai įvesta data. Projektas gali būti įgyvendinamas tik po paraiškos pateikimo
A18: 1.1.2. | B18: Projekto įgyvendinimo pabaiga | G18: =IF(C17=0,"Klaida! Įveskite datą.",IF(OR(AND($C$18>Parametrai!$C$16,Parametrai!$C$16<>0),C19>Parametrai!$C$14),"Klaida: Neįvestas arba įvestas per ilgas projekto įgyvendinimo laikotarpis","ok")) -> Klaida! Įveskite datą.
A19: 1.1.3. | B19: Projekto įgyvendinimo trukmė, mėn. | C19: =IF(C17=0,"-",IFERROR(IF(DAY(C18) < DAY(C17), 1 + DATEDIF(C17, C18, "M") + (DAY(C18) - DAY(C17) + 1) / DAY(EOMONTH(C17,0)),DATEDIF(C17, C18, "M") + (DAY(C18) - DAY(C17) + 1) / DAY(EOMONTH(C17,0))),"-")) -> - | G19: =_xlfn.CONCAT("Vėliausia projekto įgyvendinimo pabaigos data: ", TEXT(IF(Parametrai!$C$16<>0, MIN(Parametrai!$C$16, EDATE($C$17, Parametrai!$C$14)-1), EDATE($C$17, Parametrai!$C$14)-1), "yyyy-mm-dd")) -> #NAME?
A20: 1.2. | B20: Informacija apie planuojamo verslo rūšį
A21: 1.2.1. | B21: Planuojamo verslo rūšis* | C21: – | G21: Pildoma pasirinkus reikšmę iš sąrašo
A22: 1.2.2. | B22: Planuojamo verslo rūšis pagal verslo vykdymo laiką | C22: – | D22: =IF(C22="Verslo pradžia","Ūkio subjekto registravimo data","") | G22: =IF(LEN(C22)<=2,"Pildoma pasirinkus reikšmę iš sąrašo",IF(AND(C22="Verslo pradžia",E22=""),"Klaida! Įveskite ūkio subjekto registravimo pradžią","ok")) -> Pildoma pasirinkus reikšmę iš sąrašo
A23: 1.2.3. | B23: Vykdomos veiklos pagal EVRK kodą: | C23: {=IFERROR(_xlfn.UNIQUE(_xlfn._xlws.FILTER('4'!D:D, ('4'!$B:$B="Veiklos kodas ir pavadinimas pagal EVRK")*('4'!$D:$D<>"")))," –")} -> – | G23: Užpildžius 4 skyrių, vykdomų veiklų sąrašas sudaromas automatiškai (automatiškai neužsipildys, jei naudojate senesnes Excel versijas).
B25: *Socialinio ir bendruomeninio verslo vykdymo bei viešųjų paslaugų perdavimo projektų, pateiktų pagal Lietuvos žemės ūkio ir kaimo plėtros 2023–2027 metų strateginio plano intervencines priemones, gairės: Gairėmis turi vadovautis pareiškėjai, rengdami ir teikdami projektų paramos paraiškas, ir paramos gavėjai, įgyvendindami projektus, finansuojamus pagal SP intervencinę priemonę „Bendruomenių inicijuota vietos plėtra (LEADER)“ (toliau – LEADER) ir vietos plėtros strategijas, įgyvendinamas bendruomenių inicijuotos vietos plėtros būdu (toliau – vietos projektai), ir SP intervencinę priemonę „Sumanieji kaimai“ (toliau – SK), įgyvendinamą pagal sumanaus kaimo strategijas, taip pat vietos veiklos grupės (toliau – VVG) ir institucijos, atliekančios projektų paraiškų atranką, vertinimą ir projektų įgyvendinimo priežiūrą, kai rengiami: 3.1. socialinio verslo, veikiančio pagal modelį, kai išnaudojant rinkos mechanizmus, pelno siekimas susiejamas su visuomenei naudingais tikslais ir prioritetais, remiamasi socialiai atsakingo verslo bei viešojo ir privataus sektorių partnerystės nuostatomis, taikomos socialinės inovacijos, vietos ir SK projektai; 3.2. bendruomeninio verslo, veikiančio pagal modelį, kai pagal SP remiama bendruomenės ekonominė veikla vykdoma remiantis socialiai atsakingo verslo nuostatomis, o gaunamas pelnas skiriamas tą veiklą vykdančios organizacijos (išskyrus viešojo sektoriaus organizacijas) veiklai užtikrinti, aktualioms bendruomenės problemoms spręsti, vietos ir SK projektai; 3.3. viešųjų paslaugų perdavimo projekto, veikiančio pagal modelį, kai viešosios paslaugos (socialinės, švietimo, mokslo, kultūros, sporto ir kitos įstatymų numatytos paslaugos) anksčiau buvo teikiamos valstybės ar savivaldybių įsteigtų specialių įstaigų bei organizacijų, ir yra visa apimtimi ar iš dalies perduodamos teikti organizacijoms (ne biudžetinėms įstaigoms), arba organizacijų (ne biudžetinių įstaigų) organizuojamos naujos viešosios paslaugos, kurios nebuvo teikiamos jų veiklos teritorijoje, tačiau jų poreikis yra, arba viešosios paslaugos yra teikiamos valstybės ar savivaldybių įsteigtų specialių įstaigų bei organizacijų, tačiau jų apimtys nėra pakankamos ar kokybė neatitinka vartotojų lūkesčių (poreikis grindžiamas dokumentais) ir organizacijos (ne biudžetinės įstaigos) imasi teikti jas (visais atvejais turi būti siekiama išmatuojamo teigiamo socialinio poveikio visuomenei ar jos daliai), vietos ir SK projektai.

Sheet 2-3
A1: 2. | B1: INFORMACIJA APIE VERSLO IDĖJĄ | M1: Pastabos
A2: 2.1. | B2: Esamos ir planuojamos ekonominės, socialinės/bendruomeninės/viešųjų paslaugų veiklos/-ų apibūdinimas | M2: Apibūdinama esama ir planuojama veikla. Nurodoma, ką ketinama gaminti ir (arba) kokias paslaugas ketinama teikti. Apibūdinamos planuojamų gaminti prekių ir (arba) teikti paslaugų savybės. Paaiškinama, kokią įtaką projekto investicijos turės vykdomai ekonominei veiklai ir jos rezultatams. Jei planuojama vykdyti socialinį verslą, pateikiama informacija, kaip projektas prisideda prie pareiškėjo socialinio verslo tikslų pasiekimo, kokias ir kokiu būdu sprendžia socialines problemas. Nurodomi, kokie bus reikalingi leidimai ir/arba licencijos įgyvendinus projektą (jei numatomam verslui vykdyti jie privalomi).
A3: 2.2. | B3: Steigimo dokumentuose numatyta socialinė/bendruomeninė misija | M3: Nurodomos steigimo dokumentų nuostatos, atliepiančios planuojamą verslą
A4: 2.3. | B4: Verslo schema ir socialinio poveikio procesai | M4: Apibūdinama verslo vykdymo schema ir socialinio poveikio procesai (paaiškinamas pvz., funkcijų pasiskirstymas tarp darbuotojų; nurodoma, kokioms verslą apimančioms veiklos dalims bus samdomi subrangovai ir pan.Nurodoma, kaip bus matuojamas socialinio poveikio rezultatas.
A6: 3. | B6: ESAMA SITUACIJA (IŠSKYRUS FINANSINĘ) IR PROGNOZUOJAMAS POKYTIS PO PARAMOS GAVIMO
A7: 3.1. | B7: Pareiškėjo turimi ištekliai (išskyrus finansinius)
A8: 3.1.1. | B8: Vidutinis darbuotojų skaičius ir darbo užmokestis
A9: Pagal Vidutinio metų sąrašinio darbuotojų skaičiaus apskaičiavimo metodiką, nustatytą Smulkiojo ir vidutinio verslo subjekto vidutinio metų sąrašinio darbuotojų skaičiaus nustatymo tvarkos apraše, patvirtintame Lietuvos Respublikos ūkio ministro 2008 m. kovo 31 d. įsakymu Nr. 4-126 „Dėl Smulkiojo ir vidutinio verslo subjekto vidutinio metų sąrašinio darbuotojų skaičiaus nustatymo tvarkos aprašo patvirtinimo“ (toliau – aprašas). Jeigu vietos projekto paraiška teikiama sausio mėnesį, vidutinis sąrašinis darbuotojų skaičius skaičiuojamas pagal ataskaitinių metų duomenis, jeigu vietos projekto paraiška teikiama vasario–gruodžio mėnesiais, vidutinis sąrašinis darbuotojų skaičius skaičiuojamas pagal einamųjų metų praėjusių mėnesių duomenis, naudojant aprašo 7 punkte nustatytą vidutinio sąrašinio darbuotojų nustatymo būdą.
A10: Eil. Nr. | B10: Straipsnis | C10: =IF(AND('1'!$C$22="Verslo pradžia",YEAR('1'!$E$22)=YEAR('1'!$C$11)),"Pradžios metai","Ataskaitiniai metai") -> Ataskaitiniai metai | D10: Prognoziniai metai
C11: =IF(C10="Pradžios metai",YEAR('1'!$E$22),IF((YEAR('1'!$C$11)-1)+COUNT(B11:$B11)>YEAR('1'!$C$18)+Parametrai!$C$15,"-",(YEAR('1'!$C$11)-1)+COUNT(B11:$B11))) -> 1899 | D11: =IF(D10="Pradžios metai",YEAR('1'!$E$22),IF((YEAR('1'!$C$11)-1)+COUNT($B11:C11)>YEAR('1'!$C$18)+Parametrai!$C$15,"-",(YEAR('1'!$C$11)-1)+COUNT($B11:C11))) -> 1900 | E11: =IF(E10="Pradžios metai",YEAR('1'!$E$22),IF((YEAR('1'!$C$11)-1)+COUNT($B11:D11)>YEAR('1'!$C$18)+Parametrai!$C$15,"-",(YEAR('1'!$C$11)-1)+COUNT($B11:D11))) -> 1901 | F11: =IF(F10="Pradžios metai",YEAR('1'!$E$22),IF((YEAR('1'!$C$11)-1)+COUNT($B11:E11)>YEAR('1'!$C$18)+Parametrai!$C$15,"-",(YEAR('1'!$C$11)-1)+COUNT($B11:E11))) -> 1902 | G11: =IF(G10="Pradžios metai",YEAR('1'!$E$22),IF((YEAR('1'!$C$11)-1)+COUNT($B11:F11)>YEAR('1'!$C$18)+Parametrai!$C$15,"-",(YEAR('1'!$C$11)-1)+COUNT($B11:F11))) -> 1903 | H11: =IF(H10="Pradžios metai",YEAR('1'!$E$22),IF((YEAR('1'!$C$11)-1)+COUNT($B11:G11)>YEAR('1'!$C$18)+Parametrai!$C$15,"-",(YEAR('1'!$C$11)-1)+COUNT($B11:G11))) -> - | I11: =IF(I10="Pradžios metai",YEAR('1'!$E$22),IF((YEAR('1'!$C$11)-1)+COUNT($B11:H11)>YEAR('1'!$C$18)+Parametrai!$C$15,"-",(YEAR('1'!$C$11)-1)+COUNT($B11:H11))) -> - | J11: =IF(J10="Pradžios metai",YEAR('1'!$E$22),IF((YEAR('1'!$C$11)-1)+COUNT($B11:I11)>YEAR('1'!$C$18)+Parametrai!$C$15,"-",(YEAR('1'!$C$11)-1)+COUNT($B11:I11))) -> - | K11: =IF(K10="Pradžios metai",YEAR('1'!$E$22),IF((YEAR('1'!$C$11)-1)+COUNT($B11:J11)>YEAR('1'!$C$18)+Parametrai!$C$15,"-",(YEAR('1'!$C$11)-1)+COUNT($B11:J11))) -> -
A12: 3.1.1.1. | B12: Vidutinis darbuotojų (etatų) skaičius
A13: 3.1.1.2. | B13: Darbuotojų vidutinis metinis darbo užmokestis (bruto), Eur | C13: =IFERROR(C14/C12,"-") -> -
A14: 3.1.1.3. | B14: Iš viso darbo užmokesčio sąnaudos, Eur | D14: =D12*D13 -> 0 | E14: =E12*E13 -> 0 | F14: =F12*F13 -> 0 | G14: =G12*G13 -> 0 | H14: =H12*H13 -> 0 | I14: =I12*I13 -> 0 | J14: =J12*J13 -> 0 | K14: =K12*K13 -> 0 | M14: Darbo užmokesčio sąnaudos ataskaitiniais metais įvedamos remiantis finansinės atskaitomybės duomenimis.
A15: 3.1.1.4. | B15: Darbuotojų skaičiaus ir darbo užmokesčio pokyčių paaiškinimas | M15: Jei keičiasi darbuotojų skaičius, paaiškinkite priežastis.
A17: 3.1.2. | B17: Informacija apie turimą ilgalaikį materialųjį turtą
A18: Nurodomas ilgalaikis turtas, susijęs su vykdoma veikla, projekto investicijomis ir ūkio gamybiniu potencialu. Nurodomas materialusis, įskaitant nekilnojamąjį, turtas. Nurodykite tik tą turtą, kuris yra susijęs su projekto investicijomis (kartu naudojamas gamybos ir (arba) paslaugų teikimo procese, taip pat nekilnojamas turtas, kuriame bus laikomos projekto investicijos).
A19: Eil. Nr. | B19: Turto objekto pavadinimas | C19: Valdymo teisė | E19: Unikalus objekto Nr. | I19: Pagaminimo metai | J19: Nuomos / panaudos davėjas (asmens vardas, pavardė / įmonės pavadinimas)
A20: 3.1.2.1. | C20: – | M20: Jei sutartis neterminuota, nuomos / panaudos termino įvesti nereikia.
A21: 3.1.2.2. | C21: –
A22: 3.1.2.3. | C22: –
A23: 3.1.2.4. | C23: –
A24: 3.1.2.5. | C24: –
A25: 3.1.2.6. | C25: –
A26: 3.1.2.7. | C26: –
A28: 3.2. | B28: Rinkos situacija
A29: 3.2.1. | B29: Paklausa. Verslo plane numatytų gaminti prekių ir (arba) teikti paslaugų paklausos apibūdinimas. | M29: Pateikiama informacija apie planuojamų parduoti prekių ir (arba) paslaugų pirkėjus / klientus. Glaustai apibūdinami pagrindinių rinkos segmentų požymiai, pirkėjų / kleintų poreikiai, kokioms prekėms / paslaugoms jie teikia prioritetą, kiek pareiškėjo gaminamos prekės ir (arba) teikiamos paslaugos atitinka pirkėjų / klientų poreikius. Apbūdinamos galimos rinkos kitimo tendencijos.
A30: 3.2.2. | B30: Pasiūla. Verslo plane numatytų gaminti prekių ir (arba) teikti paslaugų pasiūlos apibūdinimas (konkurencinė aplinka). | M30: Nurodomi ir apibūdinami pagrindiniai pareiškėjo konkurentai, paaiškinamos konkurentų silpnosios ir stipriosios savybės. Pateikiama informacija apie vidutinį planuojamų parduoti preikių ir (arba) paslaugų kainų lygį. Apbūdinamos galimos konkurencinės aplinkos ir kainų lygio kitimo tendencijos.

Sheet 4
N1: Pastabos | O1: Lygis | P1: Skyrius | Q1: 1 | R1: 2 | S1: 3
A2: 4. | B2: INFORMACIJA APIE PAJAMAS, PRODUKTŲ IR PASLAUGŲ PARDAVIMUS, GAMYBĄ
A4: Reikšmės | C4: Matavimo vnt. | D4: =IF(AND('1'!$C$22="Verslo pradžia",YEAR('1'!$E$22)=YEAR('1'!$C$11)),"Pradžios metai","Ataskaitiniai metai") -> Ataskaitiniai metai | E4: Prognoziniai metai
D5: =IF(D4="Pradžios metai",YEAR('1'!$E$22),IF((YEAR('1'!$C$11)-1)+COUNT($C5:C5)>YEAR('1'!$C$18)+Parametrai!$C$15,"-",(YEAR('1'!$C$11)-1)+COUNT($C5:C5))) -> 1899 | E5: =IF(E4="Pradžios metai",YEAR('1'!$E$22),IF((YEAR('1'!$C$11)-1)+COUNT($C5:D5)>YEAR('1'!$C$18)+Parametrai!$C$15,"-",(YEAR('1'!$C$11)-1)+COUNT($C5:D5))) -> 1900 | F5: =IF(F4="Pradžios metai",YEAR('1'!$E$22),IF((YEAR('1'!$C$11)-1)+COUNT($C5:E5)>YEAR('1'!$C$18)+Parametrai!$C$15,"-",(YEAR('1'!$C$11)-1)+COUNT($C5:E5))) -> 1901 | G5: =IF(G4="Pradžios metai",YEAR('1'!$E$22),IF((YEAR('1'!$C$11)-1)+COUNT($C5:F5)>YEAR('1'!$C$18)+Parametrai!$C$15,"-",(YEAR('1'!$C$11)-1)+COUNT($C5:F5))) -> 1902 | H5: =IF(H4="Pradžios metai",YEAR('1'!$E$22),IF((YEAR('1'!$C$11)-1)+COUNT($C5:G5)>YEAR('1'!$C$18)+Parametrai!$C$15,"-",(YEAR('1'!$C$11)-1)+COUNT($C5:G5))) -> 1903 | I5: =IF(I4="Pradžios metai",YEAR('1'!$E$22),IF((YEAR('1'!$C$11)-1)+COUNT($C5:H5)>YEAR('1'!$C$18)+Parametrai!$C$15,"-",(YEAR('1'!$C$11)-1)+COUNT($C5:H5))) -> - | J5: =IF(J4="Pradžios metai",YEAR('1'!$E$22),IF((YEAR('1'!$C$11)-1)+COUNT($C5:I5)>YEAR('1'!$C$18)+Parametrai!$C$15,"-",(YEAR('1'!$C$11)-1)+COUNT($C5:I5))) -> - | K5: =IF(K4="Pradžios metai",YEAR('1'!$E$22),IF((YEAR('1'!$C$11)-1)+COUNT($C5:J5)>YEAR('1'!$C$18)+Parametrai!$C$15,"-",(YEAR('1'!$C$11)-1)+COUNT($C5:J5))) -> - | L5: =IF(L4="Pradžios metai",YEAR('1'!$E$22),IF((YEAR('1'!$C$11)-1)+COUNT($C5:K5)>YEAR('1'!$C$18)+Parametrai!$C$15,"-",(YEAR('1'!$C$11)-1)+COUNT($C5:K5))) -> - | P5: 4
A6: =_xlfn.CONCAT($P6, ".", $Q6, IF($R6<>"", _xlfn.CONCAT(".", $R6), ""), ".") -> #NAME? | B6: Pajamos iš viso | C6: Eur | D6: =SUM(D7:D9) -> 0 | E6: =SUM(E7:E9) -> 0 | F6: =SUM(F7:F9) -> 0 | G6: =SUM(G7:G9) -> 0 | H6: =SUM(H7:H9) -> 0 | I6: =SUM(I7:I9) -> 0 | J6: =SUM(J7:J9) -> 0 | K6: =SUM(K7:K9) -> 0 | L6: =SUM(L7:L9) -> 0 | O6: 1 | P6: =+P5 -> 4 | Q6: =COUNTIFS($O$1:$O6,1) -> 1 | R6: =IF($O6=$R$1,IF($O6<>$O5, 1, R5+1),"") | T6: =CONCATENATE($P6, ".", $Q6, IF($R6<>"", CONCATENATE(".", $R6), ""), ".") -> 4.1.
A7: =_xlfn.CONCAT($P7, ".", $Q7, IF($R7<>"", _xlfn.CONCAT(".", $R7), ""), ".") -> #NAME? | B7: Pajamos iš gamybos | C7: Eur | D7: =SUMIFS(D:D,$B:$B,"Pajamos (gamyba)") -> 0 | E7: =SUMIFS(E:E,$B:$B,"Pajamos (gamyba)") -> 0 | F7: =SUMIFS(F:F,$B:$B,"Pajamos (gamyba)") -> 0 | G7: =SUMIFS(G:G,$B:$B,"Pajamos (gamyba)") -> 0 | H7: =SUMIFS(H:H,$B:$B,"Pajamos (gamyba)") -> 0 | I7: =SUMIFS(I:I,$B:$B,"Pajamos (gamyba)") -> 0 | J7: =SUMIFS(J:J,$B:$B,"Pajamos (gamyba)") -> 0 | K7: =SUMIFS(K:K,$B:$B,"Pajamos (gamyba)") -> 0 | L7: =SUMIFS(L:L,$B:$B,"Pajamos (gamyba)") -> 0 | O7: 2 | P7: =+P6 -> 4 | Q7: =COUNTIFS($O$1:$O7,1) -> 1 | R7: =IF($O7=$R$1,IF($O7<>$O6, 1, R6+1),"") -> 1 | T7: =CONCATENATE($P7, ".", $Q7, IF($R7<>"", CONCATENATE(".", $R7), ""), ".") -> 4.1.1.
A8: =_xlfn.CONCAT($P8, ".", $Q8, IF($R8<>"", _xlfn.CONCAT(".", $R8), ""), ".") -> #NAME? | B8: Pajamos iš paslaugų | C8: Eur | D8: =SUMIFS(D:D,$B:$B,"Pajamos (paslaugos)") -> 0 | E8: =SUMIFS(E:E,$B:$B,"Pajamos (paslaugos)") -> 0 | F8: =SUMIFS(F:F,$B:$B,"Pajamos (paslaugos)") -> 0 | G8: =SUMIFS(G:G,$B:$B,"Pajamos (paslaugos)") -> 0 | H8: =SUMIFS(H:H,$B:$B,"Pajamos (paslaugos)") -> 0 | I8: =SUMIFS(I:I,$B:$B,"Pajamos (paslaugos)") -> 0 | J8: =SUMIFS(J:J,$B:$B,"Pajamos (paslaugos)") -> 0 | K8: =SUMIFS(K:K,$B:$B,"Pajamos (paslaugos)") -> 0 | L8: =SUMIFS(L:L,$B:$B,"Pajamos (paslaugos)") -> 0 | O8: 2 | P8: =+P7 -> 4 | Q8: =COUNTIFS($O$1:$O8,1) -> 1 | R8: =IF($O8=$R$1,IF($O8<>$O7, 1, R7+1),"") -> 2 | T8: =CONCATENATE($P8, ".", $Q8, IF($R8<>"", CONCATENATE(".", $R8), ""), ".") -> 4.1.2.
A9: =_xlfn.CONCAT($P9, ".", $Q9, IF($R9<>"", _xlfn.CONCAT(".", $R9), ""), ".") -> #NAME? | B9: Pajamos iš kitos veiklos | C9: Eur | D9: =SUMIFS(D:D,$B:$B,"Pajamos (kita veikla)") -> 0 | E9: =SUMIFS(E:E,$B:$B,"Pajamos (kita veikla)") -> 0 | F9: =SUMIFS(F:F,$B:$B,"Pajamos (kita veikla)") -> 0 | G9: =SUMIFS(G:G,$B:$B,"Pajamos (kita veikla)") -> 0 | H9: =SUMIFS(H:H,$B:$B,"Pajamos (kita veikla)") -> 0 | I9: =SUMIFS(I:I,$B:$B,"Pajamos (kita veikla)") -> 0 | J9: =SUMIFS(J:J,$B:$B,"Pajamos (kita veikla)") -> 0 | K9: =SUMIFS(K:K,$B:$B,"Pajamos (kita veikla)") -> 0 | L9: =SUMIFS(L:L,$B:$B,"Pajamos (kita veikla)") -> 0 | O9: 2 | P9: =+P8 -> 4 | Q9: =COUNTIFS($O$1:$O9,1) -> 1 | R9: =IF($O9=$R$1,IF($O9<>$O8, 1, R8+1),"") -> 3 | T9: =CONCATENATE($P9, ".", $Q9, IF($R9<>"", CONCATENATE(".", $R9), ""), ".") -> 4.1.3.
A10: =CONCATENATE($P10, ".", $Q10, IF($R10<>"", CONCATENATE(".", $R10), ""), ".") -> 4.2. | B10: Produkto pavadinimas | N10: Gaminamo produkto pavadinimas. | O10: 1 | P10: =+P9 -> 4 | Q10: =COUNTIFS($O$1:$O10,1) -> 2 | R10: =IF($O10=$R$1,IF($O10<>$O9, 1, R9+1),"") | T10: =CONCATENATE($P10, ".", $Q10, IF($R10<>"", CONCATENATE(".", $R10), ""), ".") -> 4.2.
A11: =CONCATENATE($P11, ".", $Q11, IF($R11<>"", CONCATENATE(".", $R11), ""), ".") -> 4.2.1. | B11: Veiklos kodas ir pavadinimas pagal EVRK | N11: Veiklos kodas ir pavadinimas pagal EVRK (pvz., 10.32. Vaisių, uogų ir daržovių sulčių gamyba). | O11: 2 | P11: =+P10 -> 4 | Q11: =COUNTIFS($O$1:$O11,1) -> 2 | R11: =IF($O11=$R$1,IF($O11<>$O10, 1, R10+1),"") -> 1 | T11: =CONCATENATE($P11, ".", $Q11, IF($R11<>"", CONCATENATE(".", $R11), ""), ".") -> 4.2.1.
A12: =CONCATENATE($P12, ".", $Q12, IF($R12<>"", CONCATENATE(".", $R12), ""), ".") -> 4.2.2. | B12: Pagamintas kiekis | C12: vnt. | N12: Stulpelyje " Matavimo vnt." pasirenkama tinkama matavimo vieneto reikšmė iš sąrašo. | O12: 2 | P12: =+P11 -> 4 | Q12: =COUNTIFS($O$1:$O12,1) -> 2 | R12: =IF($O12=$R$1,IF($O12<>$O11, 1, R11+1),"") -> 2 | T12: =CONCATENATE($P12, ".", $Q12, IF($R12<>"", CONCATENATE(".", $R12), ""), ".") -> 4.2.2.
A13: =CONCATENATE($P13, ".", $Q13, IF($R13<>"", CONCATENATE(".", $R13), ""), ".") -> 4.2.3. | B13: Parduotas kiekis | C13: =+C12 -> vnt. | N13: Rekomenduojama: nurodomas visas pagamintas kiekis, kaip parduodamas, nebent dalis pagamintos produkcijos sunaudojama kitų produktų gamybai. | O13: 2 | P13: =+P12 -> 4 | Q13: =COUNTIFS($O$1:$O13,1) -> 2 | R13: =IF($O13=$R$1,IF($O13<>$O12, 1, R12+1),"") -> 3 | T13: =CONCATENATE($P13, ".", $Q13, IF($R13<>"", CONCATENATE(".", $R13), ""), ".") -> 4.2.3.
A14: =CONCATENATE($P14, ".", $Q14, IF($R14<>"", CONCATENATE(".", $R14), ""), ".") -> 4.2.4. | B14: Vidutinė kaina | C14: =CONCATENATE("Eur/",C13) -> Eur/vnt. | D14: =IFERROR(ROUND(D15/D13,2),"-") -> - | N14: Rekomenduojama: kainos prognozuojamu laikotarpiu neturėtų būti didinamos (infliacijos įtaka nevertinama). Jei kainų pokyčiai dėl pareiškėjo kainodaros sprendimų prognozuojami, juos reikia pagrįsti ir paaiškinti. | O14: 2 | P14: =+P13 -> 4 | Q14: =COUNTIFS($O$1:$O14,1) -> 2 | R14: =IF($O14=$R$1,IF($O14<>$O13, 1, R13+1),"") -> 4 | T14: =CONCATENATE($P14, ".", $Q14, IF($R14<>"", CONCATENATE(".", $R14), ""), ".") -> 4.2.4.
A15: =CONCATENATE($P15, ".", $Q15, IF($R15<>"", CONCATENATE(".", $R15), ""), ".") -> 4.2.5. | B15: Pajamos (gamyba) | C15: Eur | E15: =ROUND(E13*E14,0) -> 0 | F15: =ROUND(F13*F14,0) -> 0 | G15: =ROUND(G13*G14,0) -> 0 | H15: =ROUND(H13*H14,0) -> 0 | I15: =ROUND(I13*I14,0) -> 0 | J15: =ROUND(J13*J14,0) -> 0 | K15: =ROUND(K13*K14,0) -> 0 | L15: =ROUND(L13*L14,0) -> 0 | O15: 2 | P15: =+P14 -> 4 | Q15: =COUNTIFS($O$1:$O15,1) -> 2 | R15: =IF($O15=$R$1,IF($O15<>$O14, 1, R14+1),"") -> 5 | T15: =CONCATENATE($P15, ".", $Q15, IF($R15<>"", CONCATENATE(".", $R15), ""), ".") -> 4.2.5.
A16: =CONCATENATE($P16, ".", $Q16, IF($R16<>"", CONCATENATE(".", $R16), ""), ".") -> 4.2.6. | B16: Parduoto kiekio ir pardavimo kainų pagrindimas | N16: Paaiškinimas rašomas tik tuo atveju, kai kainos ir (ar) pardavimo kiekiai keičiasi. | O16: 2 | P16: =+P15 -> 4 | Q16: =COUNTIFS($O$1:$O16,1) -> 2 | R16: =IF($O16=$R$1,IF($O16<>$O15, 1, R15+1),"") -> 6 | T16: =CONCATENATE($P16, ".", $Q16, IF($R16<>"", CONCATENATE(".", $R16), ""), ".") -> 4.2.6.
A17: =CONCATENATE($P17, ".", $Q17, IF($R17<>"", CONCATENATE(".", $R17), ""), ".") -> 4.3. | B17: Produkto pavadinimas | N17: Gaminamo produkto pavadinimas. | O17: 1 | P17: =+P16 -> 4 | Q17: =COUNTIFS($O$1:$O17,1) -> 3 | R17: =IF($O17=$R$1,IF($O17<>$O16, 1, R16+1),"") | T17: =CONCATENATE($P17, ".", $Q17, IF($R17<>"", CONCATENATE(".", $R17), ""), ".") -> 4.3.
A18: =CONCATENATE($P18, ".", $Q18, IF($R18<>"", CONCATENATE(".", $R18), ""), ".") -> 4.3.1. | B18: Veiklos kodas ir pavadinimas pagal EVRK | N18: Veiklos kodas ir pavadinimas pagal EVRK (pvz., 10.32. Vaisių, uogų ir daržovių sulčių gamyba). | O18: 2 | P18: =+P17 -> 4 | Q18: =COUNTIFS($O$1:$O18,1) -> 3 | R18: =IF($O18=$R$1,IF($O18<>$O17, 1, R17+1),"") -> 1 | T18: =CONCATENATE($P18, ".", $Q18, IF($R18<>"", CONCATENATE(".", $R18), ""), ".") -> 4.3.1.
A19: =CONCATENATE($P19, ".", $Q19, IF($R19<>"", CONCATENATE(".", $R19), ""), ".") -> 4.3.2. | B19: Pagamintas kiekis | C19: vnt. | N19: Stulpelyje " Matavimo vnt." pasirenkama tinkama matavimo vieneto reikšmė iš sąrašo. | O19: 2 | P19: =+P18 -> 4 | Q19: =COUNTIFS($O$1:$O19,1) -> 3 | R19: =IF($O19=$R$1,IF($O19<>$O18, 1, R18+1),"") -> 2 | T19: =CONCATENATE($P19, ".", $Q19, IF($R19<>"", CONCATENATE(".", $R19), ""), ".") -> 4.3.2.
A20: =CONCATENATE($P20, ".", $Q20, IF($R20<>"", CONCATENATE(".", $R20), ""), ".") -> 4.3.3. | B20: Parduotas kiekis | C20: =+C19 -> vnt. | N20: Rekomenduojama: nurodomas visas pagamintas kiekis, kaip parduodamas, nebent dalis pagamintos produkcijos sunaudojama kitų produktų gamybai. | O20: 2 | P20: =+P19 -> 4 | Q20: =COUNTIFS($O$1:$O20,1) -> 3 | R20: =IF($O20=$R$1,IF($O20<>$O19, 1, R19+1),"") -> 3 | T20: =CONCATENATE($P20, ".", $Q20, IF($R20<>"", CONCATENATE(".", $R20), ""), ".") -> 4.3.3.
A21: =CONCATENATE($P21, ".", $Q21, IF($R21<>"", CONCATENATE(".", $R21), ""), ".") -> 4.3.4. | B21: Vidutinė kaina | C21: =CONCATENATE("Eur/",C20) -> Eur/vnt. | D21: =IFERROR(ROUND(D22/D20,2),"-") -> - | N21: Rekomenduojama: kainos prognozuojamu laikotarpiu neturėtų būti didinamos (infliacijos įtaka nevertinama). Jei kainų pokyčiai dėl pareiškėjo kainodaros sprendimų prognozuojami, juos reikia pagrįsti ir paaiškinti. | O21: 2 | P21: =+P20 -> 4 | Q21: =COUNTIFS($O$1:$O21,1) -> 3 | R21: =IF($O21=$R$1,IF($O21<>$O20, 1, R20+1),"") -> 4 | T21: =CONCATENATE($P21, ".", $Q21, IF($R21<>"", CONCATENATE(".", $R21), ""), ".") -> 4.3.4.
A22: =CONCATENATE($P22, ".", $Q22, IF($R22<>"", CONCATENATE(".", $R22), ""), ".") -> 4.3.5. | B22: Pajamos (gamyba) | C22: Eur | E22: =ROUND(E20*E21,0) -> 0 | F22: =ROUND(F20*F21,0) -> 0 | G22: =ROUND(G20*G21,0) -> 0 | H22: =ROUND(H20*H21,0) -> 0 | I22: =ROUND(I20*I21,0) -> 0 | J22: =ROUND(J20*J21,0) -> 0 | K22: =ROUND(K20*K21,0) -> 0 | L22: =ROUND(L20*L21,0) -> 0 | O22: 2 | P22: =+P21 -> 4 | Q22: =COUNTIFS($O$1:$O22,1) -> 3 | R22: =IF($O22=$R$1,IF($O22<>$O21, 1, R21+1),"") -> 5 | T22: =CONCATENATE($P22, ".", $Q22, IF($R22<>"", CONCATENATE(".", $R22), ""), ".") -> 4.3.5.
A23: =CONCATENATE($P23, ".", $Q23, IF($R23<>"", CONCATENATE(".", $R23), ""), ".") -> 4.3.6. | B23: Parduoto kiekio ir pardavimo kainų pagrindimas | N23: Paaiškinimas rašomas tik tuo atveju, kai kainos ir (ar) pardavimo kiekiai keičiasi. | O23: 2 | P23: =+P22 -> 4 | Q23: =COUNTIFS($O$1:$O23,1) -> 3 | R23: =IF($O23=$R$1,IF($O23<>$O22, 1, R22+1),"") -> 6 | T23: =CONCATENATE($P23, ".", $Q23, IF($R23<>"", CONCATENATE(".", $R23), ""), ".") -> 4.3.6.
A24: =CONCATENATE($P24, ".", $Q24, IF($R24<>"", CONCATENATE(".", $R24), ""), ".") -> 4.4. | B24: Produkto pavadinimas | N24: Gaminamo produkto pavadinimas. | O24: 1 | P24: =+P23 -> 4 | Q24: =COUNTIFS($O$1:$O24,1) -> 4 | R24: =IF($O24=$R$1,IF($O24<>$O23, 1, R23+1),"") | T24: =CONCATENATE($P24, ".", $Q24, IF($R24<>"", CONCATENATE(".", $R24), ""), ".") -> 4.4.
A25: =CONCATENATE($P25, ".", $Q25, IF($R25<>"", CONCATENATE(".", $R25), ""), ".") -> 4.4.1. | B25: Veiklos kodas ir pavadinimas pagal EVRK | N25: Veiklos kodas ir pavadinimas pagal EVRK (pvz., 10.32. Vaisių, uogų ir daržovių sulčių gamyba). | O25: 2 | P25: =+P24 -> 4 | Q25: =COUNTIFS($O$1:$O25,1) -> 4 | R25: =IF($O25=$R$1,IF($O25<>$O24, 1, R24+1),"") -> 1 | T25: =CONCATENATE($P25, ".", $Q25, IF($R25<>"", CONCATENATE(".", $R25), ""), ".") -> 4.4.1.
A26: =CONCATENATE($P26, ".", $Q26, IF($R26<>"", CONCATENATE(".", $R26), ""), ".") -> 4.4.2. | B26: Pagamintas kiekis | C26: vnt. | N26: Stulpelyje " Matavimo vnt." pasirenkama tinkama matavimo vieneto reikšmė iš sąrašo. | O26: 2 | P26: =+P25 -> 4 | Q26: =COUNTIFS($O$1:$O26,1) -> 4 | R26: =IF($O26=$R$1,IF($O26<>$O25, 1, R25+1),"") -> 2 | T26: =CONCATENATE($P26, ".", $Q26, IF($R26<>"", CONCATENATE(".", $R26), ""), ".") -> 4.4.2.
A27: =CONCATENATE($P27, ".", $Q27, IF($R27<>"", CONCATENATE(".", $R27), ""), ".") -> 4.4.3. | B27: Parduotas kiekis | C27: =+C26 -> vnt. | N27: Rekomenduojama: nurodomas visas pagamintas kiekis, kaip parduodamas, nebent dalis pagamintos produkcijos sunaudojama kitų produktų gamybai. | O27: 2 | P27: =+P26 -> 4 | Q27: =COUNTIFS($O$1:$O27,1) -> 4 | R27: =IF($O27=$R$1,IF($O27<>$O26, 1, R26+1),"") -> 3 | T27: =CONCATENATE($P27, ".", $Q27, IF($R27<>"", CONCATENATE(".", $R27), ""), ".") -> 4.4.3.
A28: =CONCATENATE($P28, ".", $Q28, IF($R28<>"", CONCATENATE(".", $R28), ""), ".") -> 4.4.4. | B28: Vidutinė kaina | C28: =CONCATENATE("Eur/",C27) -> Eur/vnt. | D28: =IFERROR(ROUND(D29/D27,2),"-") -> - | N28: Rekomenduojama: kainos prognozuojamu laikotarpiu neturėtų būti didinamos (infliacijos įtaka nevertinama). Jei kainų pokyčiai dėl pareiškėjo kainodaros sprendimų prognozuojami, juos reikia pagrįsti ir paaiškinti. | O28: 2 | P28: =+P27 -> 4 | Q28: =COUNTIFS($O$1:$O28,1) -> 4 | R28: =IF($O28=$R$1,IF($O28<>$O27, 1, R27+1),"") -> 4 | T28: =CONCATENATE($P28, ".", $Q28, IF($R28<>"", CONCATENATE(".", $R28), ""), ".") -> 4.4.4.
A29: =CONCATENATE($P29, ".", $Q29, IF($R29<>"", CONCATENATE(".", $R29), ""), ".") -> 4.4.5. | B29: Pajamos (gamyba) | C29: Eur | E29: =ROUND(E27*E28,0) -> 0 | F29: =ROUND(F27*F28,0) -> 0 | G29: =ROUND(G27*G28,0) -> 0 | H29: =ROUND(H27*H28,0) -> 0 | I29: =ROUND(I27*I28,0) -> 0 | J29: =ROUND(J27*J28,0) -> 0 | K29: =ROUND(K27*K28,0) -> 0 | L29: =ROUND(L27*L28,0) -> 0 | O29: 2 | P29: =+P28 -> 4 | Q29: =COUNTIFS($O$1:$O29,1) -> 4 | R29: =IF($O29=$R$1,IF($O29<>$O28, 1, R28+1),"") -> 5 | T29: =CONCATENATE($P29, ".", $Q29, IF($R29<>"", CONCATENATE(".", $R29), ""), ".") -> 4.4.5.
A30: =CONCATENATE($P30, ".", $Q30, IF($R30<>"", CONCATENATE(".", $R30), ""), ".") -> 4.4.6. | B30: Parduoto kiekio ir pardavimo kainų pagrindimas | N30: Paaiškinimas rašomas tik tuo atveju, kai kainos ir (ar) pardavimo kiekiai keičiasi. | O30: 2 | P30: =+P29 -> 4 | Q30: =COUNTIFS($O$1:$O30,1) -> 4 | R30: =IF($O30=$R$1,IF($O30<>$O29, 1, R29+1),"") -> 6 | T30: =CONCATENATE($P30, ".", $Q30, IF($R30<>"", CONCATENATE(".", $R30), ""), ".") -> 4.4.6.
A31: =CONCATENATE($P31, ".", $Q31, IF($R31<>"", CONCATENATE(".", $R31), ""), ".") -> 4.5. | B31: Produkto pavadinimas | N31: Gaminamo produkto pavadinimas. | O31: 1 | P31: =+P30 -> 4 | Q31: =COUNTIFS($O$1:$O31,1) -> 5 | R31: =IF($O31=$R$1,IF($O31<>$O30, 1, R30+1),"") | T31: =CONCATENATE($P31, ".", $Q31, IF($R31<>"", CONCATENATE(".", $R31), ""), ".") -> 4.5.
A32: =CONCATENATE($P32, ".", $Q32, IF($R32<>"", CONCATENATE(".", $R32), ""), ".") -> 4.5.1. | B32: Veiklos kodas ir pavadinimas pagal EVRK | N32: Veiklos kodas ir pavadinimas pagal EVRK (pvz., 10.32. Vaisių, uogų ir daržovių sulčių gamyba). | O32: 2 | P32: =+P31 -> 4 | Q32: =COUNTIFS($O$1:$O32,1) -> 5 | R32: =IF($O32=$R$1,IF($O32<>$O31, 1, R31+1),"") -> 1 | T32: =CONCATENATE($P32, ".", $Q32, IF($R32<>"", CONCATENATE(".", $R32), ""), ".") -> 4.5.1.
A33: =CONCATENATE($P33, ".", $Q33, IF($R33<>"", CONCATENATE(".", $R33), ""), ".") -> 4.5.2. | B33: Pagamintas kiekis | C33: vnt. | N33: Stulpelyje " Matavimo vnt." pasirenkama tinkama matavimo vieneto reikšmė iš sąrašo. | O33: 2 | P33: =+P32 -> 4 | Q33: =COUNTIFS($O$1:$O33,1) -> 5 | R33: =IF($O33=$R$1,IF($O33<>$O32, 1, R32+1),"") -> 2 | T33: =CONCATENATE($P33, ".", $Q33, IF($R33<>"", CONCATENATE(".", $R33), ""), ".") -> 4.5.2.
A34: =CONCATENATE($P34, ".", $Q34, IF($R34<>"", CONCATENATE(".", $R34), ""), ".") -> 4.5.3. | B34: Parduotas kiekis | C34: =+C33 -> vnt. | N34: Rekomenduojama: nurodomas visas pagamintas kiekis, kaip parduodamas, nebent dalis pagamintos produkcijos sunaudojama kitų produktų gamybai. | O34: 2 | P34: =+P33 -> 4 | Q34: =COUNTIFS($O$1:$O34,1) -> 5 | R34: =IF($O34=$R$1,IF($O34<>$O33, 1, R33+1),"") -> 3 | T34: =CONCATENATE($P34, ".", $Q34, IF($R34<>"", CONCATENATE(".", $R34), ""), ".") -> 4.5.3.
A35: =CONCATENATE($P35, ".", $Q35, IF($R35<>"", CONCATENATE(".", $R35), ""), ".") -> 4.5.4. | B35: Vidutinė kaina | C35: =CONCATENATE("Eur/",C34) -> Eur/vnt. | D35: =IFERROR(ROUND(D36/D34,2),"-") -> - | N35: Rekomenduojama: kainos prognozuojamu laikotarpiu neturėtų būti didinamos (infliacijos įtaka nevertinama). Jei kainų pokyčiai dėl pareiškėjo kainodaros sprendimų prognozuojami, juos reikia pagrįsti ir paaiškinti. | O35: 2 | P35: =+P34 -> 4 | Q35: =COUNTIFS($O$1:$O35,1) -> 5 | R35: =IF($O35=$R$1,IF($O35<>$O34, 1, R34+1),"") -> 4 | T35: =CONCATENATE($P35, ".", $Q35, IF($R35<>"", CONCATENATE(".", $R35), ""), ".") -> 4.5.4.
A36: =CONCATENATE($P36, ".", $Q36, IF($R36<>"", CONCATENATE(".", $R36), ""), ".") -> 4.5.5. | B36: Pajamos (gamyba) | C36: Eur | E36: =ROUND(E34*E35,0) -> 0 | F36: =ROUND(F34*F35,0) -> 0 | G36: =ROUND(G34*G35,0) -> 0 | H36: =ROUND(H34*H35,0) -> 0 | I36: =ROUND(I34*I35,0) -> 0 | J36: =ROUND(J34*J35,0) -> 0 | K36: =ROUND(K34*K35,0) -> 0 | L36: =ROUND(L34*L35,0) -> 0 | O36: 2 | P36: =+P35 -> 4 | Q36: =COUNTIFS($O$1:$O36,1) -> 5 | R36: =IF($O36=$R$1,IF($O36<>$O35, 1, R35+1),"") -> 5 | T36: =CONCATENATE($P36, ".", $Q36, IF($R36<>"", CONCATENATE(".", $R36), ""), ".") -> 4.5.5.
A37: =CONCATENATE($P37, ".", $Q37, IF($R37<>"", CONCATENATE(".", $R37), ""), ".") -> 4.5.6. | B37: Parduoto kiekio ir pardavimo kainų pagrindimas | N37: Paaiškinimas rašomas tik tuo atveju, kai kainos ir (ar) pardavimo kiekiai keičiasi. | O37: 2 | P37: =+P36 -> 4 | Q37: =COUNTIFS($O$1:$O37,1) -> 5 | R37: =IF($O37=$R$1,IF($O37<>$O36, 1, R36+1),"") -> 6 | T37: =CONCATENATE($P37, ".", $Q37, IF($R37<>"", CONCATENATE(".", $R37), ""), ".") -> 4.5.6.
A38: =CONCATENATE($P38, ".", $Q38, IF($R38<>"", CONCATENATE(".", $R38), ""), ".") -> 4.6. | B38: Produkto pavadinimas | N38: Gaminamo produkto pavadinimas. | O38: 1 | P38: =+P37 -> 4 | Q38: =COUNTIFS($O$1:$O38,1) -> 6 | R38: =IF($O38=$R$1,IF($O38<>$O37, 1, R37+1),"") | T38: =CONCATENATE($P38, ".", $Q38, IF($R38<>"", CONCATENATE(".", $R38), ""), ".") -> 4.6.
A39: =CONCATENATE($P39, ".", $Q39, IF($R39<>"", CONCATENATE(".", $R39), ""), ".") -> 4.6.1. | B39: Veiklos kodas ir pavadinimas pagal EVRK | N39: Veiklos kodas ir pavadinimas pagal EVRK (pvz., 10.32. Vaisių, uogų ir daržovių sulčių gamyba). | O39: 2 | P39: =+P38 -> 4 | Q39: =COUNTIFS($O$1:$O39,1) -> 6 | R39: =IF($O39=$R$1,IF($O39<>$O38, 1, R38+1),"") -> 1 | T39: =CONCATENATE($P39, ".", $Q39, IF($R39<>"", CONCATENATE(".", $R39), ""), ".") -> 4.6.1.
A40: =CONCATENATE($P40, ".", $Q40, IF($R40<>"", CONCATENATE(".", $R40), ""), ".") -> 4.6.2. | B40: Pagamintas kiekis | C40: vnt. | N40: Stulpelyje " Matavimo vnt." pasirenkama tinkama matavimo vieneto reikšmė iš sąrašo. | O40: 2 | P40: =+P39 -> 4 | Q40: =COUNTIFS($O$1:$O40,1) -> 6 | R40: =IF($O40=$R$1,IF($O40<>$O39, 1, R39+1),"") -> 2 | T40: =CONCATENATE($P40, ".", $Q40, IF($R40<>"", CONCATENATE(".", $R40), ""), ".") -> 4.6.2.
A41: =CONCATENATE($P41, ".", $Q41, IF($R41<>"", CONCATENATE(".", $R41), ""), ".") -> 4.6.3. | B41: Parduotas kiekis | C41: =+C40 -> vnt. | N41: Rekomenduojama: nurodomas visas pagamintas kiekis, kaip parduodamas, nebent dalis pagamintos produkcijos sunaudojama kitų produktų gamybai. | O41: 2 | P41: =+P40 -> 4 | Q41: =COUNTIFS($O$1:$O41,1) -> 6 | R41: =IF($O41=$R$1,IF($O41<>$O40, 1, R40+1),"") -> 3 | T41: =CONCATENATE($P41, ".", $Q41, IF($R41<>"", CONCATENATE(".", $R41), ""), ".") -> 4.6.3.
A42: =CONCATENATE($P42, ".", $Q42, IF($R42<>"", CONCATENATE(".", $R42), ""), ".") -> 4.6.4. | B42: Vidutinė kaina | C42: =CONCATENATE("Eur/",C41) -> Eur/vnt. | D42: =IFERROR(ROUND(D43/D41,2),"-") -> - | N42: Rekomenduojama: kainos prognozuojamu laikotarpiu neturėtų būti didinamos (infliacijos įtaka nevertinama). Jei kainų pokyčiai dėl pareiškėjo kainodaros sprendimų prognozuojami, juos reikia pagrįsti ir paaiškinti. | O42: 2 | P42: =+P41 -> 4 | Q42: =COUNTIFS($O$1:$O42,1) -> 6 | R42: =IF($O42=$R$1,IF($O42<>$O41, 1, R41+1),"") -> 4 | T42: =CONCATENATE($P42, ".", $Q42, IF($R42<>"", CONCATENATE(".", $R42), ""), ".") -> 4.6.4.
A43: =CONCATENATE($P43, ".", $Q43, IF($R43<>"", CONCATENATE(".", $R43), ""), ".") -> 4.6.5. | B43: Pajamos (gamyba) | C43: Eur | E43: =ROUND(E41*E42,0) -> 0 | F43: =ROUND(F41*F42,0) -> 0 | G43: =ROUND(G41*G42,0) -> 0 | H43: =ROUND(H41*H42,0) -> 0 | I43: =ROUND(I41*I42,0) -> 0 | J43: =ROUND(J41*J42,0) -> 0 | K43: =ROUND(K41*K42,0) -> 0 | L43: =ROUND(L41*L42,0) -> 0 | O43: 2 | P43: =+P42 -> 4 | Q43: =COUNTIFS($O$1:$O43,1) -> 6 | R43: =IF($O43=$R$1,IF($O43<>$O42, 1, R42+1),"") -> 5 | T43: =CONCATENATE($P43, ".", $Q43, IF($R43<>"", CONCATENATE(".", $R43), ""), ".") -> 4.6.5.
A44: =CONCATENATE($P44, ".", $Q44, IF($R44<>"", CONCATENATE(".", $R44), ""), ".") -> 4.6.6. | B44: Parduoto kiekio ir pardavimo kainų pagrindimas | N44: Paaiškinimas rašomas tik tuo atveju, kai kainos ir (ar) pardavimo kiekiai keičiasi. | O44: 2 | P44: =+P43 -> 4 | Q44: =COUNTIFS($O$1:$O44,1) -> 6 | R44: =IF($O44=$R$1,IF($O44<>$O43, 1, R43+1),"") -> 6 | T44: =CONCATENATE($P44, ".", $Q44, IF($R44<>"", CONCATENATE(".", $R44), ""), ".") -> 4.6.6.
A45: =CONCATENATE($P45, ".", $Q45, IF($R45<>"", CONCATENATE(".", $R45), ""), ".") -> 4.7. | B45: Paslaugos pavadinimas | N45: Teikiamos paslaugos pavadinimas. | O45: 1 | P45: =+P44 -> 4 | Q45: =COUNTIFS($O$1:$O45,1) -> 7 | R45: =IF($O45=$R$1,IF($O45<>$O44, 1, R44+1),"") | T45: =CONCATENATE($P45, ".", $Q45, IF($R45<>"", CONCATENATE(".", $R45), ""), ".") -> 4.7.
A46: =CONCATENATE($P46, ".", $Q46, IF($R46<>"", CONCATENATE(".", $R46), ""), ".") -> 4.7.1. | B46: Veiklos kodas ir pavadinimas pagal EVRK | N46: Veiklos kodas ir pavadinimas pagal EVRK (pvz., 10.32. Vaisių, uogų ir daržovių sulčių gamyba). | O46: 2 | P46: =+P45 -> 4 | Q46: =COUNTIFS($O$1:$O46,1) -> 7 | R46: =IF($O46=$R$1,IF($O46<>$O45, 1, R45+1),"") -> 1 | T46: =CONCATENATE($P46, ".", $Q46, IF($R46<>"", CONCATENATE(".", $R46), ""), ".") -> 4.7.1.
A47: =CONCATENATE($P47, ".", $Q47, IF($R47<>"", CONCATENATE(".", $R47), ""), ".") -> 4.7.2. | B47: Parduotas kiekis | C47: val. | N47: Stulpelyje " Matavimo vnt." pasirenkama tinkama matavimo vieneto reikšmė iš sąrašo. | O47: 2 | P47: =+P46 -> 4 | Q47: =COUNTIFS($O$1:$O47,1) -> 7 | R47: =IF($O47=$R$1,IF($O47<>$O46, 1, R46+1),"") -> 2 | T47: =CONCATENATE($P47, ".", $Q47, IF($R47<>"", CONCATENATE(".", $R47), ""), ".") -> 4.7.2.
A48: =CONCATENATE($P48, ".", $Q48, IF($R48<>"", CONCATENATE(".", $R48), ""), ".") -> 4.7.3. | B48: Vidutinė kaina | C48: =CONCATENATE("Eur/",C47) -> Eur/val. | D48: =IFERROR(ROUND(D49/D47,2),"-") -> - | N48: Rekomenduojama: kainos prognozuojamu laikotarpiu neturėtų būti didinamos (infliacijos įtaka nevertinama). Jei kainų pokyčiai dėl pareiškėjo kainodaros sprendimų prognozuojami, juos reikia pagrįsti ir paaiškinti. | O48: 2 | P48: =+P47 -> 4 | Q48: =COUNTIFS($O$1:$O48,1) -> 7 | R48: =IF($O48=$R$1,IF($O48<>$O47, 1, R47+1),"") -> 3 | T48: =CONCATENATE($P48, ".", $Q48, IF($R48<>"", CONCATENATE(".", $R48), ""), ".") -> 4.7.3.
A49: =CONCATENATE($P49, ".", $Q49, IF($R49<>"", CONCATENATE(".", $R49), ""), ".") -> 4.7.4. | B49: Pajamos (paslaugos) | C49: Eur | E49: =ROUND(E47*E48,0) -> 0 | F49: =ROUND(F47*F48,0) -> 0 | G49: =ROUND(G47*G48,0) -> 0 | H49: =ROUND(H47*H48,0) -> 0 | I49: =ROUND(I47*I48,0) -> 0 | J49: =ROUND(J47*J48,0) -> 0 | K49: =ROUND(K47*K48,0) -> 0 | L49: =ROUND(L47*L48,0) -> 0 | O49: 2 | P49: =+P48 -> 4 | Q49: =COUNTIFS($O$1:$O49,1) -> 7 | R49: =IF($O49=$R$1,IF($O49<>$O48, 1, R48+1),"") -> 4 | T49: =CONCATENATE($P49, ".", $Q49, IF($R49<>"", CONCATENATE(".", $R49), ""), ".") -> 4.7.4.
A50: =CONCATENATE($P50, ".", $Q50, IF($R50<>"", CONCATENATE(".", $R50), ""), ".") -> 4.7.5. | B50: Parduoto kiekio ir pardavimo kainų pagrindimas | N50: Paaiškinimas rašomas tik tuo atveju, kai kainos ir (ar) pardavimo kiekiai keičiasi. | O50: 2 | P50: =+P49 -> 4 | Q50: =COUNTIFS($O$1:$O50,1) -> 7 | R50: =IF($O50=$R$1,IF($O50<>$O49, 1, R49+1),"") -> 5 | T50: =CONCATENATE($P50, ".", $Q50, IF($R50<>"", CONCATENATE(".", $R50), ""), ".") -> 4.7.5.
A51: =CONCATENATE($P51, ".", $Q51, IF($R51<>"", CONCATENATE(".", $R51), ""), ".") -> 4.8. | B51: Paslaugos pavadinimas | N51: Teikiamos paslaugos pavadinimas. | O51: 1 | P51: =+P50 -> 4 | Q51: =COUNTIFS($O$1:$O51,1) -> 8 | R51: =IF($O51=$R$1,IF($O51<>$O50, 1, R50+1),"") | T51: =CONCATENATE($P51, ".", $Q51, IF($R51<>"", CONCATENATE(".", $R51), ""), ".") -> 4.8.
A52: =CONCATENATE($P52, ".", $Q52, IF($R52<>"", CONCATENATE(".", $R52), ""), ".") -> 4.8.1. | B52: Veiklos kodas ir pavadinimas pagal EVRK | N52: Veiklos kodas ir pavadinimas pagal EVRK (pvz., 10.32. Vaisių, uogų ir daržovių sulčių gamyba). | O52: 2 | P52: =+P51 -> 4 | Q52: =COUNTIFS($O$1:$O52,1) -> 8 | R52: =IF($O52=$R$1,IF($O52<>$O51, 1, R51+1),"") -> 1 | T52: =CONCATENATE($P52, ".", $Q52, IF($R52<>"", CONCATENATE(".", $R52), ""), ".") -> 4.8.1.
A53: =CONCATENATE($P53, ".", $Q53, IF($R53<>"", CONCATENATE(".", $R53), ""), ".") -> 4.8.2. | B53: Parduotas kiekis | C53: val. | N53: Stulpelyje " Matavimo vnt." pasirenkama tinkama matavimo vieneto reikšmė iš sąrašo. | O53: 2 | P53: =+P52 -> 4 | Q53: =COUNTIFS($O$1:$O53,1) -> 8 | R53: =IF($O53=$R$1,IF($O53<>$O52, 1, R52+1),"") -> 2 | T53: =CONCATENATE($P53, ".", $Q53, IF($R53<>"", CONCATENATE(".", $R53), ""), ".") -> 4.8.2.
A54: =CONCATENATE($P54, ".", $Q54, IF($R54<>"", CONCATENATE(".", $R54), ""), ".") -> 4.8.3. | B54: Vidutinė kaina | C54: =CONCATENATE("Eur/",C53) -> Eur/val. | D54: =IFERROR(ROUND(D55/D53,2),"-") -> - | N54: Rekomenduojama: kainos prognozuojamu laikotarpiu neturėtų būti didinamos (infliacijos įtaka nevertinama). Jei kainų pokyčiai dėl pareiškėjo kainodaros sprendimų prognozuojami, juos reikia pagrįsti ir paaiškinti. | O54: 2 | P54: =+P53 -> 4 | Q54: =COUNTIFS($O$1:$O54,1) -> 8 | R54: =IF($O54=$R$1,IF($O54<>$O53, 1, R53+1),"") -> 3 | T54: =CONCATENATE($P54, ".", $Q54, IF($R54<>"", CONCATENATE(".", $R54), ""), ".") -> 4.8.3.
A55: =CONCATENATE($P55, ".", $Q55, IF($R55<>"", CONCATENATE(".", $R55), ""), ".") -> 4.8.4. | B55: Pajamos (paslaugos) | C55: Eur | E55: =ROUND(E53*E54,0) -> 0 | F55: =ROUND(F53*F54,0) -> 0 | G55: =ROUND(G53*G54,0) -> 0 | H55: =ROUND(H53*H54,0) -> 0 | I55: =ROUND(I53*I54,0) -> 0 | J55: =ROUND(J53*J54,0) -> 0 | K55: =ROUND(K53*K54,0) -> 0 | L55: =ROUND(L53*L54,0) -> 0 | O55: 2 | P55: =+P54 -> 4 | Q55: =COUNTIFS($O$1:$O55,1) -> 8 | R55: =IF($O55=$R$1,IF($O55<>$O54, 1, R54+1),"") -> 4 | T55: =CONCATENATE($P55, ".", $Q55, IF($R55<>"", CONCATENATE(".", $R55), ""), ".") -> 4.8.4.
A56: =CONCATENATE($P56, ".", $Q56, IF($R56<>"", CONCATENATE(".", $R56), ""), ".") -> 4.8.5. | B56: Parduoto kiekio ir pardavimo kainų pagrindimas | N56: Paaiškinimas rašomas tik tuo atveju, kai kainos ir (ar) pardavimo kiekiai keičiasi. | O56: 2 | P56: =+P55 -> 4 | Q56: =COUNTIFS($O$1:$O56,1) -> 8 | R56: =IF($O56=$R$1,IF($O56<>$O55, 1, R55+1),"") -> 5 | T56: =CONCATENATE($P56, ".", $Q56, IF($R56<>"", CONCATENATE(".", $R56), ""), ".") -> 4.8.5.
A57: =CONCATENATE($P57, ".", $Q57, IF($R57<>"", CONCATENATE(".", $R57), ""), ".") -> 4.9. | B57: Paslaugos pavadinimas | N57: Teikiamos paslaugos pavadinimas. | O57: 1 | P57: =+P56 -> 4 | Q57: =COUNTIFS($O$1:$O57,1) -> 9 | R57: =IF($O57=$R$1,IF($O57<>$O56, 1, R56+1),"") | T57: =CONCATENATE($P57, ".", $Q57, IF($R57<>"", CONCATENATE(".", $R57), ""), ".") -> 4.9.
A58: =CONCATENATE($P58, ".", $Q58, IF($R58<>"", CONCATENATE(".", $R58), ""), ".") -> 4.9.1. | B58: Veiklos kodas ir pavadinimas pagal EVRK | N58: Veiklos kodas ir pavadinimas pagal EVRK (pvz., 10.32. Vaisių, uogų ir daržovių sulčių gamyba). | O58: 2 | P58: =+P57 -> 4 | Q58: =COUNTIFS($O$1:$O58,1) -> 9 | R58: =IF($O58=$R$1,IF($O58<>$O57, 1, R57+1),"") -> 1 | T58: =CONCATENATE($P58, ".", $Q58, IF($R58<>"", CONCATENATE(".", $R58), ""), ".") -> 4.9.1.
A59: =CONCATENATE($P59, ".", $Q59, IF($R59<>"", CONCATENATE(".", $R59), ""), ".") -> 4.9.2. | B59: Parduotas kiekis | C59: val. | N59: Stulpelyje " Matavimo vnt." pasirenkama tinkama matavimo vieneto reikšmė iš sąrašo. | O59: 2 | P59: =+P58 -> 4 | Q59: =COUNTIFS($O$1:$O59,1) -> 9 | R59: =IF($O59=$R$1,IF($O59<>$O58, 1, R58+1),"") -> 2 | T59: =CONCATENATE($P59, ".", $Q59, IF($R59<>"", CONCATENATE(".", $R59), ""), ".") -> 4.9.2.
A60: =CONCATENATE($P60, ".", $Q60, IF($R60<>"", CONCATENATE(".", $R60), ""), ".") -> 4.9.3. | B60: Vidutinė kaina | C60: =CONCATENATE("Eur/",C59) -> Eur/val. | D60: =IFERROR(ROUND(D61/D59,2),"-") -> - | N60: Rekomenduojama: kainos prognozuojamu laikotarpiu neturėtų būti didinamos (infliacijos įtaka nevertinama). Jei kainų pokyčiai dėl pareiškėjo kainodaros sprendimų prognozuojami, juos reikia pagrįsti ir paaiškinti. | O60: 2 | P60: =+P59 -> 4 | Q60: =COUNTIFS($O$1:$O60,1) -> 9 | R60: =IF($O60=$R$1,IF($O60<>$O59, 1, R59+1),"") -> 3 | T60: =CONCATENATE($P60, ".", $Q60, IF($R60<>"", CONCATENATE(".", $R60), ""), ".") -> 4.9.3.
A61: =CONCATENATE($P61, ".", $Q61, IF($R61<>"", CONCATENATE(".", $R61), ""), ".") -> 4.9.4. | B61: Pajamos (paslaugos) | C61: Eur | E61: =ROUND(E59*E60,0) -> 0 | F61: =ROUND(F59*F60,0) -> 0 | G61: =ROUND(G59*G60,0) -> 0 | H61: =ROUND(H59*H60,0) -> 0 | I61: =ROUND(I59*I60,0) -> 0 | J61: =ROUND(J59*J60,0) -> 0 | K61: =ROUND(K59*K60,0) -> 0 | L61: =ROUND(L59*L60,0) -> 0 | O61: 2 | P61: =+P60 -> 4 | Q61: =COUNTIFS($O$1:$O61,1) -> 9 | R61: =IF($O61=$R$1,IF($O61<>$O60, 1, R60+1),"") -> 4 | T61: =CONCATENATE($P61, ".", $Q61, IF($R61<>"", CONCATENATE(".", $R61), ""), ".") -> 4.9.4.
A62: =CONCATENATE($P62, ".", $Q62, IF($R62<>"", CONCATENATE(".", $R62), ""), ".") -> 4.9.5. | B62: Parduoto kiekio ir pardavimo kainų pagrindimas | N62: Paaiškinimas rašomas tik tuo atveju, kai kainos ir (ar) pardavimo kiekiai keičiasi. | O62: 2 | P62: =+P61 -> 4 | Q62: =COUNTIFS($O$1:$O62,1) -> 9 | R62: =IF($O62=$R$1,IF($O62<>$O61, 1, R61+1),"") -> 5 | T62: =CONCATENATE($P62, ".", $Q62, IF($R62<>"", CONCATENATE(".", $R62), ""), ".") -> 4.9.5.
A63: =CONCATENATE($P63, ".", $Q63, IF($R63<>"", CONCATENATE(".", $R63), ""), ".") -> 4.10. | B63: Paslaugos pavadinimas | N63: Teikiamos paslaugos pavadinimas. | O63: 1 | P63: =+P62 -> 4 | Q63: =COUNTIFS($O$1:$O63,1) -> 10 | R63: =IF($O63=$R$1,IF($O63<>$O62, 1, R62+1),"") | T63: =CONCATENATE($P63, ".", $Q63, IF($R63<>"", CONCATENATE(".", $R63), ""), ".") -> 4.10.
A64: =CONCATENATE($P64, ".", $Q64, IF($R64<>"", CONCATENATE(".", $R64), ""), ".") -> 4.10.1. | B64: Veiklos kodas ir pavadinimas pagal EVRK | N64: Veiklos kodas ir pavadinimas pagal EVRK (pvz., 10.32. Vaisių, uogų ir daržovių sulčių gamyba). | O64: 2 | P64: =+P63 -> 4 | Q64: =COUNTIFS($O$1:$O64,1) -> 10 | R64: =IF($O64=$R$1,IF($O64<>$O63, 1, R63+1),"") -> 1 | T64: =CONCATENATE($P64, ".", $Q64, IF($R64<>"", CONCATENATE(".", $R64), ""), ".") -> 4.10.1.
A65: =CONCATENATE($P65, ".", $Q65, IF($R65<>"", CONCATENATE(".", $R65), ""), ".") -> 4.10.2. | B65: Parduotas kiekis | C65: val. | N65: Stulpelyje " Matavimo vnt." pasirenkama tinkama matavimo vieneto reikšmė iš sąrašo. | O65: 2 | P65: =+P64 -> 4 | Q65: =COUNTIFS($O$1:$O65,1) -> 10 | R65: =IF($O65=$R$1,IF($O65<>$O64, 1, R64+1),"") -> 2 | T65: =CONCATENATE($P65, ".", $Q65, IF($R65<>"", CONCATENATE(".", $R65), ""), ".") -> 4.10.2.
A66: =CONCATENATE($P66, ".", $Q66, IF($R66<>"", CONCATENATE(".", $R66), ""), ".") -> 4.10.3. | B66: Vidutinė kaina | C66: =CONCATENATE("Eur/",C65) -> Eur/val. | D66: =IFERROR(ROUND(D67/D65,2),"-") -> - | N66: Rekomenduojama: kainos prognozuojamu laikotarpiu neturėtų būti didinamos (infliacijos įtaka nevertinama). Jei kainų pokyčiai dėl pareiškėjo kainodaros sprendimų prognozuojami, juos reikia pagrįsti ir paaiškinti. | O66: 2 | P66: =+P65 -> 4 | Q66: =COUNTIFS($O$1:$O66,1) -> 10 | R66: =IF($O66=$R$1,IF($O66<>$O65, 1, R65+1),"") -> 3 | T66: =CONCATENATE($P66, ".", $Q66, IF($R66<>"", CONCATENATE(".", $R66), ""), ".") -> 4.10.3.
A67: =CONCATENATE($P67, ".", $Q67, IF($R67<>"", CONCATENATE(".", $R67), ""), ".") -> 4.10.4. | B67: Pajamos (paslaugos) | C67: Eur | E67: =ROUND(E65*E66,0) -> 0 | F67: =ROUND(F65*F66,0) -> 0 | G67: =ROUND(G65*G66,0) -> 0 | H67: =ROUND(H65*H66,0) -> 0 | I67: =ROUND(I65*I66,0) -> 0 | J67: =ROUND(J65*J66,0) -> 0 | K67: =ROUND(K65*K66,0) -> 0 | L67: =ROUND(L65*L66,0) -> 0 | O67: 2 | P67: =+P66 -> 4 | Q67: =COUNTIFS($O$1:$O67,1) -> 10 | R67: =IF($O67=$R$1,IF($O67<>$O66, 1, R66+1),"") -> 4 | T67: =CONCATENATE($P67, ".", $Q67, IF($R67<>"", CONCATENATE(".", $R67), ""), ".") -> 4.10.4.
A68: =CONCATENATE($P68, ".", $Q68, IF($R68<>"", CONCATENATE(".", $R68), ""), ".") -> 4.10.5. | B68: Parduoto kiekio ir pardavimo kainų pagrindimas | N68: Paaiškinimas rašomas tik tuo atveju, kai kainos ir (ar) pardavimo kiekiai keičiasi. | O68: 2 | P68: =+P67 -> 4 | Q68: =COUNTIFS($O$1:$O68,1) -> 10 | R68: =IF($O68=$R$1,IF($O68<>$O67, 1, R67+1),"") -> 5 | T68: =CONCATENATE($P68, ".", $Q68, IF($R68<>"", CONCATENATE(".", $R68), ""), ".") -> 4.10.5.
A69: =CONCATENATE($P69, ".", $Q69, IF($R69<>"", CONCATENATE(".", $R69), ""), ".") -> 4.11. | B69: Paslaugos pavadinimas | N69: Teikiamos paslaugos pavadinimas. | O69: 1 | P69: =+P68 -> 4 | Q69: =COUNTIFS($O$1:$O69,1) -> 11 | R69: =IF($O69=$R$1,IF($O69<>$O68, 1, R68+1),"") | T69: =CONCATENATE($P69, ".", $Q69, IF($R69<>"", CONCATENATE(".", $R69), ""), ".") -> 4.11.
A70: =CONCATENATE($P70, ".", $Q70, IF($R70<>"", CONCATENATE(".", $R70), ""), ".") -> 4.11.1. | B70: Veiklos kodas ir pavadinimas pagal EVRK | N70: Veiklos kodas ir pavadinimas pagal EVRK (pvz., 10.32. Vaisių, uogų ir daržovių sulčių gamyba). | O70: 2 | P70: =+P69 -> 4 | Q70: =COUNTIFS($O$1:$O70,1) -> 11 | R70: =IF($O70=$R$1,IF($O70<>$O69, 1, R69+1),"") -> 1 | T70: =CONCATENATE($P70, ".", $Q70, IF($R70<>"", CONCATENATE(".", $R70), ""), ".") -> 4.11.1.
A71: =CONCATENATE($P71, ".", $Q71, IF($R71<>"", CONCATENATE(".", $R71), ""), ".") -> 4.11.2. | B71: Parduotas kiekis | C71: val. | N71: Stulpelyje " Matavimo vnt." pasirenkama tinkama matavimo vieneto reikšmė iš sąrašo. | O71: 2 | P71: =+P70 -> 4 | Q71: =COUNTIFS($O$1:$O71,1) -> 11 | R71: =IF($O71=$R$1,IF($O71<>$O70, 1, R70+1),"") -> 2 | T71: =CONCATENATE($P71, ".", $Q71, IF($R71<>"", CONCATENATE(".", $R71), ""), ".") -> 4.11.2.
A72: =CONCATENATE($P72, ".", $Q72, IF($R72<>"", CONCATENATE(".", $R72), ""), ".") -> 4.11.3. | B72: Vidutinė kaina | C72: =CONCATENATE("Eur/",C71) -> Eur/val. | D72: =IFERROR(ROUND(D73/D71,2),"-") -> - | N72: Rekomenduojama: kainos prognozuojamu laikotarpiu neturėtų būti didinamos (infliacijos įtaka nevertinama). Jei kainų pokyčiai dėl pareiškėjo kainodaros sprendimų prognozuojami, juos reikia pagrįsti ir paaiškinti. | O72: 2 | P72: =+P71 -> 4 | Q72: =COUNTIFS($O$1:$O72,1) -> 11 | R72: =IF($O72=$R$1,IF($O72<>$O71, 1, R71+1),"") -> 3 | T72: =CONCATENATE($P72, ".", $Q72, IF($R72<>"", CONCATENATE(".", $R72), ""), ".") -> 4.11.3.
A73: =CONCATENATE($P73, ".", $Q73, IF($R73<>"", CONCATENATE(".", $R73), ""), ".") -> 4.11.4. | B73: Pajamos (paslaugos) | C73: Eur | E73: =ROUND(E71*E72,0) -> 0 | F73: =ROUND(F71*F72,0) -> 0 | G73: =ROUND(G71*G72,0) -> 0 | H73: =ROUND(H71*H72,0) -> 0 | I73: =ROUND(I71*I72,0) -> 0 | J73: =ROUND(J71*J72,0) -> 0 | K73: =ROUND(K71*K72,0) -> 0 | L73: =ROUND(L71*L72,0) -> 0 | O73: 2 | P73: =+P72 -> 4 | Q73: =COUNTIFS($O$1:$O73,1) -> 11 | R73: =IF($O73=$R$1,IF($O73<>$O72, 1, R72+1),"") -> 4 | T73: =CONCATENATE($P73, ".", $Q73, IF($R73<>"", CONCATENATE(".", $R73), ""), ".") -> 4.11.4.
A74: =CONCATENATE($P74, ".", $Q74, IF($R74<>"", CONCATENATE(".", $R74), ""), ".") -> 4.11.5. | B74: Parduoto kiekio ir pardavimo kainų pagrindimas | N74: Paaiškinimas rašomas tik tuo atveju, kai kainos ir (ar) pardavimo kiekiai keičiasi. | O74: 2 | P74: =+P73 -> 4 | Q74: =COUNTIFS($O$1:$O74,1) -> 11 | R74: =IF($O74=$R$1,IF($O74<>$O73, 1, R73+1),"") -> 5 | T74: =CONCATENATE($P74, ".", $Q74, IF($R74<>"", CONCATENATE(".", $R74), ""), ".") -> 4.11.5.
A75: =CONCATENATE($P75, ".", $Q75, IF($R75<>"", CONCATENATE(".", $R75), ""), ".") -> 4.12. | B75: Kitos veiklos pavadinimas | N75: Kitos veiklos pavadinimas. | O75: 1 | P75: =+P74 -> 4 | Q75: =COUNTIFS($O$1:$O75,1) -> 12 | R75: =IF($O75=$R$1,IF($O75<>$O74, 1, R74+1),"") | T75: =CONCATENATE($P75, ".", $Q75, IF($R75<>"", CONCATENATE(".", $R75), ""), ".") -> 4.12.
A76: =CONCATENATE($P76, ".", $Q76, IF($R76<>"", CONCATENATE(".", $R76), ""), ".") -> 4.12.1. | B76: Veiklos kodas ir pavadinimas pagal EVRK | N76: Veiklos kodas ir pavadinimas pagal EVRK (pvz., 10.32. Vaisių, uogų ir daržovių sulčių gamyba). | O76: 2 | P76: =+P75 -> 4 | Q76: =COUNTIFS($O$1:$O76,1) -> 12 | R76: =IF($O76=$R$1,IF($O76<>$O75, 1, R75+1),"") -> 1 | T76: =CONCATENATE($P76, ".", $Q76, IF($R76<>"", CONCATENATE(".", $R76), ""), ".") -> 4.12.1.
A77: =CONCATENATE($P77, ".", $Q77, IF($R77<>"", CONCATENATE(".", $R77), ""), ".") -> 4.12.2. | B77: Parduotas kiekis | C77: vnt. | N77: Stulpelyje " Matavimo vnt." pasirenkama tinkama matavimo vieneto reikšmė iš sąrašo. | O77: 2 | P77: =+P76 -> 4 | Q77: =COUNTIFS($O$1:$O77,1) -> 12 | R77: =IF($O77=$R$1,IF($O77<>$O76, 1, R76+1),"") -> 2 | T77: =CONCATENATE($P77, ".", $Q77, IF($R77<>"", CONCATENATE(".", $R77), ""), ".") -> 4.12.2.
A78: =CONCATENATE($P78, ".", $Q78, IF($R78<>"", CONCATENATE(".", $R78), ""), ".") -> 4.12.3. | B78: Vidutinė kaina | C78: =CONCATENATE("Eur/",C77) -> Eur/vnt. | D78: =IFERROR(ROUND(D79/D77,2),"-") -> - | N78: Rekomenduojama: kainos prognozuojamu laikotarpiu neturėtų būti didinamos (infliacijos įtaka nevertinama). Jei kainų pokyčiai dėl pareiškėjo kainodaros sprendimų prognozuojami, juos reikia pagrįsti ir paaiškinti. | O78: 2 | P78: =+P77 -> 4 | Q78: =COUNTIFS($O$1:$O78,1) -> 12 | R78: =IF($O78=$R$1,IF($O78<>$O77, 1, R77+1),"") -> 3 | T78: =CONCATENATE($P78, ".", $Q78, IF($R78<>"", CONCATENATE(".", $R78), ""), ".") -> 4.12.3.
A79: =CONCATENATE($P79, ".", $Q79, IF($R79<>"", CONCATENATE(".", $R79), ""), ".") -> 4.12.4. | B79: Pajamos (kita veikla) | C79: Eur | E79: =ROUND(E77*E78,0) -> 0 | F79: =ROUND(F77*F78,0) -> 0 | G79: =ROUND(G77*G78,0) -> 0 | H79: =ROUND(H77*H78,0) -> 0 | I79: =ROUND(I77*I78,0) -> 0 | J79: =ROUND(J77*J78,0) -> 0 | K79: =ROUND(K77*K78,0) -> 0 | L79: =ROUND(L77*L78,0) -> 0 | O79: 2 | P79: =+P78 -> 4 | Q79: =COUNTIFS($O$1:$O79,1) -> 12 | R79: =IF($O79=$R$1,IF($O79<>$O78, 1, R78+1),"") -> 4 | T79: =CONCATENATE($P79, ".", $Q79, IF($R79<>"", CONCATENATE(".", $R79), ""), ".") -> 4.12.4.
A80: =CONCATENATE($P80, ".", $Q80, IF($R80<>"", CONCATENATE(".", $R80), ""), ".") -> 4.12.5. | B80: Parduoto kiekio ir pardavimo kainų pagrindimas | N80: Paaiškinimas rašomas tik tuo atveju, kai kainos ir (ar) pardavimo kiekiai keičiasi. | O80: 2 | P80: =+P79 -> 4 | Q80: =COUNTIFS($O$1:$O80,1) -> 12 | R80: =IF($O80=$R$1,IF($O80<>$O79, 1, R79+1),"") -> 5 | T80: =CONCATENATE($P80, ".", $Q80, IF($R80<>"", CONCATENATE(".", $R80), ""), ".") -> 4.12.5.
A81: =CONCATENATE($P81, ".", $Q81, IF($R81<>"", CONCATENATE(".", $R81), ""), ".") -> 4.13. | B81: Kitos veiklos pavadinimas | N81: Kitos veiklos pavadinimas. | O81: 1 | P81: =+P80 -> 4 | Q81: =COUNTIFS($O$1:$O81,1) -> 13 | R81: =IF($O81=$R$1,IF($O81<>$O80, 1, R80+1),"") | T81: =CONCATENATE($P81, ".", $Q81, IF($R81<>"", CONCATENATE(".", $R81), ""), ".") -> 4.13.
A82: =CONCATENATE($P82, ".", $Q82, IF($R82<>"", CONCATENATE(".", $R82), ""), ".") -> 4.13.1. | B82: Veiklos kodas ir pavadinimas pagal EVRK | N82: Veiklos kodas ir pavadinimas pagal EVRK (pvz., 10.32. Vaisių, uogų ir daržovių sulčių gamyba). | O82: 2 | P82: =+P81 -> 4 | Q82: =COUNTIFS($O$1:$O82,1) -> 13 | R82: =IF($O82=$R$1,IF($O82<>$O81, 1, R81+1),"") -> 1 | T82: =CONCATENATE($P82, ".", $Q82, IF($R82<>"", CONCATENATE(".", $R82), ""), ".") -> 4.13.1.
A83: =CONCATENATE($P83, ".", $Q83, IF($R83<>"", CONCATENATE(".", $R83), ""), ".") -> 4.13.2. | B83: Parduotas kiekis | C83: m3 | N83: Stulpelyje " Matavimo vnt." pasirenkama tinkama matavimo vieneto reikšmė iš sąrašo. | O83: 2 | P83: =+P82 -> 4 | Q83: =COUNTIFS($O$1:$O83,1) -> 13 | R83: =IF($O83=$R$1,IF($O83<>$O82, 1, R82+1),"") -> 2 | T83: =CONCATENATE($P83, ".", $Q83, IF($R83<>"", CONCATENATE(".", $R83), ""), ".") -> 4.13.2.
A84: =CONCATENATE($P84, ".", $Q84, IF($R84<>"", CONCATENATE(".", $R84), ""), ".") -> 4.13.3. | B84: Vidutinė kaina | C84: =CONCATENATE("Eur/",C83) -> Eur/m3 | D84: =IFERROR(ROUND(D85/D83,2),"-") -> - | N84: Rekomenduojama: kainos prognozuojamu laikotarpiu neturėtų būti didinamos (infliacijos įtaka nevertinama). Jei kainų pokyčiai dėl pareiškėjo kainodaros sprendimų prognozuojami, juos reikia pagrįsti ir paaiškinti. | O84: 2 | P84: =+P83 -> 4 | Q84: =COUNTIFS($O$1:$O84,1) -> 13 | R84: =IF($O84=$R$1,IF($O84<>$O83, 1, R83+1),"") -> 3 | T84: =CONCATENATE($P84, ".", $Q84, IF($R84<>"", CONCATENATE(".", $R84), ""), ".") -> 4.13.3.
A85: =CONCATENATE($P85, ".", $Q85, IF($R85<>"", CONCATENATE(".", $R85), ""), ".") -> 4.13.4. | B85: Pajamos (kita veikla) | C85: Eur | E85: =ROUND(E83*E84,0) -> 0 | F85: =ROUND(F83*F84,0) -> 0 | G85: =ROUND(G83*G84,0) -> 0 | H85: =ROUND(H83*H84,0) -> 0 | I85: =ROUND(I83*I84,0) -> 0 | J85: =ROUND(J83*J84,0) -> 0 | K85: =ROUND(K83*K84,0) -> 0 | L85: =ROUND(L83*L84,0) -> 0 | O85: 2 | P85: =+P84 -> 4 | Q85: =COUNTIFS($O$1:$O85,1) -> 13 | R85: =IF($O85=$R$1,IF($O85<>$O84, 1, R84+1),"") -> 4 | T85: =CONCATENATE($P85, ".", $Q85, IF($R85<>"", CONCATENATE(".", $R85), ""), ".") -> 4.13.4.
A86: =CONCATENATE($P86, ".", $Q86, IF($R86<>"", CONCATENATE(".", $R86), ""), ".") -> 4.13.5. | B86: Parduoto kiekio ir pardavimo kainų pagrindimas | N86: Paaiškinimas rašomas tik tuo atveju, kai kainos ir (ar) pardavimo kiekiai keičiasi. | O86: 2 | P86: =+P85 -> 4 | Q86: =COUNTIFS($O$1:$O86,1) -> 13 | R86: =IF($O86=$R$1,IF($O86<>$O85, 1, R85+1),"") -> 5 | T86: =CONCATENATE($P86, ".", $Q86, IF($R86<>"", CONCATENATE(".", $R86), ""), ".") -> 4.13.5.

Sheet 5
A1: 5. | B1: INFORMACIJA APIE INVESTICIJAS IR JŲ APMOKĖJIMO ŠALTINIUS | H1: Pastabos | I1: Etapai | J1: Suma finansavimui
A3: 5.1 | B3: Investicijų apmokėjimo šaltiniai
B4: Šaltinis | C4: Suma, Eur
A5: 5.1.1. | B5: Pareiškėjo lėšos | C5: =SUMIFS(E:E,B:B,B5) -> 0
A6: 5.1.2. | B6: Grąžintinas PVM | C6: =SUMIFS(E:E,B:B,B6) -> 0
A7: 5.1.3. | B7: Paskola (lizingas) | C7: =SUMIFS(E:E,B:B,B7) -> 0
A8: 5.1.4. | B8: Paramos lėšos | C8: =SUMIFS(E:E,B:B,B8) -> 0
A9: 5.1.5. | B9: Iš viso | C9: =SUM(C5:C8) -> 0
A10: 5.1.6. | B10: Investicijų vertė su PVM | C10: =E19 -> 0
A11: 5.1.7. | B11: Prašomos paramos dydis | D11: =F19 -> 0 | E11: << Įvesta 5.2 lentelėje | H11: Prašomos paramos dydis turi sutapti su duomenimis paraiškoje.
A12: 5.1.8. | B12: Paramos išmokėjimo būdas | H12: =IF(OR(C12=Konstantos!$A$90,'5'!C12=""),"Pasirinkite paramos išmokėjimo būdą","ok") -> Pasirinkite paramos išmokėjimo būdą
A13: 5.1.9. | B13: =IFERROR(IF(SEARCH("*avans*",C12)=1, "Prašomo išmokėti avanso dalis, proc.",""),"") | H13: =IF(AND(B13="",C13<>0),"Ištrinkite duomenis",IF(AND(B13<>"",C13=0), _xlfn.CONCAT("Jei pasirinktas paramos išmokėjimo būdas 'Kompensavimas su avansu', būtina įvesti avanso dydį procentais. Avanso dydis negali būti didesnis kaip ",Parametrai!C27*100," proc. nuo paramos dydžio."),"ok")) -> ok
A14: 5.1.10. | B14: =IFERROR(IF(SEARCH("*avans*",C12)=1, "Paramos išmokėjimas avansu, Eur",""),"") | C14: =IF(B14<>"",C13*C11,0) -> 0
A15: 5.1.11. | B15: =IFERROR(IF(SEARCH("*avans*",C12)=1, "Planuojama avanso išmokėjimo data",""),"") | H15: =IF(AND(B15="",C15<>0),"Ištrinkite datą",IF(AND(B15<>"",C15=0),"Įveskite datą","ok")) -> ok
A17: 5.2 | B17: Investicijų įgyvendinimo ir paramos išmokėjimo planas
B18: Investicijos pavadinimas | C18: Etapo mokėjimo prašymo pateikimo data | D18: Investicijų suma be PVM, Eur | E18: Investicijų suma su PVM, Eur | F18: Paramos suma, Eur
B19: IŠ VISO | D19: =SUMIFS(D:D,$B:$B,"Iš viso investicijų*") -> 0 | E19: =SUMIFS(E:E,$B:$B,"Iš viso investicijų*") -> 0 | F19: =SUMIFS(F:F,$B:$B,"Paramos išmokėjimas*")+$C$14 -> 0 | H19: Kompensavimo su avansu atveju į paramos sumą įskaičiuojamas avansas.
A20: 5.2.1 | B20: I etapas | H20: =IF(AND(C20="",D26<>0),"Klaida! Įveskite etapo paramos išmokėjimo prašymo pateikimo datą","ok") -> ok
A21: 5.2.1.1
A22: 5.2.1.2
A23: 5.2.1.3
A24: 5.2.1.4
A25: 5.2.1.5
B26: Iš viso investicijų iki | C26: =IF(C20="","-",C20) -> - | D26: =SUM(D21:D25) -> 0 | E26: =SUM(E21:E25) -> 0
B27: Paramos išmokėjimas už I etapą, data ir suma | C27: =IF(C20="","-",EOMONTH(C20,Parametrai!$C$17)) -> - | F27: =IF($C$14+SUMIFS($F$17:$F19,$B$17:$B19,"Paramos išmokėjimas*")+SUM(F21:F25)<$C$11,SUM(F21:F25),IF($C$14+SUMIFS($F$17:$F19,$B$17:$B19,"Paramos išmokėjimas*")<=$C$11,$C$11-$C$14-SUMIFS($F$17:$F19,$B$17:$B19,"Paramos išmokėjimas*"),0)) -> 0 | I27: =OR(SUM(F21:F25)>0) -> FALSE
B28: Apmokėjimo šaltiniai
A29: 5.2.1.6 | B29: Pareiškėjo lėšos
A30: 5.2.1.7 | B30: Grąžintinas PVM
A31: 5.2.1.8 | B31: Paskola (lizingas)
A32: 5.2.1.9 | B32: Paramos lėšos | H32: =IF($C$12=Konstantos!$A$91, IF(J32<0, _xlfn.CONCAT("Klaida! Įvesta per didelė paramos sumą. Sumažinkite: ", J32, " Eur"), _xlfn.CONCAT("Paramos likutis etapo investicijų finansavimui: ", J32, " Eur")), IF($C$12=Konstantos!$A$93, IF(J32>=0, _xlfn.CONCAT("Paramos likutis etapo investicijų finansavimui: ", J32, " Eur"), _xlfn.CONCAT("Klaida! Įvedėte per didelį paramos dydį: ", J32, " Eur")), IF($C$12=Konstantos!$A$92, IF(F27<>E32, _xlfn.CONCAT("Klaida! Įveskite etapo paramos sumą: ", F27, " Eur"), "ok"), "Klaida! Pasirinkite paramos išmokėjimo būdą!"))) -> #NAME? | J32: =IF( OR( $C$12 = Konstantos!$A$91, $C$12 = Konstantos!$A$93 ), SUMIFS( $F$1:$F19, $B$1:$B19, "Paramos išmokėjimas*" ) + $C$14 - SUMIFS( $E$1:$E32, $B$1:$B32, "Paramos lėšos" ), IF( $C$12 = Konstantos!$A$92, $F27, "-" ) ) -> #NAME?
B33: Iš viso finansavimo šaltinių | E33: =SUM(E29:E32) -> 0
A34: 5.2.2 | B34: II etapas | H34: =IF(AND(C34="",D40<>0),"Klaida! Įveskite etapo paramos išmokėjimo prašymo pateikimo datą","ok") -> ok
A35: 5.2.2.1
A36: 5.2.2.2
A37: 5.2.2.3
A38: 5.2.2.4
A39: 5.2.2.5
B40: Iš viso investicijų iki | C40: =IF(C34="","-",C34) -> - | D40: =SUM(D35:D39) -> 0 | E40: =SUM(E35:E39) -> 0
B41: Paramos išmokėjimas už II etapą, data ir suma | C41: =IF(C34="","-",EOMONTH(C34,Parametrai!$C$17)) -> - | F41: =IF($C$14+SUMIFS($F$17:$F33,$B$17:$B33,"Paramos išmokėjimas*")+SUM(F35:F39)<$C$11,SUM(F35:F39),IF($C$14+SUMIFS($F$17:$F33,$B$17:$B33,"Paramos išmokėjimas*")<=$C$11,$C$11-$C$14-SUMIFS($F$17:$F33,$B$17:$B33,"Paramos išmokėjimas*"),0)) -> 0 | I41: =OR(SUM(F35:F39)>0) -> FALSE
B42: Apmokėjimo šaltiniai
A43: 5.2.2.6 | B43: Pareiškėjo lėšos
A44: 5.2.2.7 | B44: Grąžintinas PVM
A45: 5.2.2.8 | B45: Paskola (lizingas)
A46: 5.2.2.9 | B46: Paramos lėšos | H46: =IF($C$12=Konstantos!$A$91, IF(J46<0, _xlfn.CONCAT("Klaida! Įvesta per didelė paramos sumą. Sumažinkite: ", J46, " Eur"), _xlfn.CONCAT("Paramos likutis etapo investicijų finansavimui: ", J46, " Eur")), IF($C$12=Konstantos!$A$93, IF(J46>=0, _xlfn.CONCAT("Paramos likutis etapo investicijų finansavimui: ", J46, " Eur"), _xlfn.CONCAT("Klaida! Įvedėte per didelį paramos dydį: ", J46, " Eur")), IF($C$12=Konstantos!$A$92, IF(F41<>E46, _xlfn.CONCAT("Klaida! Įveskite etapo paramos sumą: ", F41, " Eur"), "ok"), "Klaida! Pasirinkite paramos išmokėjimo būdą!"))) -> #NAME? | J46: =IF( OR( $C$12 = Konstantos!$A$91, $C$12 = Konstantos!$A$93 ), SUMIFS( $F$1:$F33, $B$1:$B33, "Paramos išmokėjimas*" ) + $C$14 - SUMIFS( $E$1:$E46, $B$1:$B46, "Paramos lėšos" ), IF( $C$12 = Konstantos!$A$92, $F41, "-" ) ) -> #NAME?
B47: Iš viso finansavimo šaltinių | E47: =SUM(E43:E46) -> 0
A48: 5.2.3 | B48: III etapas | H48: =IF(AND(C48="",D54<>0),"Klaida! Įveskite etapo paramos išmokėjimo prašymo pateikimo datą","ok") -> ok
A49: 5.2.3.1
A50: 5.2.3.2
A51: 5.2.3.3
A52: 5.2.3.4
A53: 5.2.3.5
B54: Iš viso investicijų iki | C54: =IF(C48="","-",C48) -> - | D54: =SUM(D49:D53) -> 0 | E54: =SUM(E49:E53) -> 0
B55: Paramos išmokėjimas už III etapą, data ir suma | C55: =IF(C48="","-",EOMONTH(C48,Parametrai!$C$17)) -> - | F55: =IF($C$14+SUMIFS($F$17:$F47,$B$17:$B47,"Paramos išmokėjimas*")+SUM(F49:F53)<$C$11,SUM(F49:F53),IF($C$14+SUMIFS($F$17:$F47,$B$17:$B47,"Paramos išmokėjimas*")<=$C$11,$C$11-$C$14-SUMIFS($F$17:$F47,$B$17:$B47,"Paramos išmokėjimas*"),0)) -> 0 | I55: =OR(SUM(F49:F53)>0) -> FALSE
B56: Apmokėjimo šaltiniai
A57: 5.2.3.6 | B57: Pareiškėjo lėšos
A58: 5.2.3.7 | B58: Grąžintinas PVM
A59: 5.2.3.8 | B59: Paskola (lizingas)
A60: 5.2.3.9 | B60: Paramos lėšos | H60: =IF($C$12=Konstantos!$A$91, IF(J60<0, _xlfn.CONCAT("Klaida! Įvesta per didelė paramos sumą. Sumažinkite: ", J60, " Eur"), _xlfn.CONCAT("Paramos likutis etapo investicijų finansavimui: ", J60, " Eur")), IF($C$12=Konstantos!$A$93, IF(J60>=0, _xlfn.CONCAT("Paramos likutis etapo investicijų finansavimui: ", J60, " Eur"), _xlfn.CONCAT("Klaida! Įvedėte per didelį paramos dydį: ", J60, " Eur")), IF($C$12=Konstantos!$A$92, IF(F55<>E60, _xlfn.CONCAT("Klaida! Įveskite etapo paramos sumą: ", F55, " Eur"), "ok"), "Klaida! Pasirinkite paramos išmokėjimo būdą!"))) -> #NAME? | J60: =IF( OR( $C$12 = Konstantos!$A$91, $C$12 = Konstantos!$A$93 ), SUMIFS( $F$1:$F47, $B$1:$B47, "Paramos išmokėjimas*" ) + $C$14 - SUMIFS( $E$1:$E60, $B$1:$B60, "Paramos lėšos" ), IF( $C$12 = Konstantos!$A$92, $F55, "-" ) ) -> #NAME?
B61: Iš viso finansavimo šaltinių | E61: =SUM(E57:E60) -> 0
A62: 5.2.4 | B62: IV etapas | H62: =IF(AND(C62="",D68<>0),"Klaida! Įveskite etapo paramos išmokėjimo prašymo pateikimo datą","ok") -> ok
A63: 5.2.4.1
A64: 5.2.4.2
A65: 5.2.4.3
A66: 5.2.4.4
A67: 5.2.4.5
B68: Iš viso investicijų iki | C68: =IF(C62="","-",C62) -> - | D68: =SUM(D63:D67) -> 0 | E68: =SUM(E63:E67) -> 0
B69: Paramos išmokėjimas už IV etapą, data ir suma | C69: =IF(C62="","-",EOMONTH(C62,Parametrai!$C$17)) -> - | F69: =IF($C$14+SUMIFS($F$17:$F61,$B$17:$B61,"Paramos išmokėjimas*")+SUM(F63:F67)<$C$11,SUM(F63:F67),IF($C$14+SUMIFS($F$17:$F61,$B$17:$B61,"Paramos išmokėjimas*")<=$C$11,$C$11-$C$14-SUMIFS($F$17:$F61,$B$17:$B61,"Paramos išmokėjimas*"),0)) -> 0 | I69: =OR(SUM(F63:F67)>0) -> FALSE
B70: Apmokėjimo šaltiniai
A71: 5.2.4.6 | B71: Pareiškėjo lėšos
A72: 5.2.4.7 | B72: Grąžintinas PVM
A73: 5.2.4.8 | B73: Paskola (lizingas)
A74: 5.2.4.9 | B74: Paramos lėšos | H74: =IF($C$12=Konstantos!$A$91, IF(J74<0, _xlfn.CONCAT("Klaida! Įvesta per didelė paramos sumą. Sumažinkite: ", J74, " Eur"), _xlfn.CONCAT("Paramos likutis etapo investicijų finansavimui: ", J74, " Eur")), IF($C$12=Konstantos!$A$93, IF(J74>=0, _xlfn.CONCAT("Paramos likutis etapo investicijų finansavimui: ", J74, " Eur"), _xlfn.CONCAT("Klaida! Įvedėte per didelį paramos dydį: ", J74, " Eur")), IF($C$12=Konstantos!$A$92, IF(F69<>E74, _xlfn.CONCAT("Klaida! Įveskite etapo paramos sumą: ", F69, " Eur"), "ok"), "Klaida! Pasirinkite paramos išmokėjimo būdą!"))) -> #NAME? | J74: =IF( OR( $C$12 = Konstantos!$A$91, $C$12 = Konstantos!$A$93 ), SUMIFS( $F$1:$F61, $B$1:$B61, "Paramos išmokėjimas*" ) + $C$14 - SUMIFS( $E$1:$E74, $B$1:$B74, "Paramos lėšos" ), IF( $C$12 = Konstantos!$A$92, $F69, "-" ) ) -> #NAME?
B75: Iš viso finansavimo šaltinių | E75: =SUM(E71:E74) -> 0
A76: 5.2.5 | B76: V etapas | H76: =IF(AND(C76="",D82<>0),"Klaida! Įveskite etapo paramos išmokėjimo prašymo pateikimo datą","ok") -> ok
A77: 5.2.5.1
A78: 5.2.5.2
A79: 5.2.5.3
A80: 5.2.5.4
A81: 5.2.5.5
B82: Iš viso investicijų iki | C82: =IF(C76="","-",C76) -> - | D82: =SUM(D77:D81) -> 0 | E82: =SUM(E77:E81) -> 0
B83: Paramos išmokėjimas už IV etapą, data ir suma | C83: =IF(C76="","-",EOMONTH(C76,Parametrai!$C$17)) -> - | F83: =IF($C$14+SUMIFS($F$17:$F75,$B$17:$B75,"Paramos išmokėjimas*")+SUM(F77:F81)<$C$11,SUM(F77:F81),IF($C$14+SUMIFS($F$17:$F75,$B$17:$B75,"Paramos išmokėjimas*")<=$C$11,$C$11-$C$14-SUMIFS($F$17:$F75,$B$17:$B75,"Paramos išmokėjimas*"),0)) -> 0 | I83: =OR(SUM(F77:F81)>0) -> FALSE
B84: Apmokėjimo šaltiniai
A85: 5.2.5.6 | B85: Pareiškėjo lėšos
A86: 5.2.5.7 | B86: Grąžintinas PVM
A87: 5.2.5.8 | B87: Paskola (lizingas)
A88: 5.2.5.9 | B88: Paramos lėšos | H88: =IF($C$12=Konstantos!$A$91, IF(J88<0, _xlfn.CONCAT("Klaida! Įvesta per didelė paramos sumą. Sumažinkite: ", J88, " Eur"), _xlfn.CONCAT("Paramos likutis etapo investicijų finansavimui: ", J88, " Eur")), IF($C$12=Konstantos!$A$93, IF(J88>=0, _xlfn.CONCAT("Paramos likutis etapo investicijų finansavimui: ", J88, " Eur"), _xlfn.CONCAT("Klaida! Įvedėte per didelį paramos dydį: ", J88, " Eur")), IF($C$12=Konstantos!$A$92, IF(F83<>E88, _xlfn.CONCAT("Klaida! Įveskite etapo paramos sumą: ", F83, " Eur"), "ok"), "Klaida! Pasirinkite paramos išmokėjimo būdą!"))) -> #NAME? | J88: =IF( OR( $C$12 = Konstantos!$A$91, $C$12 = Konstantos!$A$93 ), SUMIFS( $F$1:$F75, $B$1:$B75, "Paramos išmokėjimas*" ) + $C$14 - SUMIFS( $E$1:$E88, $B$1:$B88, "Paramos lėšos" ), IF( $C$12 = Konstantos!$A$92, $F83, "-" ) ) -> #NAME?
B89: Iš viso finansavimo šaltinių | E89: =SUM(E85:E88) -> 0

Sheet 6
B1: 6. | C1: INFORMACIJA APIE ILGALAIKĮ TURTĄ, EUR | N1: Pastabos
C2: Sutikrinimas su 5 skyriuje nurodytais įsigijimais | D2: =D62-SUMIFS('5'!$D:$D,'5'!$C:$C,">="&DATE('6'!D$4,1,1),'5'!$C:$C,"<="&DATE('6'!D$4,12,31)) -> 0 | E2: =E62-SUMIFS('5'!$D:$D,'5'!$C:$C,">="&DATE('6'!E$4,1,1),'5'!$C:$C,"<="&DATE('6'!E$4,12,31)) -> 0 | N2: =IF(COUNTIFS($D$2:$L$2,"<0")>0,"Klaida! Tikrinkite, investicijų suma įvesta 5 skyriuje yra didesnė už įsigijimus šiame skyriuje","ok") -> ok
B3: Eil. Nr. | C3: Straipsnis | D3: =IF(AND('1'!$C$22="Verslo pradžia",YEAR('1'!$E$22)=YEAR('1'!$C$11)),"Pradžios metai","Ataskaitiniai metai") -> Ataskaitiniai metai | E3: Prognoziniai metai | N3: =IF(COUNTIFS($D$2:$L$2,">0")>0,"Dėmesio! Įsitikinkite, ar tikrai investicijų suma įvesta 5 skyriuje turi būti mažesnė už įsigijimų vertę šiame skyriuje","ok") -> ok
D4: =IF(D3="Pradžios metai",YEAR('1'!$E$22),IF((YEAR('1'!$C$11)-1)+COUNT($C4:C4)>YEAR('1'!$C$18)+Parametrai!$C$15,"-",(YEAR('1'!$C$11)-1)+COUNT($C4:C4))) -> 1899 | E4: =IF(E3="Pradžios metai",YEAR('1'!$E$22),IF((YEAR('1'!$C$11)-1)+COUNT($C4:D4)>YEAR('1'!$C$18)+Parametrai!$C$15,"-",(YEAR('1'!$C$11)-1)+COUNT($C4:D4))) -> 1900 | F4: =IF(F3="Pradžios metai",YEAR('1'!$E$22),IF((YEAR('1'!$C$11)-1)+COUNT($C4:E4)>YEAR('1'!$C$18)+Parametrai!$C$15,"-",(YEAR('1'!$C$11)-1)+COUNT($C4:E4))) -> 1901 | G4: =IF(G3="Pradžios metai",YEAR('1'!$E$22),IF((YEAR('1'!$C$11)-1)+COUNT($C4:F4)>YEAR('1'!$C$18)+Parametrai!$C$15,"-",(YEAR('1'!$C$11)-1)+COUNT($C4:F4))) -> 1902 | H4: =IF(H3="Pradžios metai",YEAR('1'!$E$22),IF((YEAR('1'!$C$11)-1)+COUNT($C4:G4)>YEAR('1'!$C$18)+Parametrai!$C$15,"-",(YEAR('1'!$C$11)-1)+COUNT($C4:G4))) -> 1903 | I4: =IF(I3="Pradžios metai",YEAR('1'!$E$22),IF((YEAR('1'!$C$11)-1)+COUNT($C4:H4)>YEAR('1'!$C$18)+Parametrai!$C$15,"-",(YEAR('1'!$C$11)-1)+COUNT($C4:H4))) -> - | J4: =IF(J3="Pradžios metai",YEAR('1'!$E$22),IF((YEAR('1'!$C$11)-1)+COUNT($C4:I4)>YEAR('1'!$C$18)+Parametrai!$C$15,"-",(YEAR('1'!$C$11)-1)+COUNT($C4:I4))) -> - | K4: =IF(K3="Pradžios metai",YEAR('1'!$E$22),IF((YEAR('1'!$C$11)-1)+COUNT($C4:J4)>YEAR('1'!$C$18)+Parametrai!$C$15,"-",(YEAR('1'!$C$11)-1)+COUNT($C4:J4))) -> - | L4: =IF(L3="Pradžios metai",YEAR('1'!$E$22),IF((YEAR('1'!$C$11)-1)+COUNT($C4:K4)>YEAR('1'!$C$18)+Parametrai!$C$15,"-",(YEAR('1'!$C$11)-1)+COUNT($C4:K4))) -> -
B5: 6.1. | C5: Žemė | N5: Nurodoma žemės vertė, įskaitant mišką.
B6: 6.1.1. | C6: Turto vertė metų pradžioje | E6: =D9 -> 0 | F6: =E9 -> 0 | G6: =F9 -> 0 | H6: =G9 -> 0 | I6: =H9 -> 0 | J6: =I9 -> 0 | K6: =J9 -> 0 | L6: =K9 -> 0
B7: 6.1.2. | C7: Įsigyta per metus
B8: 6.1.3. | C8: Parduota per metus
B9: 6.1.4. | C9: Turto likutinė vertė metų pabaigoje | D9: =SUM(D6,D7)-D8 -> 0 | E9: =SUM(E6,E7)-E8 -> 0 | F9: =SUM(F6,F7)-F8 -> 0 | G9: =SUM(G6,G7)-G8 -> 0 | H9: =SUM(H6,H7)-H8 -> 0 | I9: =SUM(I6,I7)-I8 -> 0 | J9: =SUM(J6,J7)-J8 -> 0 | K9: =SUM(K6,K7)-K8 -> 0 | L9: =SUM(L6,L7)-L8 -> 0
B10: 6.2. | C10: Pastatai ir statiniai | N10: Nurodoma vertė, įskaitant sumokėtus avansus ir vykdomus materialiojo turto statybos (gamybos) darbus
B11: 6.3.1. | C11: Turto pradinė vertė metų pradžioje | E11: =D14 -> 0 | F11: =E14 -> 0 | G11: =F14 -> 0 | H11: =G14 -> 0 | I11: =H14 -> 0 | J11: =I14 -> 0 | K11: =J14 -> 0 | L11: =K14 -> 0
B12: 6.3.2. | C12: Įsigyta per metus
B13: 6.3.3. | C13: Pardavimai, nurašymai per metus
B14: 6.3.4. | C14: Turto pradinė vertė metų pabaigoje | D14: =+D11+D12-D13 -> 0 | E14: =+E11+E12-E13 -> 0 | F14: =+F11+F12-F13 -> 0 | G14: =+G11+G12-G13 -> 0 | H14: =+H11+H12-H13 -> 0 | I14: =+I11+I12-I13 -> 0 | J14: =+J11+J12-J13 -> 0 | K14: =+K11+K12-K13 -> 0 | L14: =+L11+L12-L13 -> 0
B15: 6.3.5. | C15: Sukauptas nusidėvėjimas metų pradžioje | E15: =+D18 -> 0 | F15: =+E18 -> 0 | G15: =+F18 -> 0 | H15: =+G18 -> 0 | I15: =+H18 -> 0 | J15: =+I18 -> 0 | K15: =+J18 -> 0 | L15: =+K18 -> 0
B16: 6.3.6. | C16: Priskaičiuota
B17: 6.3.7. | C17: Nurašyto turto nusidėvėjimas
B18: 6.3.8. | C18: Sukauptas nusidėvėjimas metų pabaigoje | D18: =SUM(D15:D17) -> 0 | E18: =SUM(E15:E17) -> 0 | F18: =SUM(F15:F17) -> 0 | G18: =SUM(G15:G17) -> 0 | H18: =SUM(H15:H17) -> 0 | I18: =SUM(I15:I17) -> 0 | J18: =SUM(J15:J17) -> 0 | K18: =SUM(K15:K17) -> 0 | L18: =SUM(L15:L17) -> 0
B19: 6.3.9. | C19: Turto likutinė vertė metų pabaigoje | D19: =+D14-D18 -> 0 | E19: =+E14-E18 -> 0 | F19: =+F14-F18 -> 0 | G19: =+G14-G18 -> 0 | H19: =+H14-H18 -> 0 | I19: =+I14-I18 -> 0 | J19: =+J14-J18 -> 0 | K19: =+K14-K18 -> 0 | L19: =+L14-L18 -> 0
B20: 6.3. | C20: Mašinos ir įrengimai
B21: 6.3.1. | C21: Turto pradinė vertė metų pradžioje | E21: =D24 -> 0 | F21: =E24 -> 0 | G21: =F24 -> 0 | H21: =G24 -> 0 | I21: =H24 -> 0 | J21: =I24 -> 0 | K21: =J24 -> 0 | L21: =K24 -> 0
B22: 6.3.2. | C22: Įsigyta per metus
B23: 6.3.3. | C23: Pardavimai, nurašymai per metus
B24: 6.3.4. | C24: Turto pradinė vertė metų pabaigoje | D24: =+D21+D22-D23 -> 0 | E24: =+E21+E22-E23 -> 0 | F24: =+F21+F22-F23 -> 0 | G24: =+G21+G22-G23 -> 0 | H24: =+H21+H22-H23 -> 0 | I24: =+I21+I22-I23 -> 0 | J24: =+J21+J22-J23 -> 0 | K24: =+K21+K22-K23 -> 0 | L24: =+L21+L22-L23 -> 0
B25: 6.3.5. | C25: Sukauptas nusidėvėjimas metų pradžioje | E25: =D28 -> 0 | F25: =E28 -> 0 | G25: =F28 -> 0 | H25: =G28 -> 0 | I25: =H28 -> 0 | J25: =I28 -> 0 | K25: =J28 -> 0 | L25: =K28 -> 0
B26: 6.3.6. | C26: Priskaičiuota
B27: 6.3.7. | C27: Nurašyto turto nusidėvėjimas
B28: 6.3.8. | C28: Sukauptas nusidėvėjimas metų pabaigoje | D28: =SUM(D25:D27) -> 0 | E28: =SUM(E25:E27) -> 0 | F28: =SUM(F25:F27) -> 0 | G28: =SUM(G25:G27) -> 0 | H28: =SUM(H25:H27) -> 0 | I28: =SUM(I25:I27) -> 0 | J28: =SUM(J25:J27) -> 0 | K28: =SUM(K25:K27) -> 0 | L28: =SUM(L25:L27) -> 0
B29: 6.3.9. | C29: Turto likutinė vertė metų pabaigoje | D29: =+D24-D28 -> 0 | E29: =+E24-E28 -> 0 | F29: =+F24-F28 -> 0 | G29: =+G24-G28 -> 0 | H29: =+H24-H28 -> 0 | I29: =+I24-I28 -> 0 | J29: =+J24-J28 -> 0 | K29: =+K24-K28 -> 0 | L29: =+L24-L28 -> 0
B30: 6.4. | C30: Transporto priemonės
B31: 6.4.1. | C31: Turto pradinė vertė metų pradžioje | E31: =D34 -> 0 | F31: =E34 -> 0 | G31: =F34 -> 0 | H31: =G34 -> 0 | I31: =H34 -> 0 | J31: =I34 -> 0 | K31: =J34 -> 0 | L31: =K34 -> 0
B32: 6.4.2. | C32: Įsigyta per metus
B33: 6.4.3. | C33: Pardavimai, nurašymai per metus
B34: 6.4.4. | C34: Turto pradinė vertė metų pabaigoje | D34: =+D31+D32-D33 -> 0 | E34: =+E31+E32-E33 -> 0 | F34: =+F31+F32-F33 -> 0 | G34: =+G31+G32-G33 -> 0 | H34: =+H31+H32-H33 -> 0 | I34: =+I31+I32-I33 -> 0 | J34: =+J31+J32-J33 -> 0 | K34: =+K31+K32-K33 -> 0 | L34: =+L31+L32-L33 -> 0
B35: 6.4.5. | C35: Sukauptas nusidėvėjimas metų pradžioje | E35: =D38 -> 0 | F35: =E38 -> 0 | G35: =F38 -> 0 | H35: =G38 -> 0 | I35: =H38 -> 0 | J35: =I38 -> 0 | K35: =J38 -> 0 | L35: =K38 -> 0
B36: 6.4.6. | C36: Priskaičiuota
B37: 6.4.7. | C37: Nurašyto turto nusidėvėjimas
B38: 6.4.8. | C38: Sukauptas nusidėvėjimas metų pabaigoje | D38: =SUM(D35:D37) -> 0 | E38: =SUM(E35:E37) -> 0 | F38: =SUM(F35:F37) -> 0 | G38: =SUM(G35:G37) -> 0 | H38: =SUM(H35:H37) -> 0 | I38: =SUM(I35:I37) -> 0 | J38: =SUM(J35:J37) -> 0 | K38: =SUM(K35:K37) -> 0 | L38: =SUM(L35:L37) -> 0
B39: 6.4.9. | C39: Turto likutinė vertė metų pabaigoje | D39: =+D34-D38 -> 0 | E39: =+E34-E38 -> 0 | F39: =+F34-F38 -> 0 | G39: =+G34-G38 -> 0 | H39: =+H34-H38 -> 0 | I39: =+I34-I38 -> 0 | J39: =+J34-J38 -> 0 | K39: =+K34-K38 -> 0 | L39: =+L34-L38 -> 0
B40: 6.5. | C40: Kiti įrenginiai, prietaisai ir įrankiai
B41: 6.5.1. | C41: Turto pradinė vertė metų pradžioje | E41: =D44 -> 0 | F41: =E44 -> 0 | G41: =F44 -> 0 | H41: =G44 -> 0 | I41: =H44 -> 0 | J41: =I44 -> 0 | K41: =J44 -> 0 | L41: =K44 -> 0
B42: 6.5.2. | C42: Įsigyta per metus
B43: 6.5.3. | C43: Pardavimai, nurašymai per metus
B44: 6.5.4. | C44: Turto pradinė vertė metų pabaigoje | D44: =+D41+D42-D43 -> 0 | E44: =+E41+E42-E43 -> 0 | F44: =+F41+F42-F43 -> 0 | G44: =+G41+G42-G43 -> 0 | H44: =+H41+H42-H43 -> 0 | I44: =+I41+I42-I43 -> 0 | J44: =+J41+J42-J43 -> 0 | K44: =+K41+K42-K43 -> 0 | L44: =+L41+L42-L43 -> 0
B45: 6.5.5. | C45: Sukauptas nusidėvėjimas metų pradžioje | E45: =D48 -> 0 | F45: =E48 -> 0 | G45: =F48 -> 0 | H45: =G48 -> 0 | I45: =H48 -> 0 | J45: =I48 -> 0 | K45: =J48 -> 0 | L45: =K48 -> 0
B46: 6.5.6. | C46: Priskaičiuota
B47: 6.5.7. | C47: Nurašyto turto nusidėvėjimas
B48: 6.5.8. | C48: Sukauptas nusidėvėjimas metų pabaigoje | D48: =SUM(D45:D47) -> 0 | E48: =SUM(E45:E47) -> 0 | F48: =SUM(F45:F47) -> 0 | G48: =SUM(G45:G47) -> 0 | H48: =SUM(H45:H47) -> 0 | I48: =SUM(I45:I47) -> 0 | J48: =SUM(J45:J47) -> 0 | K48: =SUM(K45:K47) -> 0 | L48: =SUM(L45:L47) -> 0
B49: 6.5.9. | C49: Turto likutinė vertė metų pabaigoje | D49: =+D44-D48 -> 0 | E49: =+E44-E48 -> 0 | F49: =+F44-F48 -> 0 | G49: =+G44-G48 -> 0 | H49: =+H44-H48 -> 0 | I49: =+I44-I48 -> 0 | J49: =+J44-J48 -> 0 | K49: =+K44-K48 -> 0 | L49: =+L44-L48 -> 0
B50: 6.6. | C50: Nematerialusis turtas
B51: 6.6.1. | C51: Turto pradinė vertė metų pradžioje | E51: =D54 -> 0 | F51: =E54 -> 0 | G51: =F54 -> 0 | H51: =G54 -> 0 | I51: =H54 -> 0 | J51: =I54 -> 0 | K51: =J54 -> 0 | L51: =K54 -> 0
B52: 6.6.2. | C52: Įsigyta per metus
B53: 6.6.3. | C53: Pardavimai, nurašymai per metus
B54: 6.6.4. | C54: Turto pradinė vertė metų pabaigoje | D54: =+D51+D52-D53 -> 0 | E54: =+E51+E52-E53 -> 0 | F54: =+F51+F52-F53 -> 0 | G54: =+G51+G52-G53 -> 0 | H54: =+H51+H52-H53 -> 0 | I54: =+I51+I52-I53 -> 0 | J54: =+J51+J52-J53 -> 0 | K54: =+K51+K52-K53 -> 0 | L54: =+L51+L52-L53 -> 0
B55: 6.6.5. | C55: Sukauptas nusidėvėjimas metų pradžioje | E55: =D58 -> 0 | F55: =E58 -> 0 | G55: =F58 -> 0 | H55: =G58 -> 0 | I55: =H58 -> 0 | J55: =I58 -> 0 | K55: =J58 -> 0 | L55: =K58 -> 0
B56: 6.6.6. | C56: Priskaičiuota
B57: 6.6.7. | C57: Nurašyto turto nusidėvėjimas
B58: 6.6.8. | C58: Sukauptas nusidėvėjimas metų pabaigoje | D58: =SUM(D55:D57) -> 0 | E58: =SUM(E55:E57) -> 0 | F58: =SUM(F55:F57) -> 0 | G58: =SUM(G55:G57) -> 0 | H58: =SUM(H55:H57) -> 0 | I58: =SUM(I55:I57) -> 0 | J58: =SUM(J55:J57) -> 0 | K58: =SUM(K55:K57) -> 0 | L58: =SUM(L55:L57) -> 0
B59: 6.6.9. | C59: Turto likutinė vertė metų pabaigoje | D59: =+D54-D58 -> 0 | E59: =+E54-E58 -> 0 | F59: =+F54-F58 -> 0 | G59: =+G54-G58 -> 0 | H59: =+H54-H58 -> 0 | I59: =+I54-I58 -> 0 | J59: =+J54-J58 -> 0 | K59: =+K54-K58 -> 0 | L59: =+L54-L58 -> 0
B60: 6.7. | C60: IŠ VISO TURTO
B61: 6.7.1. | C61: Turto pradinė vertė metų pradžioje | D61: =SUMIFS(D$5:D$59,$C$5:$C$59,$C61) -> 0 | E61: =SUMIFS(E$5:E$59,$C$5:$C$59,$C61) -> 0 | F61: =SUMIFS(F$5:F$59,$C$5:$C$59,$C61) -> 0 | G61: =SUMIFS(G$5:G$59,$C$5:$C$59,$C61) -> 0 | H61: =SUMIFS(H$5:H$59,$C$5:$C$59,$C61) -> 0 | I61: =SUMIFS(I$5:I$59,$C$5:$C$59,$C61) -> 0 | J61: =SUMIFS(J$5:J$59,$C$5:$C$59,$C61) -> 0 | K61: =SUMIFS(K$5:K$59,$C$5:$C$59,$C61) -> 0 | L61: =SUMIFS(L$5:L$59,$C$5:$C$59,$C61) -> 0
B62: 6.7.2. | C62: Įsigyta per metus | D62: =SUMIFS(D$5:D$59,$C$5:$C$59,$C62) -> 0 | E62: =SUMIFS(E$5:E$59,$C$5:$C$59,$C62) -> 0 | F62: =SUMIFS(F$5:F$59,$C$5:$C$59,$C62) -> 0 | G62: =SUMIFS(G$5:G$59,$C$5:$C$59,$C62) -> 0 | H62: =SUMIFS(H$5:H$59,$C$5:$C$59,$C62) -> 0 | I62: =SUMIFS(I$5:I$59,$C$5:$C$59,$C62) -> 0 | J62: =SUMIFS(J$5:J$59,$C$5:$C$59,$C62) -> 0 | K62: =SUMIFS(K$5:K$59,$C$5:$C$59,$C62) -> 0 | L62: =SUMIFS(L$5:L$59,$C$5:$C$59,$C62) -> 0
B63: 6.7.3. | C63: Pardavimai, nurašymai per metus | D63: =SUMIFS(D$5:D$59,$C$5:$C$59,$C63) -> 0 | E63: =SUMIFS(E$5:E$59,$C$5:$C$59,$C63) -> 0 | F63: =SUMIFS(F$5:F$59,$C$5:$C$59,$C63) -> 0 | G63: =SUMIFS(G$5:G$59,$C$5:$C$59,$C63) -> 0 | H63: =SUMIFS(H$5:H$59,$C$5:$C$59,$C63) -> 0 | I63: =SUMIFS(I$5:I$59,$C$5:$C$59,$C63) -> 0 | J63: =SUMIFS(J$5:J$59,$C$5:$C$59,$C63) -> 0 | K63: =SUMIFS(K$5:K$59,$C$5:$C$59,$C63) -> 0 | L63: =SUMIFS(L$5:L$59,$C$5:$C$59,$C63) -> 0
B64: 6.7.4. | C64: Turto pradinė vertė metų pabaigoje | D64: =SUMIFS(D$5:D$59,$C$5:$C$59,$C64) -> 0 | E64: =SUMIFS(E$5:E$59,$C$5:$C$59,$C64) -> 0 | F64: =SUMIFS(F$5:F$59,$C$5:$C$59,$C64) -> 0 | G64: =SUMIFS(G$5:G$59,$C$5:$C$59,$C64) -> 0 | H64: =SUMIFS(H$5:H$59,$C$5:$C$59,$C64) -> 0 | I64: =SUMIFS(I$5:I$59,$C$5:$C$59,$C64) -> 0 | J64: =SUMIFS(J$5:J$59,$C$5:$C$59,$C64) -> 0 | K64: =SUMIFS(K$5:K$59,$C$5:$C$59,$C64) -> 0 | L64: =SUMIFS(L$5:L$59,$C$5:$C$59,$C64) -> 0
B65: 6.7.5. | C65: Sukauptas nusidėvėjimas metų pradžioje | D65: =SUMIFS(D$5:D$59,$C$5:$C$59,$C65) -> 0 | E65: =SUMIFS(E$5:E$59,$C$5:$C$59,$C65) -> 0 | F65: =SUMIFS(F$5:F$59,$C$5:$C$59,$C65) -> 0 | G65: =SUMIFS(G$5:G$59,$C$5:$C$59,$C65) -> 0 | H65: =SUMIFS(H$5:H$59,$C$5:$C$59,$C65) -> 0 | I65: =SUMIFS(I$5:I$59,$C$5:$C$59,$C65) -> 0 | J65: =SUMIFS(J$5:J$59,$C$5:$C$59,$C65) -> 0 | K65: =SUMIFS(K$5:K$59,$C$5:$C$59,$C65) -> 0 | L65: =SUMIFS(L$5:L$59,$C$5:$C$59,$C65) -> 0
B66: 6.7.6. | C66: Priskaičiuota | D66: =SUMIFS(D$5:D$59,$C$5:$C$59,$C66) -> 0 | E66: =SUMIFS(E$5:E$59,$C$5:$C$59,$C66) -> 0 | F66: =SUMIFS(F$5:F$59,$C$5:$C$59,$C66) -> 0 | G66: =SUMIFS(G$5:G$59,$C$5:$C$59,$C66) -> 0 | H66: =SUMIFS(H$5:H$59,$C$5:$C$59,$C66) -> 0 | I66: =SUMIFS(I$5:I$59,$C$5:$C$59,$C66) -> 0 | J66: =SUMIFS(J$5:J$59,$C$5:$C$59,$C66) -> 0 | K66: =SUMIFS(K$5:K$59,$C$5:$C$59,$C66) -> 0 | L66: =SUMIFS(L$5:L$59,$C$5:$C$59,$C66) -> 0
B67: 6.7.7. | C67: Nurašyto turto nusidėvėjimas | D67: =SUMIFS(D$5:D$59,$C$5:$C$59,$C67) -> 0 | E67: =SUMIFS(E$5:E$59,$C$5:$C$59,$C67) -> 0 | F67: =SUMIFS(F$5:F$59,$C$5:$C$59,$C67) -> 0 | G67: =SUMIFS(G$5:G$59,$C$5:$C$59,$C67) -> 0 | H67: =SUMIFS(H$5:H$59,$C$5:$C$59,$C67) -> 0 | I67: =SUMIFS(I$5:I$59,$C$5:$C$59,$C67) -> 0 | J67: =SUMIFS(J$5:J$59,$C$5:$C$59,$C67) -> 0 | K67: =SUMIFS(K$5:K$59,$C$5:$C$59,$C67) -> 0 | L67: =SUMIFS(L$5:L$59,$C$5:$C$59,$C67) -> 0
B68: 6.7.8. | C68: Sukauptas nusidėvėjimas metų pabaigoje | D68: =SUMIFS(D$5:D$59,$C$5:$C$59,$C68) -> 0 | E68: =SUMIFS(E$5:E$59,$C$5:$C$59,$C68) -> 0 | F68: =SUMIFS(F$5:F$59,$C$5:$C$59,$C68) -> 0 | G68: =SUMIFS(G$5:G$59,$C$5:$C$59,$C68) -> 0 | H68: =SUMIFS(H$5:H$59,$C$5:$C$59,$C68) -> 0 | I68: =SUMIFS(I$5:I$59,$C$5:$C$59,$C68) -> 0 | J68: =SUMIFS(J$5:J$59,$C$5:$C$59,$C68) -> 0 | K68: =SUMIFS(K$5:K$59,$C$5:$C$59,$C68) -> 0 | L68: =SUMIFS(L$5:L$59,$C$5:$C$59,$C68) -> 0
B69: 6.7.9. | C69: Turto likutinė vertė metų pabaigoje | D69: =SUMIFS(D$5:D$59,$C$5:$C$59,$C69) -> 0 | E69: =SUMIFS(E$5:E$59,$C$5:$C$59,$C69) -> 0 | F69: =SUMIFS(F$5:F$59,$C$5:$C$59,$C69) -> 0 | G69: =SUMIFS(G$5:G$59,$C$5:$C$59,$C69) -> 0 | H69: =SUMIFS(H$5:H$59,$C$5:$C$59,$C69) -> 0 | I69: =SUMIFS(I$5:I$59,$C$5:$C$59,$C69) -> 0 | J69: =SUMIFS(J$5:J$59,$C$5:$C$59,$C69) -> 0 | K69: =SUMIFS(K$5:K$59,$C$5:$C$59,$C69) -> 0 | L69: =SUMIFS(L$5:L$59,$C$5:$C$59,$C69) -> 0

Sheet 7
A1: 7. | B1: INFORMACIJA APIE PAREIŠKĖJO VEIKLOS SĄNAUDAS, EUR | M1: Pastabos
A3: Eil. Nr. | B3: Sąnaudos | C3: =IF(AND('1'!$C$22="Verslo pradžia",YEAR('1'!$E$22)=YEAR('1'!$C$11)),"Pradžios metai","Ataskaitiniai metai") -> Ataskaitiniai metai | D3: Prognoziniai metai
C4: =IF(C3="Pradžios metai",YEAR('1'!$E$22),IF((YEAR('1'!$C$11)-1)+COUNT(B4:$B4)>YEAR('1'!$C$18)+Parametrai!$C$15,"-",(YEAR('1'!$C$11)-1)+COUNT(B4:$B4))) -> 1899 | D4: =IF(D3="Pradžios metai",YEAR('1'!$E$22),IF((YEAR('1'!$C$11)-1)+COUNT($B4:C4)>YEAR('1'!$C$18)+Parametrai!$C$15,"-",(YEAR('1'!$C$11)-1)+COUNT($B4:C4))) -> 1900 | E4: =IF(E3="Pradžios metai",YEAR('1'!$E$22),IF((YEAR('1'!$C$11)-1)+COUNT($B4:D4)>YEAR('1'!$C$18)+Parametrai!$C$15,"-",(YEAR('1'!$C$11)-1)+COUNT($B4:D4))) -> 1901 | F4: =IF(F3="Pradžios metai",YEAR('1'!$E$22),IF((YEAR('1'!$C$11)-1)+COUNT($B4:E4)>YEAR('1'!$C$18)+Parametrai!$C$15,"-",(YEAR('1'!$C$11)-1)+COUNT($B4:E4))) -> 1902 | G4: =IF(G3="Pradžios metai",YEAR('1'!$E$22),IF((YEAR('1'!$C$11)-1)+COUNT($B4:F4)>YEAR('1'!$C$18)+Parametrai!$C$15,"-",(YEAR('1'!$C$11)-1)+COUNT($B4:F4))) -> 1903 | H4: =IF(H3="Pradžios metai",YEAR('1'!$E$22),IF((YEAR('1'!$C$11)-1)+COUNT($B4:G4)>YEAR('1'!$C$18)+Parametrai!$C$15,"-",(YEAR('1'!$C$11)-1)+COUNT($B4:G4))) -> - | I4: =IF(I3="Pradžios metai",YEAR('1'!$E$22),IF((YEAR('1'!$C$11)-1)+COUNT($B4:H4)>YEAR('1'!$C$18)+Parametrai!$C$15,"-",(YEAR('1'!$C$11)-1)+COUNT($B4:H4))) -> - | J4: =IF(J3="Pradžios metai",YEAR('1'!$E$22),IF((YEAR('1'!$C$11)-1)+COUNT($B4:I4)>YEAR('1'!$C$18)+Parametrai!$C$15,"-",(YEAR('1'!$C$11)-1)+COUNT($B4:I4))) -> - | K4: =IF(K3="Pradžios metai",YEAR('1'!$E$22),IF((YEAR('1'!$C$11)-1)+COUNT($B4:J4)>YEAR('1'!$C$18)+Parametrai!$C$15,"-",(YEAR('1'!$C$11)-1)+COUNT($B4:J4))) -> -
A5: 7.1. | B5: Pardavimo savikaina:
A6: 7.1.1. | B6: Darbo užmokesčio sąnaudos | C6: =+'2-3'!C14-C16-C24 -> 0 | D6: =+'2-3'!D14-D16-D24 -> 0 | E6: =+'2-3'!E14-E16-E24 -> 0 | F6: =+'2-3'!F14-F16-F24 -> 0 | G6: =+'2-3'!G14-G16-G24 -> 0 | H6: =+'2-3'!H14-H16-H24 -> 0 | I6: =+'2-3'!I14-I16-I24 -> 0 | J6: =+'2-3'!J14-J16-J24 -> 0 | K6: =+'2-3'!K14-K16-K24 -> 0 | M6: Automatiškai priskiriamos visos darbo užmokečio sąnaudos (3.1.1. lentelė). Jei dalis šių sąnaudų buvo priskirtos ne pardavimų savikainai, jos įvedamos atskirai.
A7: 7.1.2.
A8: 7.1.3.
A9: 7.1.4.
A10: 7.1.5.
A11: 7.1.6.
A12: 7.1.7. | B12: Priskaičiuotas ilgalaikio turto nusidėvėjimas | C12: ='6'!D66-C23 -> 0 | D12: ='6'!E66-D23 -> 0 | E12: ='6'!F66-E23 -> 0 | F12: ='6'!G66-F23 -> 0 | G12: ='6'!H66-G23 -> 0 | H12: ='6'!I66-H23 -> 0 | I12: ='6'!J66-I23 -> 0 | J12: ='6'!K66-J23 -> 0 | K12: ='6'!L66-K23 -> 0 | M12: Automatiškai priskiriamos visos nusidėvėjimo sąnaudos (6 lentelė). Jei dalis šių sąnaudų buvo priskirtos ne pardavimų savikainai, jos įvedamos atskirai. Prognozuojamais metais visos priskaičiuotos sąnaudos priskiriamos tų metų sąnaudoms.
A13: 7.1.8. | B13: ES paramos amortizacija (rašoma su neigiamu ženklu)
A14: 7.1.9. | B14: Pardavimo savikaina iš viso | C14: =ROUND(SUM(C6:C13),0) -> 0 | D14: =ROUND(SUM(D6:D13),0) -> 0 | E14: =ROUND(SUM(E6:E13),0) -> 0 | F14: =ROUND(SUM(F6:F13),0) -> 0 | G14: =ROUND(SUM(G6:G13),0) -> 0 | H14: =ROUND(SUM(H6:H13),0) -> 0 | I14: =ROUND(SUM(I6:I13),0) -> 0 | J14: =ROUND(SUM(J6:J13),0) -> 0 | K14: =ROUND(SUM(K6:K13),0) -> 0
A15: 7.2. | B15: Pardavimo sąnaudos:
A16: 7.2.1. | B16: Darbo užmokesčio sąnaudos | M16: Jei dalis darbo užmokesčio sąnaudų priskiriamos pardavimo sąnaudoms, jos įvedamos čia.
A17: 7.2.2.
A18: 7.2.3.
A19: 7.2.4.
A20: 7.2.5.
A21: 7.2.6. | B21: Pardavimo sąnaudos iš viso | C21: =ROUND(SUM(C16:C20),0) -> 0 | D21: =ROUND(SUM(D16:D20),0) -> 0 | E21: =ROUND(SUM(E16:E20),0) -> 0 | F21: =ROUND(SUM(F16:F20),0) -> 0 | G21: =ROUND(SUM(G16:G20),0) -> 0 | H21: =ROUND(SUM(H16:H20),0) -> 0 | I21: =ROUND(SUM(I16:I20),0) -> 0 | J21: =ROUND(SUM(J16:J20),0) -> 0 | K21: =ROUND(SUM(K16:K20),0) -> 0
A22: 7.3. | B22: Bendrosios ir administracinės sąnaudos, iš jų:
A23: 7.3.1. | B23: Negamybinės paskirties ilgalaikio turto nusidėvėjimo sąnaudos
A24: 7.3.2. | B24: Darbo užmokesčio sąnaudos | M24: Jei dalis darbo užmokesčio sąnaudų priskiriamos bendrosioms ir administracinėms sąnaudos, jos įvedamos čia.
A25: 7.3.3.
A26: 7.3.4.
A27: 7.3.5.
A28: 7.3.6.
A29: 7.3.7. | B29: Bendrosios ir administracinės sąnaudos iš viso | C29: =ROUND(SUM(C23:C28),0) -> 0 | D29: =ROUND(SUM(D23:D28),0) -> 0 | E29: =ROUND(SUM(E23:E28),0) -> 0 | F29: =ROUND(SUM(F23:F28),0) -> 0 | G29: =ROUND(SUM(G23:G28),0) -> 0 | H29: =ROUND(SUM(H23:H28),0) -> 0 | I29: =ROUND(SUM(I23:I28),0) -> 0 | J29: =ROUND(SUM(J23:J28),0) -> 0 | K29: =ROUND(SUM(K23:K28),0) -> 0
A30: 7.4. | B30: Finansinės investicinės veiklos sąnaudos:
A31: 7.4.1. | B31: Palūkanos | C31: ='8'!D25+'8'!D35 -> 0 | D31: ='8'!E25+'8'!E35 -> 0 | E31: ='8'!J25+'8'!J35 -> 0 | F31: ='8'!K25+'8'!K35 -> 0 | G31: ='8'!L25+'8'!L35 -> 0 | H31: ='8'!M25+'8'!M35 -> 0 | I31: ='8'!N25+'8'!N35 -> 0 | J31: ='8'!O25+'8'!O35 -> 0 | K31: ='8'!P25+'8'!P35 -> 0
A32: =IF(Parametrai!$C$9="Asociacijos ir viešosios įstaigos","7.5.","") -> 7.5. | B32: =IF(Parametrai!$C$9="Asociacijos ir viešosios įstaigos","Veiklos sąnaudos iš viso","") -> Veiklos sąnaudos iš viso | C32: =IF(Parametrai!$C$9="Asociacijos ir viešosios įstaigos",SUM(C21,C29,C31),"") -> 0 | D32: =IF(Parametrai!$C$9="Asociacijos ir viešosios įstaigos",SUM(D21,D29,D31),"") -> 0 | E32: =IF(Parametrai!$C$9="Asociacijos ir viešosios įstaigos",SUM(E21,E29,E31),"") -> 0 | F32: =IF(Parametrai!$C$9="Asociacijos ir viešosios įstaigos",SUM(F21,F29,F31),"") -> 0 | G32: =IF(Parametrai!$C$9="Asociacijos ir viešosios įstaigos",SUM(G21,G29,G31),"") -> 0 | H32: =IF(Parametrai!$C$9="Asociacijos ir viešosios įstaigos",SUM(H21,H29,H31),"") -> 0 | I32: =IF(Parametrai!$C$9="Asociacijos ir viešosios įstaigos",SUM(I21,I29,I31),"") -> 0 | J32: =IF(Parametrai!$C$9="Asociacijos ir viešosios įstaigos",SUM(J21,J29,J31),"") -> 0 | K32: =IF(Parametrai!$C$9="Asociacijos ir viešosios įstaigos",SUM(K21,K29,K31),"") -> 0

Sheet 8
B1: 8. | C1: INFORMACIJA APIE PASKOLAS IR (ARBA) IŠPERKAMĄJĄ (FINANSINĘ) NUOMĄ (LIZINGĄ), EUR | R1: Pastabos
B3: 8.1. | C3: Turimos paskolos ir (arba) išperkamoji nuoma, Eur | R3: Pateikiama informacija apie pareiškėjo turimas paskolas iš kredito ir ne kredito įstaigų, taip pat išperkamąją nuomą (lizingą) ataskaitinių metų pabaigoje.
B4: Eil. Nr. | C4: Paskolos ir (arba) lizingo davėjas (bankas ar kt.) | E4: Paskirtis | L4: Gavimo data | M4: Grąžinimo data | N4: Pradinė suma | O4: Palūkanų norma, proc. | P4: Likutis
P5: =DATE(D15,12,31) -> 693962
B6: 8.1.1
B7: 8.1.2
B8: 8.1.3
B9: 8.1.4
B10: 8.1.5
B11: Iš viso | P11: =SUM(P6:P10) -> 0 | R11: =IF(P11<>D23+D33,"Klaida! Nesutampa paskolų ir lizingo įsipareigojimų likučiai 8.1. lentelėje su likučių suma 8.2. ir 8.3. lentelėse","ok") -> ok
B13: 8.2. | C13: Paskolų aptarnavimas, Eur | N13: Paskolų aptarnavimo suvestinė.
B14: Eil. Nr. | C14: Rodikliai | D14: =IF(AND('1'!$C$22="Verslo pradžia",YEAR('1'!$E$22)=YEAR('1'!$C$11)),"Pradžios metai","Ataskaitiniai metai") -> Ataskaitiniai metai | E14: Prognoziniai metai
D15: =IF(D14="Pradžios metai",YEAR('1'!$E$22),IF((YEAR('1'!$C$11)-1)+COUNT($C15:C15)>YEAR('1'!$C$18)+Parametrai!$C$15,"-",(YEAR('1'!$C$11)-1)+COUNT($C15:C15))) -> 1899 | E15: =IF(E14="Pradžios metai",YEAR('1'!$E$22),IF((YEAR('1'!$C$11)-1)+COUNT($C15:D15)>YEAR('1'!$C$18)+Parametrai!$C$15,"-",(YEAR('1'!$C$11)-1)+COUNT($C15:D15))) -> 1900 | F15: =IF(F14="Pradžios metai",YEAR('1'!$E$22),IF((YEAR('1'!$C$11)-1)+COUNT($C15:E15)>YEAR('1'!$C$18)+Parametrai!$C$15,"-",(YEAR('1'!$C$11)-1)+COUNT($C15:E15))) -> 1901 | G15: =IF(G14="Pradžios metai",YEAR('1'!$E$22),IF((YEAR('1'!$C$11)-1)+COUNT($C15:F15)>YEAR('1'!$C$18)+Parametrai!$C$15,"-",(YEAR('1'!$C$11)-1)+COUNT($C15:F15))) -> 1902 | H15: =IF(H14="Pradžios metai",YEAR('1'!$E$22),IF((YEAR('1'!$C$11)-1)+COUNT($C15:G15)>YEAR('1'!$C$18)+Parametrai!$C$15,"-",(YEAR('1'!$C$11)-1)+COUNT($C15:G15))) -> 1903 | I15: =IF(I14="Pradžios metai",YEAR('1'!$E$22),IF((YEAR('1'!$C$11)-1)+COUNT($C15:H15)>YEAR('1'!$C$18)+Parametrai!$C$15,"-",(YEAR('1'!$C$11)-1)+COUNT($C15:H15))) -> - | J15: =IF(J14="Pradžios metai",YEAR('1'!$E$22),IF((YEAR('1'!$C$11)-1)+COUNT($C15:I15)>YEAR('1'!$C$18)+Parametrai!$C$15,"-",(YEAR('1'!$C$11)-1)+COUNT($C15:I15))) -> - | K15: =IF(K14="Pradžios metai",YEAR('1'!$E$22),IF((YEAR('1'!$C$11)-1)+COUNT($C15:J15)>YEAR('1'!$C$18)+Parametrai!$C$15,"-",(YEAR('1'!$C$11)-1)+COUNT($C15:J15))) -> - | L15: =IF(L14="Pradžios metai",YEAR('1'!$E$22),IF((YEAR('1'!$C$11)-1)+COUNT($C15:K15)>YEAR('1'!$C$18)+Parametrai!$C$15,"-",(YEAR('1'!$C$11)-1)+COUNT($C15:K15))) -> -
B16: 8.2.1. | C16: Paskolų likutis laikotarpio pradžioje: | D16: =+D17+D18 -> 0 | E16: =D23 -> 0 | F16: =E23 -> 0 | G16: =F23 -> 0 | H16: =G23 -> 0 | I16: =H23 -> 0 | J16: =I23 -> 0 | K16: =J23 -> 0 | L16: =K23 -> 0
B17: 8.2.1.1. | C17: Ilgalaikė paskola | E17: =+D17+D19-D21 -> 0 | F17: =+E17+E19-E21 -> 0 | G17: =+F17+F19-F21 -> 0 | H17: =+G17+G19-G21 -> 0 | I17: =+H17+H19-H21 -> 0 | J17: =+I17+I19-I21 -> 0 | K17: =+J17+J19-J21 -> 0 | L17: =+K17+K19-K21 -> 0 | N17: Paskolos, kurių grąžinimo trukmė pagal sutartį, ilgesnė nei 1 metai.
B18: 8.2.1.2. | C18: Trumpalaikė paskola | E18: =+D18-D22+D20 -> 0 | F18: =+E18-E22+E20 -> 0 | G18: =+F18-F22+F20 -> 0 | H18: =+G18-G22+G20 -> 0 | I18: =+H18-H22+H20 -> 0 | J18: =+I18-I22+I20 -> 0 | K18: =+J18-J22+J20 -> 0 | L18: =+K18-K22+K20 -> 0 | N18: Paskolos, kurių grąžinimo trukmė pagal sutartį, iki 1 metų.
B19: 8.2.2. | C19: Ilgalaikės paskolos paėmimas
B20: 8.2.3. | C20: Trumpalaikės paskolos paėmimas
B21: 8.2.4. | C21: Ilgalaikės paskolos grąžinimas
B22: 8.2.5. | C22: Trumpalaikės paskolos grąžinimas
B23: 8.2.6. | C23: Paskolų likutis laikotarpio pabaigoje | D23: =+D16+D19+D20-D21-D22 -> 0 | E23: =+E16+E19+E20-E21-E22 -> 0 | F23: =+F16+F19+F20-F21-F22 -> 0 | G23: =+G16+G19+G20-G21-G22 -> 0 | H23: =+H16+H19+H20-H21-H22 -> 0 | I23: =+I16+I19+I20-I21-I22 -> 0 | J23: =+J16+J19+J20-J21-J22 -> 0 | K23: =+K16+K19+K20-K21-K22 -> 0 | L23: =+L16+L19+L20-L21-L22 -> 0
B24: 8.2.6.1. | C24: iš jo, ilgalaikių paskolų dalis grąžinama per ateinančius kalendorinius metus | N24: Išskiriama ilgalaikių paskolų dalis, grąžinama per ateinančius kalendorinius metus.
B25: 8.2.7. | C25: Paskolų palūkanų mokėjimas
B27: 8.3. | C27: Išperkamosios nuomos (lizingo) aptarnavimas, Eur | N27: Išperkamosios nuomos (lizingo) aptarnavimo suvestinė.
B28: Eil. Nr. | C28: Rodikliai | D28: =IF(AND('1'!$C$22="Verslo pradžia",YEAR('1'!$E$22)=YEAR('1'!$C$11)),"Pradžios metai","Ataskaitiniai metai") -> Ataskaitiniai metai | E28: Prognoziniai metai
D29: =IF(D28="Pradžios metai",YEAR('1'!$E$22),IF((YEAR('1'!$C$11)-1)+COUNT($C29:C29)>YEAR('1'!$C$18)+Parametrai!$C$15,"-",(YEAR('1'!$C$11)-1)+COUNT($C29:C29))) -> 1899 | E29: =IF(E28="Pradžios metai",YEAR('1'!$E$22),IF((YEAR('1'!$C$11)-1)+COUNT($C29:D29)>YEAR('1'!$C$18)+Parametrai!$C$15,"-",(YEAR('1'!$C$11)-1)+COUNT($C29:D29))) -> 1900 | F29: =IF(F28="Pradžios metai",YEAR('1'!$E$22),IF((YEAR('1'!$C$11)-1)+COUNT($C29:E29)>YEAR('1'!$C$18)+Parametrai!$C$15,"-",(YEAR('1'!$C$11)-1)+COUNT($C29:E29))) -> 1901 | G29: =IF(G28="Pradžios metai",YEAR('1'!$E$22),IF((YEAR('1'!$C$11)-1)+COUNT($C29:F29)>YEAR('1'!$C$18)+Parametrai!$C$15,"-",(YEAR('1'!$C$11)-1)+COUNT($C29:F29))) -> 1902 | H29: =IF(H28="Pradžios metai",YEAR('1'!$E$22),IF((YEAR('1'!$C$11)-1)+COUNT($C29:G29)>YEAR('1'!$C$18)+Parametrai!$C$15,"-",(YEAR('1'!$C$11)-1)+COUNT($C29:G29))) -> 1903 | I29: =IF(I28="Pradžios metai",YEAR('1'!$E$22),IF((YEAR('1'!$C$11)-1)+COUNT($C29:H29)>YEAR('1'!$C$18)+Parametrai!$C$15,"-",(YEAR('1'!$C$11)-1)+COUNT($C29:H29))) -> - | J29: =IF(J28="Pradžios metai",YEAR('1'!$E$22),IF((YEAR('1'!$C$11)-1)+COUNT($C29:I29)>YEAR('1'!$C$18)+Parametrai!$C$15,"-",(YEAR('1'!$C$11)-1)+COUNT($C29:I29))) -> - | K29: =IF(K28="Pradžios metai",YEAR('1'!$E$22),IF((YEAR('1'!$C$11)-1)+COUNT($C29:J29)>YEAR('1'!$C$18)+Parametrai!$C$15,"-",(YEAR('1'!$C$11)-1)+COUNT($C29:J29))) -> - | L29: =IF(L28="Pradžios metai",YEAR('1'!$E$22),IF((YEAR('1'!$C$11)-1)+COUNT($C29:K29)>YEAR('1'!$C$18)+Parametrai!$C$15,"-",(YEAR('1'!$C$11)-1)+COUNT($C29:K29))) -> -
B30: 8.3.1. | C30: Nesumokėtos išperkamosios nuomos dalis laikotarpio pradžioje | E30: =+D33 -> 0 | F30: =+E33 -> 0 | G30: =+F33 -> 0 | H30: =+G33 -> 0 | I30: =+H33 -> 0 | J30: =+I33 -> 0 | K30: =+J33 -> 0 | L30: =+K33 -> 0
B31: 8.3.2. | C31: Gauta išperkamosios nuomos suma
B32: 8.3.3. | C32: Sumokėta išperkamosios nuomos dalis
B33: 8.3.4. | C33: Nesumokėtos išperkamosios nuomos dalis laikotarpio pabaigoje | D33: =+D30+D31-D32 -> 0 | E33: =+E30+E31-E32 -> 0 | F33: =+F30+F31-F32 -> 0 | G33: =+G30+G31-G32 -> 0 | H33: =+H30+H31-H32 -> 0 | I33: =+I30+I31-I32 -> 0 | J33: =+J30+J31-J32 -> 0 | K33: =+K30+K31-K32 -> 0 | L33: =+L30+L31-L32 -> 0
B34: 8.3.4.1. | C34: iš jo, išperkamosios nuomos dalis mokama per ateinančius kalendorinius metus | N34: Išskiriama išperkamosios nuomos dalis, mokama per ateinančius kalendorinius metus.
B35: 8.3.5. | C35: Išperkamosios nuomos palūkanų mokėjimas

Sheet 9.1_nvo
B1: 9. | C1: FINANSINĖS ATASKAITOS | N1: Pastabos
C2: Balanso lygybės patikrinimas | D2: =ROUND(D31-D61,0) -> 0 | E2: =ROUND(E31-E61,0) -> 0 | F2: =ROUND(F31-F61,0) -> 0 | G2: =ROUND(G31-G61,0) -> 0 | H2: =ROUND(H31-H61,0) -> 0 | I2: =ROUND(I31-I61,0) -> 0 | J2: =ROUND(J31-J61,0) -> 0 | K2: =ROUND(K31-K61,0) -> 0 | L2: =ROUND(L31-L61,0) -> 0 | N2: =IF((COUNTIFS(D2:L2,">3")+COUNTIFS(D2:L2,"<-3"))>0,"Klaida! Patikrinkite duomenis, turtas iš viso nėra lygus nuosavybei ir įsipareigojimams iš viso","ok") -> ok
B3: 9.1 | C3: Balanso prognozės, Eur
B5: Eil. Nr. | C5: Straipsnis | D5: =IF(AND('1'!$C$22="Verslo pradžia",YEAR('1'!$E$22)=YEAR('1'!$C$11)),"Pradžios metai","Ataskaitiniai metai") -> Ataskaitiniai metai | E5: Prognoziniai metai
D6: =IF(D5="Pradžios metai",YEAR('1'!$E$22),IF((YEAR('1'!$C$11)-1)+COUNT($C6:C6)>YEAR('1'!$C$18)+Parametrai!$C$15,"-",(YEAR('1'!$C$11)-1)+COUNT($C6:C6))) -> 1899 | E6: =IF(E5="Pradžios metai",YEAR('1'!$E$22),IF((YEAR('1'!$C$11)-1)+COUNT($C6:D6)>YEAR('1'!$C$18)+Parametrai!$C$15,"-",(YEAR('1'!$C$11)-1)+COUNT($C6:D6))) -> 1900 | F6: =IF(F5="Pradžios metai",YEAR('1'!$E$22),IF((YEAR('1'!$C$11)-1)+COUNT($C6:E6)>YEAR('1'!$C$18)+Parametrai!$C$15,"-",(YEAR('1'!$C$11)-1)+COUNT($C6:E6))) -> 1901 | G6: =IF(G5="Pradžios metai",YEAR('1'!$E$22),IF((YEAR('1'!$C$11)-1)+COUNT($C6:F6)>YEAR('1'!$C$18)+Parametrai!$C$15,"-",(YEAR('1'!$C$11)-1)+COUNT($C6:F6))) -> 1902 | H6: =IF(H5="Pradžios metai",YEAR('1'!$E$22),IF((YEAR('1'!$C$11)-1)+COUNT($C6:G6)>YEAR('1'!$C$18)+Parametrai!$C$15,"-",(YEAR('1'!$C$11)-1)+COUNT($C6:G6))) -> 1903 | I6: =IF(I5="Pradžios metai",YEAR('1'!$E$22),IF((YEAR('1'!$C$11)-1)+COUNT($C6:H6)>YEAR('1'!$C$18)+Parametrai!$C$15,"-",(YEAR('1'!$C$11)-1)+COUNT($C6:H6))) -> - | J6: =IF(J5="Pradžios metai",YEAR('1'!$E$22),IF((YEAR('1'!$C$11)-1)+COUNT($C6:I6)>YEAR('1'!$C$18)+Parametrai!$C$15,"-",(YEAR('1'!$C$11)-1)+COUNT($C6:I6))) -> - | K6: =IF(K5="Pradžios metai",YEAR('1'!$E$22),IF((YEAR('1'!$C$11)-1)+COUNT($C6:J6)>YEAR('1'!$C$18)+Parametrai!$C$15,"-",(YEAR('1'!$C$11)-1)+COUNT($C6:J6))) -> - | L6: =IF(L5="Pradžios metai",YEAR('1'!$E$22),IF((YEAR('1'!$C$11)-1)+COUNT($C6:K6)>YEAR('1'!$C$18)+Parametrai!$C$15,"-",(YEAR('1'!$C$11)-1)+COUNT($C6:K6))) -> -
C7: TURTAS
B8: A. | C8: ILGALAIKIS TURTAS | D8: =SUM(D9,D10,D18,D19) -> 0 | E8: =SUM(E9,E10,E18,E19) -> 0 | F8: =SUM(F9,F10,F18,F19) -> 0 | G8: =SUM(G9,G10,G18,G19) -> 0 | H8: =SUM(H9,H10,H18,H19) -> 0 | I8: =SUM(I9,I10,I18,I19) -> 0 | J8: =SUM(J9,J10,J18,J19) -> 0 | K8: =SUM(K9,K10,K18,K19) -> 0 | L8: =SUM(L9,L10,L18,L19) -> 0
B9: 9.1.1. | C9: NEMATERIALUSIS TURTAS | D9: ='6'!D59 -> 0 | E9: ='6'!E59 -> 0 | F9: ='6'!F59 -> 0 | G9: ='6'!G59 -> 0 | H9: ='6'!H59 -> 0 | I9: ='6'!I59 -> 0 | J9: ='6'!J59 -> 0 | K9: ='6'!K59 -> 0 | L9: ='6'!L59 -> 0
B10: 9.1.2. | C10: MATERIALUSIS TURTAS | D10: =SUM(D11,D12:D17) -> 0 | E10: =SUM(E11,E12:E17) -> 0 | F10: =SUM(F11,F12:F17) -> 0 | G10: =SUM(G11,G12:G17) -> 0 | H10: =SUM(H11,H12:H17) -> 0 | I10: =SUM(I11,I12:I17) -> 0 | J10: =SUM(J11,J12:J17) -> 0 | K10: =SUM(K11,K12:K17) -> 0 | L10: =SUM(L11,L12:L17) -> 0
B11: 9.1.2.1. | C11: Žemė | D11: =+'6'!D9 -> 0 | E11: =+'6'!E9 -> 0 | F11: =+'6'!F9 -> 0 | G11: =+'6'!G9 -> 0 | H11: =+'6'!H9 -> 0 | I11: =+'6'!I9 -> 0 | J11: =+'6'!J9 -> 0 | K11: =+'6'!K9 -> 0 | L11: =+'6'!L9 -> 0
B12: 9.1.2.2. | C12: Pastatai ir statiniai | D12: ='6'!D19 -> 0 | E12: ='6'!E19 -> 0 | F12: ='6'!F19 -> 0 | G12: ='6'!G19 -> 0 | H12: ='6'!H19 -> 0 | I12: ='6'!I19 -> 0 | J12: ='6'!J19 -> 0 | K12: ='6'!K19 -> 0 | L12: ='6'!L19 -> 0
B13: 9.1.2.3. | C13: Mašinos ir įrengimai | D13: ='6'!D29 -> 0 | E13: ='6'!E29 -> 0 | F13: ='6'!F29 -> 0 | G13: ='6'!G29 -> 0 | H13: ='6'!H29 -> 0 | I13: ='6'!I29 -> 0 | J13: ='6'!J29 -> 0 | K13: ='6'!K29 -> 0 | L13: ='6'!L29 -> 0
B14: 9.1.2.4. | C14: Transporto priemonės | D14: ='6'!D39 -> 0 | E14: ='6'!E39 -> 0 | F14: ='6'!F39 -> 0 | G14: ='6'!G39 -> 0 | H14: ='6'!H39 -> 0 | I14: ='6'!I39 -> 0 | J14: ='6'!J39 -> 0 | K14: ='6'!K39 -> 0 | L14: ='6'!L39 -> 0
B15: 9.1.2.5. | C15: Kiti įrenginiai, prietaisai ir įrankiai | D15: ='6'!D49 -> 0 | E15: ='6'!E49 -> 0 | F15: ='6'!F49 -> 0 | G15: ='6'!G49 -> 0 | H15: ='6'!H49 -> 0 | I15: ='6'!I49 -> 0 | J15: ='6'!J49 -> 0 | K15: ='6'!K49 -> 0 | L15: ='6'!L49 -> 0
B16: 9.1.2.6. | C16: Nebaigta statyba | N16: Pagal turto pobūdį priskirkite kitai materialaus turto grupei (6 skyrius), pvz., grupei "Pastatai ir statiniai".
B17: 9.1.2.7. | C17: Kitas materialusis turtas | N17: Pagal turto pobūdį priskirkite kitai materialaus turto grupei (6 skyrius).
B18: 9.1.3. | C18: FINANSINIS TURTAS | N18: Atkreipkite dėmesį! Pokyčiai nėra susieti su pinigų srautų ataskaita. Jei šioje eilutėje planuojami skirtingi likučiai, būtina papildyti pinigų srautų ataskaitą (9.3.2.3. ir 9.3.2.4. eil.), kitaip balanso lygybė nebus gauta. Planuoti ateičiai nerekomenduojama. Duomenys gali būti įvesti, jei toks faktas yra įvykęs arba tikrai žinoma, kad įvyks.
B19: 9.1.4. | C19: KITAS ILGALAIKIS TURTAS | N19: Įskaitant ilgalaikį biologinį turtą.
B20: B. | C20: TRUMPALAIKIS TURTAS | D20: =SUM(D21,D25,D28,D29) -> 0 | E20: =SUM(E21,E25,E28,E29) -> 0 | F20: =SUM(F21,F25,F28,F29) -> 0 | G20: =SUM(G21,G25,G28,G29) -> 0 | H20: =SUM(H21,H25,H28,H29) -> 0 | I20: =SUM(I21,I25,I28,I29) -> 0 | J20: =SUM(J21,J25,J28,J29) -> 0 | K20: =SUM(K21,K25,K28,K29) -> 0 | L20: =SUM(L21,L25,L28,L29) -> 0
B21: 9.1.5. | C21: ATSARGOS | D21: =SUM(D22:D24) -> 0 | E21: =SUM(E22:E24) -> 0 | F21: =SUM(F22:F24) -> 0 | G21: =SUM(G22:G24) -> 0 | H21: =SUM(H22:H24) -> 0 | I21: =SUM(I22:I24) -> 0 | J21: =SUM(J22:J24) -> 0 | K21: =SUM(K22:K24) -> 0 | L21: =SUM(L22:L24) -> 0
B22: 9.1.5.1. | C22: Atsargos
B23: 9.1.5.2. | C23: Išankstiniai apmokėjimai
B24: 9.1.5.3 | C24: Nebaigtos vykdyti sutartys
B25: 9.1.6. | C25: PER VIENUS METUS GAUTINOS SUMOS | D25: =SUM(D26:D27) -> 0 | E25: =SUM(E26:E27) -> 0 | F25: =SUM(F26:F27) -> 0 | G25: =SUM(G26:G27) -> 0 | H25: =SUM(H26:H27) -> 0 | I25: =SUM(I26:I27) -> 0 | J25: =SUM(J26:J27) -> 0 | K25: =SUM(K26:K27) -> 0 | L25: =SUM(L26:L27) -> 0
B26: 9.1.6.1. | C26: Pirkėjų skolos
B27: 9.1.6.2. | C27: Kitos gautinos sumos
B28: 9.1.7. | C28: TRUMPALAIKĖS INVESTICIJOS
B29: 9.1.8. | C29: PINIGAI IR PINIGŲ EKVIVALENTAI | E29: =+'9.3_nvo'!E49 -> 0 | F29: =+'9.3_nvo'!F49 -> 0 | G29: =+'9.3_nvo'!G49 -> 0 | H29: =+'9.3_nvo'!H49 -> 0 | I29: =+'9.3_nvo'!I49 -> 0 | J29: =+'9.3_nvo'!J49 -> 0 | K29: =+'9.3_nvo'!K49 -> 0 | L29: =+'9.3_nvo'!L49 -> 0 | N29: =IF(COUNTIFS(D29:L29,"<0")>0,"Klaida! Pinigų likutis negali būti neigiamas!","ok") -> ok
B30: C. | C30: ATEINANČIŲ LAIKOTARPIŲ SĄNAUDOS IR SUKAUPTOS PAJAMOS | N30: =IF(ABS(D29-'9.3_nvo'!D49)>1,"Klaida! Ataskaitiniais metais pinigų likutis balanse ir pinigų srautų ataskaitoje nesutampa","ok") -> ok
C31: TURTO IŠ VISO | D31: =SUM(D8,D20,D30) -> 0 | E31: =SUM(E8,E20,E30) -> 0 | F31: =SUM(F8,F20,F30) -> 0 | G31: =SUM(G8,G20,G30) -> 0 | H31: =SUM(H8,H20,H30) -> 0 | I31: =SUM(I8,I20,I30) -> 0 | J31: =SUM(J8,J20,J30) -> 0 | K31: =SUM(K8,K20,K30) -> 0 | L31: =SUM(L8,L20,L30) -> 0
C33: NUOSAVAS KAPITALAS IR ĮSIPAREIGOJIMAI
B34: D. | C34: NUOSAVAS KAPITALAS | D34: =SUM(D35:D38) -> 0 | E34: =SUM(E35:E38) -> 0 | F34: =SUM(F35:F38) -> 0 | G34: =SUM(G35:G38) -> 0 | H34: =SUM(H35:H38) -> 0 | I34: =SUM(I35:I38) -> 0 | J34: =SUM(J35:J38) -> 0 | K34: =SUM(K35:K38) -> 0 | L34: =SUM(L35:L38) -> 0
B35: 9.1.9. | C35: DALININKŲ KAPITALAS | D35: =+D31-D41-D38-D49-D60-D36-D37 -> 0 | E35: =+D35+'9.3_nvo'!E42 -> 0 | F35: =+E35+'9.3_nvo'!J42 -> 0 | G35: =+F35+'9.3_nvo'!K42 -> 0 | H35: =+G35+'9.3_nvo'!L42 -> 0 | I35: =+H35+'9.3_nvo'!M42 -> 0 | J35: =+I35+'9.3_nvo'!N42 -> 0 | K35: =+J35+'9.3_nvo'!O42 -> 0 | L35: =+K35+'9.3_nvo'!P42 -> 0 | N35: Atkreipkite dėmesį! Formulė ataskaitiniais metais gali būti ištrinta ir įrašyti duomenys iš apskaitos.
B36: 9.1.10. | C36: PERKAINOJIMO REZERVAS | E36: =+D36 -> 0 | F36: =+E36 -> 0 | G36: =+F36 -> 0 | H36: =+G36 -> 0 | I36: =+H36 -> 0 | J36: =+I36 -> 0 | K36: =+J36 -> 0 | L36: =+K36 -> 0 | N36: Pokyčiai neplanuojami.
B37: 9.1.11. | C37: KITI REZERVAI | E37: =+D37 -> 0 | F37: =+E37 -> 0 | G37: =+F37 -> 0 | H37: =+G37 -> 0 | I37: =+H37 -> 0 | J37: =+I37 -> 0 | K37: =+J37 -> 0 | L37: =+K37 -> 0 | N37: Pokyčiai neplanuojami.
B38: 9.1.12. | C38: SUKAUPTAS VEIKLOS REZULTATAS | D38: =SUM(D39:D40) -> 0 | E38: =SUM(E39:E40) -> 0 | F38: =SUM(F39:F40) -> 0 | G38: =SUM(G39:G40) -> 0 | H38: =SUM(H39:H40) -> 0 | I38: =SUM(I39:I40) -> 0 | J38: =SUM(J39:J40) -> 0 | K38: =SUM(K39:K40) -> 0 | L38: =SUM(L39:L40) -> 0
B39: 9.1.12.1. | C39: Ataskaitinių metų veiklos rezultatas | D39: ='9.2_nvo'!D27 -> 0 | E39: ='9.2_nvo'!E27 -> 0 | F39: ='9.2_nvo'!J27 -> 0 | G39: ='9.2_nvo'!K27 -> 0 | H39: ='9.2_nvo'!L27 -> 0 | I39: ='9.2_nvo'!M27 -> 0 | J39: ='9.2_nvo'!N27 -> 0 | K39: ='9.2_nvo'!O27 -> 0 | L39: ='9.2_nvo'!P27 -> 0 | N39: Atkreipkite dėmesį! Formulė ataskaitiniais metais gali būti ištrinta ir įrašyti duomenys iš apskaitos.
B40: 9.1.12.2. | C40: Ankstesnių metų veiklos rezultatas | E40: =D38 -> 0 | F40: =E38 -> 0 | G40: =F38 -> 0 | H40: =G38 -> 0 | I40: =H38 -> 0 | J40: =I38 -> 0 | K40: =J38 -> 0 | L40: =K38 -> 0
B41: E. | C41: FINANSAVIMAS | D41: =SUM(D42:D43,D47:D48) -> 0 | E41: =SUM(E42:E43,E47:E48) -> 0 | F41: =SUM(F42:F43,F47:F48) -> 0 | G41: =SUM(G42:G43,G47:G48) -> 0 | H41: =SUM(H42:H43,H47:H48) -> 0 | I41: =SUM(I42:I43,I47:I48) -> 0 | J41: =SUM(J42:J43,J47:J48) -> 0 | K41: =SUM(K42:K43,K47:K48) -> 0 | L41: =SUM(L42:L43,L47:L48) -> 0
B42: 9.1.13. | C42: Dotacija | N42: Atkreipkite dėmesį! Pokyčiai nėra susieti su pinigų srautų ataskaita. Jei šioje eilutėje planuojami skirtingi likučiai, būtina papildyti pinigų srautų ataskaitą, kitaip balanso lygybė nebus gauta. Planuoti ateičiai nerekomenduojama. Duomenys gali būti įvesti, jei toks faktas yra įvykęs arba tikrai žinoma, kad įvyks.
B43: 9.1.14. | C43: Tiksliniai įnašai | D43: =SUM(D44:D46) -> 0 | E43: =SUM(E44:E46) -> 0 | F43: =SUM(F44:F46) -> 0 | G43: =SUM(G44:G46) -> 0 | H43: =SUM(H44:H46) -> 0 | I43: =SUM(I44:I46) -> 0 | J43: =SUM(J44:J46) -> 0 | K43: =SUM(K44:K46) -> 0 | L43: =SUM(L44:L46) -> 0
B44: 9.1.14.1. | C44: Finansavimo sumos iš ES, valstybės ir savivaldybės biudžetų, išskyrus finansavimą šio projekto investicijoms
B45: 9.1.14.2. | C45: Finansavimo sumos, susijusios su projekto investicijomis | E45: =D45+'9.3_nvo'!E40+'7'!D13 -> 0 | F45: =E45+'9.3_nvo'!F40+'7'!E13 -> 0 | G45: =F45+'9.3_nvo'!G40+'7'!F13 -> 0 | H45: =G45+'9.3_nvo'!H40+'7'!G13 -> 0 | I45: =H45+'9.3_nvo'!I40+'7'!H13 -> 0 | J45: =I45+'9.3_nvo'!J40+'7'!I13 -> 0 | K45: =J45+'9.3_nvo'!K40+'7'!J13 -> 0 | L45: =K45+'9.3_nvo'!L40+'7'!K13 -> 0 | N45: =IF(COUNTIFS(D45:L45,"<0")>1,"Klaida! Dotacijų likutis negali būti neigiamas!","ok") -> ok
B46: 9.1.14.3. | C46: Kiti tiksliniai įnašai | N46: Neplanuojama.
B47: 9.1.15. | C47: Nario mokesčiai | N47: Šis straipsnis nesusietas su Veiklos rezultatų ir Pinigų srautų ataskaitomis. Jei šiame straipsnyje planuojami pokyčiai, juos būtina susieti su Pinigų srautų ataskaitos straisniu "Kitų įmonės įsipareigojimų padidėjimas" ir Veiklos rezultatų ataskaitos straipsniu "Kitos finansavimo pajamos".
B48: 9.1.16. | C48: Kitas finansavimas | N48: Neplanuojama.
B49: G. | C49: MOKĖTINOS SUMOS IR ĮSIPAREIGOJIMAI | D49: =SUM(D50,D53) -> 0 | E49: =SUM(E50,E53) -> 0 | F49: =SUM(F50,F53) -> 0 | G49: =SUM(G50,G53) -> 0 | H49: =SUM(H50,H53) -> 0 | I49: =SUM(I50,I53) -> 0 | J49: =SUM(J50,J53) -> 0 | K49: =SUM(K50,K53) -> 0 | L49: =SUM(L50,L53) -> 0
B50: 9.1.17. | C50: ILGALAIKIAI ĮSIPAREIGOJIMAI | D50: =SUM(D51:D52) -> 0 | E50: =SUM(E51:E52) -> 0 | F50: =SUM(F51:F52) -> 0 | G50: =SUM(G51:G52) -> 0 | H50: =SUM(H51:H52) -> 0 | I50: =SUM(I51:I52) -> 0 | J50: =SUM(J51:J52) -> 0 | K50: =SUM(K51:K52) -> 0 | L50: =SUM(L51:L52) -> 0
B51: 9.1.17.1. | C51: Finansinės skolos | D51: ='8'!D17+'8'!D19-'8'!D21-'8'!D24 + '8'!D33-'8'!D34 -> 0 | E51: ='8'!E17+'8'!E19-'8'!E21-'8'!E24 + '8'!E33-'8'!E34 -> 0 | F51: ='8'!F17+'8'!F19-'8'!F21-'8'!F24 + '8'!F33-'8'!F34 -> 0 | G51: ='8'!G17+'8'!G19-'8'!G21-'8'!G24 + '8'!G33-'8'!G34 -> 0 | H51: ='8'!H17+'8'!H19-'8'!H21-'8'!H24 + '8'!H33-'8'!H34 -> 0 | I51: ='8'!I17+'8'!I19-'8'!I21-'8'!I24 + '8'!I33-'8'!I34 -> 0 | J51: ='8'!J17+'8'!J19-'8'!J21-'8'!J24 + '8'!J33-'8'!J34 -> 0 | K51: ='8'!K17+'8'!K19-'8'!K21-'8'!K24 + '8'!K33-'8'!K34 -> 0 | L51: ='8'!L17+'8'!L19-'8'!L21-'8'!L24 + '8'!L33-'8'!L34 -> 0
B52: 9.1.17.2. | C52: Kiti ilgalaikiai įsipareigojimai
B53: 9.1.18. | C53: TRUMPALAIKIAI ĮSIPAREIGOJIMAI | D53: =SUM(D54:D59) -> 0 | E53: =SUM(E54:E59) -> 0 | F53: =SUM(F54:F59) -> 0 | G53: =SUM(G54:G59) -> 0 | H53: =SUM(H54:H59) -> 0 | I53: =SUM(I54:I59) -> 0 | J53: =SUM(J54:J59) -> 0 | K53: =SUM(K54:K59) -> 0 | L53: =SUM(L54:L59) -> 0
B54: 9.1.18.1. | C54: Ilgalaikių skolų einamųjų metų dalis | D54: ='8'!D24+'8'!D34 -> 0 | E54: ='8'!E24+'8'!E34 -> 0 | F54: ='8'!F24+'8'!F34 -> 0 | G54: ='8'!G24+'8'!G34 -> 0 | H54: ='8'!H24+'8'!H34 -> 0 | I54: ='8'!I24+'8'!I34 -> 0 | J54: ='8'!J24+'8'!J34 -> 0 | K54: ='8'!K24+'8'!K34 -> 0 | L54: ='8'!L24+'8'!L34 -> 0
B55: 9.1.18.2. | C55: Finansinės skolos | D55: ='8'!D18+'8'!D20-'8'!D22 -> 0 | E55: ='8'!E18+'8'!E20-'8'!E22 -> 0 | F55: ='8'!F18+'8'!F20-'8'!F22 -> 0 | G55: ='8'!G18+'8'!G20-'8'!G22 -> 0 | H55: ='8'!H18+'8'!H20-'8'!H22 -> 0 | I55: ='8'!I18+'8'!I20-'8'!I22 -> 0 | J55: ='8'!J18+'8'!J20-'8'!J22 -> 0 | K55: ='8'!K18+'8'!K20-'8'!K22 -> 0 | L55: ='8'!L18+'8'!L20-'8'!L22 -> 0
B56: 9.1.18.4. | C56: Skolos tiekėjams
B57: 9.1.18.3. | C57: Gauti išankstiniai apmokėjimai
B58: 9.1.18.6. | C58: Su darbo santykiais susiję įsipareigojimai
B59: 9.1.18.7. | C59: Kiti trumpalaikiai įsipareigojimai
B60: H. | C60: SUKAUPTOS SĄNAUDOS IR ATEINANČIŲ LAIKOTARPIŲ PAJAMOS
C61: NUOSAVO KAPITALO IR ĮSIPAREIGOJIMŲ IŠ VISO | D61: =SUM(D34,D41,D49,D60) -> 0 | E61: =SUM(E34,E41,E49,E60) -> 0 | F61: =SUM(F34,F41,F49,F60) -> 0 | G61: =SUM(G34,G41,G49,G60) -> 0 | H61: =SUM(H34,H41,H49,H60) -> 0 | I61: =SUM(I34,I41,I49,I60) -> 0 | J61: =SUM(J34,J41,J49,J60) -> 0 | K61: =SUM(K34,K41,K49,K60) -> 0 | L61: =SUM(L34,L41,L49,L60) -> 0

Sheet 9.2_nvo
B1: 9. | C1: FINANSINĖS ATASKAITOS | N1: Pastabos
C2: Balanso lygybės patikrinimas | D2: =+'9.1_nvo'!D2 -> 0 | E2: =+'9.1_nvo'!E2 -> 0 | F2: =+'9.1_nvo'!F2 -> 0 | G2: =+'9.1_nvo'!G2 -> 0 | H2: =+'9.1_nvo'!H2 -> 0 | I2: =+'9.1_nvo'!I2 -> 0 | J2: =+'9.1_nvo'!J2 -> 0 | K2: =+'9.1_nvo'!K2 -> 0 | L2: =+'9.1_nvo'!L2 -> 0 | N2: =IF((COUNTIFS(D2:L2,">3")+COUNTIFS(D2:L2,"<-3"))>0,"Klaida! Patikrinkite duomenis, turtas iš viso nėra lygus nuosavybei ir įsipareigojimams iš viso","ok") -> ok
B3: 9.2 | C3: Veiklos rezultatų ataskaitos prognozės, Eur
B5: Eil. Nr. | C5: Straipsnis | D5: =IF(AND('1'!$C$22="Verslo pradžia",YEAR('1'!$E$22)=YEAR('1'!$C$11)),"Pradžios metai","Ataskaitiniai metai") -> Ataskaitiniai metai | E5: Prognoziniai metai
D6: =IF(D5="Pradžios metai",YEAR('1'!$E$22),IF((YEAR('1'!$C$11)-1)+COUNT($C6:C6)>YEAR('1'!$C$18)+Parametrai!$C$15,"-",(YEAR('1'!$C$11)-1)+COUNT($C6:C6))) -> 1899 | E6: =IF(E5="Pradžios metai",YEAR('1'!$E$22),IF((YEAR('1'!$C$11)-1)+COUNT($C6:D6)>YEAR('1'!$C$18)+Parametrai!$C$15,"-",(YEAR('1'!$C$11)-1)+COUNT($C6:D6))) -> 1900 | F6: =IF(F5="Pradžios metai",YEAR('1'!$E$22),IF((YEAR('1'!$C$11)-1)+COUNT($C6:E6)>YEAR('1'!$C$18)+Parametrai!$C$15,"-",(YEAR('1'!$C$11)-1)+COUNT($C6:E6))) -> 1901 | G6: =IF(G5="Pradžios metai",YEAR('1'!$E$22),IF((YEAR('1'!$C$11)-1)+COUNT($C6:F6)>YEAR('1'!$C$18)+Parametrai!$C$15,"-",(YEAR('1'!$C$11)-1)+COUNT($C6:F6))) -> 1902 | H6: =IF(H5="Pradžios metai",YEAR('1'!$E$22),IF((YEAR('1'!$C$11)-1)+COUNT($C6:G6)>YEAR('1'!$C$18)+Parametrai!$C$15,"-",(YEAR('1'!$C$11)-1)+COUNT($C6:G6))) -> 1903 | I6: =IF(I5="Pradžios metai",YEAR('1'!$E$22),IF((YEAR('1'!$C$11)-1)+COUNT($C6:H6)>YEAR('1'!$C$18)+Parametrai!$C$15,"-",(YEAR('1'!$C$11)-1)+COUNT($C6:H6))) -> - | J6: =IF(J5="Pradžios metai",YEAR('1'!$E$22),IF((YEAR('1'!$C$11)-1)+COUNT($C6:I6)>YEAR('1'!$C$18)+Parametrai!$C$15,"-",(YEAR('1'!$C$11)-1)+COUNT($C6:I6))) -> - | K6: =IF(K5="Pradžios metai",YEAR('1'!$E$22),IF((YEAR('1'!$C$11)-1)+COUNT($C6:J6)>YEAR('1'!$C$18)+Parametrai!$C$15,"-",(YEAR('1'!$C$11)-1)+COUNT($C6:J6))) -> - | L6: =IF(L5="Pradžios metai",YEAR('1'!$E$22),IF((YEAR('1'!$C$11)-1)+COUNT($C6:K6)>YEAR('1'!$C$18)+Parametrai!$C$15,"-",(YEAR('1'!$C$11)-1)+COUNT($C6:K6))) -> -
B7: 9.2.1. | C7: PAJAMOS | D7: =SUM(D8:D11,D15) -> 0 | E7: =SUM(E8:E11,E15) -> 0 | F7: =SUM(F8:F11,F15) -> 0 | G7: =SUM(G8:G11,G15) -> 0 | H7: =SUM(H8:H11,H15) -> 0 | I7: =SUM(I8:I11,I15) -> 0 | J7: =SUM(J8:J11,J15) -> 0 | K7: =SUM(K8:K11,K15) -> 0 | L7: =SUM(L8:L11,L15) -> 0
B8: 9.2.1.1. | C8: Iš gamybos | D8: ='4'!D7 -> 0 | E8: ='4'!E7 -> 0 | F8: ='4'!F7 -> 0 | G8: ='4'!G7 -> 0 | H8: ='4'!H7 -> 0 | I8: ='4'!I7 -> 0 | J8: ='4'!J7 -> 0 | K8: ='4'!K7 -> 0 | L8: ='4'!L7 -> 0
B9: 9.2.1.2. | C9: Iš paslaugų | D9: ='4'!D8 -> 0 | E9: ='4'!E8 -> 0 | F9: ='4'!F8 -> 0 | G9: ='4'!G8 -> 0 | H9: ='4'!H8 -> 0 | I9: ='4'!I8 -> 0 | J9: ='4'!J8 -> 0 | K9: ='4'!K8 -> 0 | L9: ='4'!L8 -> 0
B10: 9.2.1.3. | C10: Iš kitos veiklos | D10: =+'4'!D9 -> 0 | E10: =+'4'!E9 -> 0 | F10: =+'4'!F9 -> 0 | G10: =+'4'!G9 -> 0 | H10: =+'4'!H9 -> 0 | I10: =+'4'!I9 -> 0 | J10: =+'4'!J9 -> 0 | K10: =+'4'!K9 -> 0 | L10: =+'4'!L9 -> 0
B11: 9.2.1.4. | C11: Finansavimo pajamos | D11: =SUM(D12:D14) -> 0 | E11: =SUM(E12:E14) -> 0 | F11: =SUM(F12:F14) -> 0 | G11: =SUM(G12:G14) -> 0 | H11: =SUM(H12:H14) -> 0 | I11: =SUM(I12:I14) -> 0 | J11: =SUM(J12:J14) -> 0 | K11: =SUM(K12:K14) -> 0 | L11: =SUM(L12:L14) -> 0
B12: 9.2.1.4.1. | C12: Finansavimo sumų iš ES, valstybės ir savivaldybės biudžetų, išskyrus finansavimą šio projekto investicijoms, panaudojimo pajamos
B13: 9.2.1.4.2. | C13: Finansavimo sumų, susijusios su projekto investicijomis, panaudojimo pajamos | D13: =-'7'!C13 -> 0 | E13: =-'7'!D13 -> 0 | F13: =-'7'!E13 -> 0 | G13: =-'7'!F13 -> 0 | H13: =-'7'!G13 -> 0 | I13: =-'7'!H13 -> 0 | J13: =-'7'!I13 -> 0 | K13: =-'7'!J13 -> 0 | L13: =-'7'!K13 -> 0
B14: 9.2.1.4.3. | C14: Kitos finansavimo pajamos | N14: Gauti ir panaudoti nario mokestis ir parama.
B15: 9.2.1.5. | C15: Kitos pajamos | N15: Prognozuojamu laikotarpiu gali būti planuojamos tik ilgalaikio turto perleidimo pajamos.
B16: 9.2.2. | C16: SĄNAUDOS | D16: =SUM(D17:D19) -> 0 | E16: =SUM(E17:E19) -> 0 | F16: =SUM(F17:F19) -> 0 | G16: =SUM(G17:G19) -> 0 | H16: =SUM(H17:H19) -> 0 | I16: =SUM(I17:I19) -> 0 | J16: =SUM(J17:J19) -> 0 | K16: =SUM(K17:K19) -> 0 | L16: =SUM(L17:L19) -> 0
B17: 9.2.2.1. | C17: Suteiktų paslaugų, parduotų prekių savikaina | D17: =-'7'!C14+'7'!C13 -> 0 | E17: =-'7'!D14+'7'!D13 -> 0 | F17: =-'7'!E14+'7'!E13 -> 0 | G17: =-'7'!F14+'7'!F13 -> 0 | H17: =-'7'!G14+'7'!G13 -> 0 | I17: =-'7'!H14+'7'!H13 -> 0 | J17: =-'7'!I14+'7'!I13 -> 0 | K17: =-'7'!J14+'7'!J13 -> 0 | L17: =-'7'!K14+'7'!K13 -> 0
B18: 9.2.2.2. | C18: Kitos sąnaudos | N18: Prognozuojamu laikotarpiu gali būti planuojamos tik ilgalaikio turto perleidimo sąnaudos.
B19: 9.2.2.3. | C19: Veiklos sąnaudos | D19: =SUM(D20:D24) -> 0 | E19: =SUM(E20:E24) -> 0 | F19: =SUM(F20:F24) -> 0 | G19: =SUM(G20:G24) -> 0 | H19: =SUM(H20:H24) -> 0 | I19: =SUM(I20:I24) -> 0 | J19: =SUM(J20:J24) -> 0 | K19: =SUM(K20:K24) -> 0 | L19: =SUM(L20:L24) -> 0
B20: 9.2.2.3.1. | C20: Pardavimo | D20: =-'7'!C21 -> 0 | E20: =-'7'!D21 -> 0 | F20: =-'7'!E21 -> 0 | G20: =-'7'!F21 -> 0 | H20: =-'7'!G21 -> 0 | I20: =-'7'!H21 -> 0 | J20: =-'7'!I21 -> 0 | K20: =-'7'!J21 -> 0 | L20: =-'7'!K21 -> 0
B21: 9.2.2.3.2. | C21: Darbuotojų išlaikymo | D21: =-'7'!C24 -> 0 | E21: =-'7'!D24 -> 0 | F21: =-'7'!E24 -> 0 | G21: =-'7'!F24 -> 0 | H21: =-'7'!G24 -> 0 | I21: =-'7'!H24 -> 0 | J21: =-'7'!I24 -> 0 | K21: =-'7'!J24 -> 0 | L21: =-'7'!K24 -> 0
B22: 9.2.2.3.3. | C22: Nusidėvėjimo (amortizacijos) | D22: =-'7'!C23 -> 0 | E22: =-'7'!D23 -> 0 | F22: =-'7'!E23 -> 0 | G22: =-'7'!F23 -> 0 | H22: =-'7'!G23 -> 0 | I22: =-'7'!H23 -> 0 | J22: =-'7'!I23 -> 0 | K22: =-'7'!J23 -> 0 | L22: =-'7'!K23 -> 0
B23: 9.2.2.3.4. | C23: Palūkanos | D23: =-('8'!D25 + '8'!D35) -> 0 | E23: =-('8'!E25 + '8'!E35) -> 0 | F23: =-('8'!F25 + '8'!F35) -> 0 | G23: =-('8'!G25 + '8'!G35) -> 0 | H23: =-('8'!H25 + '8'!H35) -> 0 | I23: =-('8'!I25 + '8'!I35) -> 0 | J23: =-('8'!J25 + '8'!J35) -> 0 | K23: =-('8'!K25 + '8'!K35) -> 0 | L23: =-('8'!L25 + '8'!L35) -> 0
B24: 9.2.2.3.5. | C24: Kitos | D24: =-'7'!C29-SUM(D21:D22) -> 0 | E24: =-'7'!D29-SUM(E21:E22) -> 0 | F24: =-'7'!E29-SUM(F21:F22) -> 0 | G24: =-'7'!F29-SUM(G21:G22) -> 0 | H24: =-'7'!G29-SUM(H21:H22) -> 0 | I24: =-'7'!H29-SUM(I21:I22) -> 0 | J24: =-'7'!I29-SUM(J21:J22) -> 0 | K24: =-'7'!J29-SUM(K21:K22) -> 0 | L24: =-'7'!K29-SUM(L21:L22) -> 0
B25: 9.2.3. | C25: VEIKLOS REZULTATAS PRIEŠ APMOKESTINIMĄ | D25: =SUM(D7,D16) -> 0 | E25: =SUM(E7,E16) -> 0 | F25: =SUM(F7,F16) -> 0 | G25: =SUM(G7,G16) -> 0 | H25: =SUM(H7,H16) -> 0 | I25: =SUM(I7,I16) -> 0 | J25: =SUM(J7,J16) -> 0 | K25: =SUM(K7,K16) -> 0 | L25: =SUM(L7,L16) -> 0
B26: 9.2.4. | C26: PELNO MOKESTIS | E26: =IF((E25-E11)<0,0,-((E25-E11)*E29)) -> 0 | F26: =IF((F25-F11)<0,0,-((F25-F11)*F29)) -> 0 | G26: =IF((G25-G11)<0,0,-((G25-G11)*G29)) -> 0 | H26: =IF((H25-H11)<0,0,-((H25-H11)*H29)) -> 0 | I26: =IF((I25-I11)<0,0,-((I25-I11)*I29)) -> 0 | J26: =IF((J25-J11)<0,0,-((J25-J11)*J29)) -> 0 | K26: =IF((K25-K11)<0,0,-((K25-K11)*K29)) -> 0 | L26: =IF((L25-L11)<0,0,-((L25-L11)*L29)) -> 0
B27: 9.2.5. | C27: GRYNASIS VEIKLOS REZULTATAS | D27: =SUM(D25,D26) -> 0 | E27: =SUM(E25,E26) -> 0 | F27: =SUM(F25,F26) -> 0 | G27: =SUM(G25,G26) -> 0 | H27: =SUM(H25,H26) -> 0 | I27: =SUM(I25,I26) -> 0 | J27: =SUM(J25,J26) -> 0 | K27: =SUM(K25,K26) -> 0 | L27: =SUM(L25,L26) -> 0
B29: 9.2.6. | C29: Pelno mokesčio tarifas | D29: =IFERROR(-D26/D25,"-") -> - | E29: 0.15 | F29: 0.15 | G29: 0.15 | H29: 0.15 | I29: 0.15 | J29: 0.15 | K29: 0.15 | L29: 0.15
B30: 9.2.7. | C30: Pelno mokesčio tarifo pagrindimas | N30: Paaiškinimas reikalingas tik tada, kai naudojamas kitoks nei 15 proc. tarifas.
C32: Planuojamo gauti pelno reinvestavimo socialiniam poveikiui planas
B33: jdnv0wri'Fp odk/ls | N33: Aprašomas gauto pelno iš vykdomos veiklos reinvestavimo socialinio poveikio tikslams ir rodikliams pasiekti reikalavimai (reinvestavimas apima ir investicijas į verslo infrastruktūros kūrimą, plėtrą, įrangą ar procesus, išskyrus įstatinio kapitalo didinimą (kai taikoma), kai tokios investicijos gali turėti tiesioginės įtakos geresniems socialinio poveikio rezultatams, atitinkamai nurodant reinvestuojamo pelno dalies atitiktį.

Sheet 9.3_nvo
B1: 9. | C1: FINANSINĖS ATASKAITOS | N1: Pastabos
C2: Balanso lygybės patikrinimas | D2: ='9.1_nvo'!D2 -> 0 | E2: ='9.1_nvo'!E2 -> 0 | F2: ='9.1_nvo'!F2 -> 0 | G2: ='9.1_nvo'!G2 -> 0 | H2: ='9.1_nvo'!H2 -> 0 | I2: ='9.1_nvo'!I2 -> 0 | J2: ='9.1_nvo'!J2 -> 0 | K2: ='9.1_nvo'!K2 -> 0 | L2: ='9.1_nvo'!L2 -> 0 | N2: =IF((COUNTIFS(D2:L2,">3")+COUNTIFS(D2:L2,"<-3"))>0,"Klaida! Patikrinkite duomenis, turtas iš viso nėra lygus nuosavybei ir įsipareigojimams iš viso","ok") -> ok
B3: 9.3 | C3: Pinigų srautų ataskaitos prognozės, Eur
D4: =+'9.3_nvo'!D64-D49 -> 0 | E4: =+'9.3_nvo'!E64-E49 -> 0 | F4: =+'9.3_nvo'!F64-F49 -> 0 | G4: =+'9.3_nvo'!G64-G49 -> 0 | H4: =+'9.3_nvo'!H64-H49 -> 0 | I4: =+'9.3_nvo'!I64-I49 -> 0 | J4: =+'9.3_nvo'!J64-J49 -> 0 | K4: =+'9.3_nvo'!K64-K49 -> 0 | L4: =+'9.3_nvo'!L64-L49 -> 0
B5: Eil. Nr. | C5: Straipsnis | D5: =IF(AND('1'!$C$22="Verslo pradžia",YEAR('1'!$E$22)=YEAR('1'!$C$11)),"Pradžios metai","Ataskaitiniai metai") -> Ataskaitiniai metai | E5: Prognoziniai metai
D6: =IF(D5="Pradžios metai",YEAR('1'!$E$22),IF((YEAR('1'!$C$11)-1)+COUNT($C6:C6)>YEAR('1'!$C$18)+Parametrai!$C$15,"-",(YEAR('1'!$C$11)-1)+COUNT($C6:C6))) -> 1899 | E6: =IF(E5="Pradžios metai",YEAR('1'!$E$22),IF((YEAR('1'!$C$11)-1)+COUNT($C6:D6)>YEAR('1'!$C$18)+Parametrai!$C$15,"-",(YEAR('1'!$C$11)-1)+COUNT($C6:D6))) -> 1900 | F6: =IF(F5="Pradžios metai",YEAR('1'!$E$22),IF((YEAR('1'!$C$11)-1)+COUNT($C6:E6)>YEAR('1'!$C$18)+Parametrai!$C$15,"-",(YEAR('1'!$C$11)-1)+COUNT($C6:E6))) -> 1901 | G6: =IF(G5="Pradžios metai",YEAR('1'!$E$22),IF((YEAR('1'!$C$11)-1)+COUNT($C6:F6)>YEAR('1'!$C$18)+Parametrai!$C$15,"-",(YEAR('1'!$C$11)-1)+COUNT($C6:F6))) -> 1902 | H6: =IF(H5="Pradžios metai",YEAR('1'!$E$22),IF((YEAR('1'!$C$11)-1)+COUNT($C6:G6)>YEAR('1'!$C$18)+Parametrai!$C$15,"-",(YEAR('1'!$C$11)-1)+COUNT($C6:G6))) -> 1903 | I6: =IF(I5="Pradžios metai",YEAR('1'!$E$22),IF((YEAR('1'!$C$11)-1)+COUNT($C6:H6)>YEAR('1'!$C$18)+Parametrai!$C$15,"-",(YEAR('1'!$C$11)-1)+COUNT($C6:H6))) -> - | J6: =IF(J5="Pradžios metai",YEAR('1'!$E$22),IF((YEAR('1'!$C$11)-1)+COUNT($C6:I6)>YEAR('1'!$C$18)+Parametrai!$C$15,"-",(YEAR('1'!$C$11)-1)+COUNT($C6:I6))) -> - | K6: =IF(K5="Pradžios metai",YEAR('1'!$E$22),IF((YEAR('1'!$C$11)-1)+COUNT($C6:J6)>YEAR('1'!$C$18)+Parametrai!$C$15,"-",(YEAR('1'!$C$11)-1)+COUNT($C6:J6))) -> - | L6: =IF(L5="Pradžios metai",YEAR('1'!$E$22),IF((YEAR('1'!$C$11)-1)+COUNT($C6:K6)>YEAR('1'!$C$18)+Parametrai!$C$15,"-",(YEAR('1'!$C$11)-1)+COUNT($C6:K6))) -> -
B7: 9.3.1. | C7: Pagrindinės veiklos pinigų srautai
B8: 9.3.1.1. | C8: Grynasis pelnas (nuostoliai) | D8: ='9.2_nvo'!D27 -> 0 | E8: ='9.2_nvo'!E27 -> 0 | F8: ='9.2_nvo'!F27 -> 0 | G8: ='9.2_nvo'!G27 -> 0 | H8: ='9.2_nvo'!H27 -> 0 | I8: ='9.2_nvo'!I27 -> 0 | J8: ='9.2_nvo'!J27 -> 0 | K8: ='9.2_nvo'!K27 -> 0 | L8: ='9.2_nvo'!L27 -> 0
B9: 9.3.1.2. | C9: Nusidėvėjimo ir amortizacijos sąnaudos | D9: =SUM('7'!C12,'7'!C13,'7'!C23) -> 0 | E9: =SUM('7'!D12,'7'!D13,'7'!D23) -> 0 | F9: =SUM('7'!E12,'7'!E13,'7'!E23) -> 0 | G9: =SUM('7'!F12,'7'!F13,'7'!F23) -> 0 | H9: =SUM('7'!G12,'7'!G13,'7'!G23) -> 0 | I9: =SUM('7'!H12,'7'!H13,'7'!H23) -> 0 | J9: =SUM('7'!I12,'7'!I13,'7'!I23) -> 0 | K9: =SUM('7'!J12,'7'!J13,'7'!J23) -> 0 | L9: =SUM('7'!K12,'7'!K13,'7'!K23) -> 0
B10: 9.3.1.3. | C10: Ilgalaikio materialiojo ir nematerialiojo turto perleidimo rezultatų eliminavimas | E10: =-('9.2_nvo'!E15-'9.2_nvo'!E18) -> 0 | F10: =-('9.2_nvo'!F15-'9.2_nvo'!F18) -> 0 | G10: =-('9.2_nvo'!G15-'9.2_nvo'!G18) -> 0 | H10: =-('9.2_nvo'!H15-'9.2_nvo'!H18) -> 0 | I10: =-('9.2_nvo'!I15-'9.2_nvo'!I18) -> 0 | J10: =-('9.2_nvo'!J15-'9.2_nvo'!J18) -> 0 | K10: =-('9.2_nvo'!K15-'9.2_nvo'!K18) -> 0 | L10: =-('9.2_nvo'!L15-'9.2_nvo'!L18) -> 0
B11: 9.3.1.4. | C11: Finansinės ir investicinės veiklos rezultatų eliminavimas | D11: =-SUM('9.2_nvo'!D23) -> 0 | E11: =-SUM('9.2_nvo'!E23) -> 0 | F11: =-SUM('9.2_nvo'!F23) -> 0 | G11: =-SUM('9.2_nvo'!G23) -> 0 | H11: =-SUM('9.2_nvo'!H23) -> 0 | I11: =-SUM('9.2_nvo'!I23) -> 0 | J11: =-SUM('9.2_nvo'!J23) -> 0 | K11: =-SUM('9.2_nvo'!K23) -> 0 | L11: =-SUM('9.2_nvo'!L23) -> 0 | N11: Atkreipkite dėmesį! Prognozuojamu laikotarpiu eliminuojamos tik palūkanos. Ataskaitiniais metais, jei be palūkanų buvo kitų efektų, formulę ištrinkite ir įrašykite teisingą reikšmę.
B12: 9.3.1.6. | C12: Kito ilgalaikio turto, įskaitant biologinį, sumažėjimas (padidėjimas) | E12: =-('9.1_nvo'!E19-'9.1_nvo'!D19) -> 0 | F12: =-('9.1_nvo'!F19-'9.1_nvo'!E19) -> 0 | G12: =-('9.1_nvo'!G19-'9.1_nvo'!F19) -> 0 | H12: =-('9.1_nvo'!H19-'9.1_nvo'!G19) -> 0 | I12: =-('9.1_nvo'!I19-'9.1_nvo'!H19) -> 0 | J12: =-('9.1_nvo'!J19-'9.1_nvo'!I19) -> 0 | K12: =-('9.1_nvo'!K19-'9.1_nvo'!J19) -> 0 | L12: =-('9.1_nvo'!L19-'9.1_nvo'!K19) -> 0
B13: 9.3.1.7. | C13: Atsargų, išskyrus sumokėtus avansus, sumažėjimas (padidėjimas) | E13: =-(('9.1_nvo'!E21-'9.1_nvo'!E23) - ('9.1_nvo'!D21-'9.1_nvo'!D23)) -> 0 | F13: =-(('9.1_nvo'!F21-'9.1_nvo'!F23) - ('9.1_nvo'!E21-'9.1_nvo'!E23)) -> 0 | G13: =-(('9.1_nvo'!G21-'9.1_nvo'!G23) - ('9.1_nvo'!F21-'9.1_nvo'!F23)) -> 0 | H13: =-(('9.1_nvo'!H21-'9.1_nvo'!H23) - ('9.1_nvo'!G21-'9.1_nvo'!G23)) -> 0 | I13: =-(('9.1_nvo'!I21-'9.1_nvo'!I23) - ('9.1_nvo'!H21-'9.1_nvo'!H23)) -> 0 | J13: =-(('9.1_nvo'!J21-'9.1_nvo'!J23) - ('9.1_nvo'!I21-'9.1_nvo'!I23)) -> 0 | K13: =-(('9.1_nvo'!K21-'9.1_nvo'!K23) - ('9.1_nvo'!J21-'9.1_nvo'!J23)) -> 0 | L13: =-(('9.1_nvo'!L21-'9.1_nvo'!L23) - ('9.1_nvo'!K21-'9.1_nvo'!K23)) -> 0
B14: 9.3.1.8. | C14: Sumokėtų avansų sumažėjimas (padidėjimas) | E14: =-('9.1_nvo'!E23-'9.1_nvo'!D23) -> 0 | F14: =-('9.1_nvo'!F23-'9.1_nvo'!E23) -> 0 | G14: =-('9.1_nvo'!G23-'9.1_nvo'!F23) -> 0 | H14: =-('9.1_nvo'!H23-'9.1_nvo'!G23) -> 0 | I14: =-('9.1_nvo'!I23-'9.1_nvo'!H23) -> 0 | J14: =-('9.1_nvo'!J23-'9.1_nvo'!I23) -> 0 | K14: =-('9.1_nvo'!K23-'9.1_nvo'!J23) -> 0 | L14: =-('9.1_nvo'!L23-'9.1_nvo'!K23) -> 0
B15: 9.3.1.9. | C15: Pirkėjų skolų sumažėjimas (padidėjimas) | E15: =-('9.1_nvo'!E26-'9.1_nvo'!D26) -> 0 | F15: =-('9.1_nvo'!F26-'9.1_nvo'!E26) -> 0 | G15: =-('9.1_nvo'!G26-'9.1_nvo'!F26) -> 0 | H15: =-('9.1_nvo'!H26-'9.1_nvo'!G26) -> 0 | I15: =-('9.1_nvo'!I26-'9.1_nvo'!H26) -> 0 | J15: =-('9.1_nvo'!J26-'9.1_nvo'!I26) -> 0 | K15: =-('9.1_nvo'!K26-'9.1_nvo'!J26) -> 0 | L15: =-('9.1_nvo'!L26-'9.1_nvo'!K26) -> 0
B16: 9.3.1.10. | C16: Kitų gautinų sumų sumažėjimas (padidėjimas) | E16: =-('9.1_nvo'!E27-'9.1_nvo'!D27) -> 0 | F16: =-('9.1_nvo'!F27-'9.1_nvo'!E27) -> 0 | G16: =-('9.1_nvo'!G27-'9.1_nvo'!F27) -> 0 | H16: =-('9.1_nvo'!H27-'9.1_nvo'!G27) -> 0 | I16: =-('9.1_nvo'!I27-'9.1_nvo'!H27) -> 0 | J16: =-('9.1_nvo'!J27-'9.1_nvo'!I27) -> 0 | K16: =-('9.1_nvo'!K27-'9.1_nvo'!J27) -> 0 | L16: =-('9.1_nvo'!L27-'9.1_nvo'!K27) -> 0
B17: 9.3.1.11. | C17: Trumpalaikių investicijų sumažėjimas (padidėjimas) | E17: =-('9.1_nvo'!E28-'9.1_nvo'!D28) -> 0 | F17: =-('9.1_nvo'!F28-'9.1_nvo'!E28) -> 0 | G17: =-('9.1_nvo'!G28-'9.1_nvo'!F28) -> 0 | H17: =-('9.1_nvo'!H28-'9.1_nvo'!G28) -> 0 | I17: =-('9.1_nvo'!I28-'9.1_nvo'!H28) -> 0 | J17: =-('9.1_nvo'!J28-'9.1_nvo'!I28) -> 0 | K17: =-('9.1_nvo'!K28-'9.1_nvo'!J28) -> 0 | L17: =-('9.1_nvo'!L28-'9.1_nvo'!K28) -> 0
B18: 9.3.1.12. | C18: Ateinančių laikotarpių sąnaudų ir sukauptų pajamų sumažėjimas (padidėjimas) | E18: =-('9.1_nvo'!E30-'9.1_nvo'!D30) -> 0 | F18: =-('9.1_nvo'!F30-'9.1_nvo'!E30) -> 0 | G18: =-('9.1_nvo'!G30-'9.1_nvo'!F30) -> 0 | H18: =-('9.1_nvo'!H30-'9.1_nvo'!G30) -> 0 | I18: =-('9.1_nvo'!I30-'9.1_nvo'!H30) -> 0 | J18: =-('9.1_nvo'!J30-'9.1_nvo'!I30) -> 0 | K18: =-('9.1_nvo'!K30-'9.1_nvo'!J30) -> 0 | L18: =-('9.1_nvo'!L30-'9.1_nvo'!K30) -> 0
B19: 9.3.1.13. | C19: Trumpalaikių skolų tiekėjams ir gautų avansų padidėjimas (sumažėjimas) | E19: =('9.1_nvo'!E57 + '9.1_nvo'!E56)-('9.1_nvo'!D57 + '9.1_nvo'!D56) -> 0 | F19: =('9.1_nvo'!F57 + '9.1_nvo'!F56)-('9.1_nvo'!E57 + '9.1_nvo'!E56) -> 0 | G19: =('9.1_nvo'!G57 + '9.1_nvo'!G56)-('9.1_nvo'!F57 + '9.1_nvo'!F56) -> 0 | H19: =('9.1_nvo'!H57 + '9.1_nvo'!H56)-('9.1_nvo'!G57 + '9.1_nvo'!G56) -> 0 | I19: =('9.1_nvo'!I57 + '9.1_nvo'!I56)-('9.1_nvo'!H57 + '9.1_nvo'!H56) -> 0 | J19: =('9.1_nvo'!J57 + '9.1_nvo'!J56)-('9.1_nvo'!I57 + '9.1_nvo'!I56) -> 0 | K19: =('9.1_nvo'!K57 + '9.1_nvo'!K56)-('9.1_nvo'!J57 + '9.1_nvo'!J56) -> 0 | L19: =('9.1_nvo'!L57 + '9.1_nvo'!L56)-('9.1_nvo'!K57 + '9.1_nvo'!K56) -> 0
B20: 9.3.1.14. | C20: Su darbo santykiais susijusių įsipareigojimų padidėjimas (sumažėjimas) | E20: ='9.1_nvo'!E58-'9.1_nvo'!D58 -> 0 | F20: ='9.1_nvo'!F58-'9.1_nvo'!E58 -> 0 | G20: ='9.1_nvo'!G58-'9.1_nvo'!F58 -> 0 | H20: ='9.1_nvo'!H58-'9.1_nvo'!G58 -> 0 | I20: ='9.1_nvo'!I58-'9.1_nvo'!H58 -> 0 | J20: ='9.1_nvo'!J58-'9.1_nvo'!I58 -> 0 | K20: ='9.1_nvo'!K58-'9.1_nvo'!J58 -> 0 | L20: ='9.1_nvo'!L58-'9.1_nvo'!K58 -> 0
B21: 9.3.1.15. | C21: Kitų mokėtinų sumų ir įsipareigojimų padidėjimas (sumažėjimas) | E21: =('9.1_nvo'!E52+'9.1_nvo'!E59) - ('9.1_nvo'!D52+'9.1_nvo'!D59) -> 0 | F21: =('9.1_nvo'!F52+'9.1_nvo'!F59) - ('9.1_nvo'!E52+'9.1_nvo'!E59) -> 0 | G21: =('9.1_nvo'!G52+'9.1_nvo'!G59) - ('9.1_nvo'!F52+'9.1_nvo'!F59) -> 0 | H21: =('9.1_nvo'!H52+'9.1_nvo'!H59) - ('9.1_nvo'!G52+'9.1_nvo'!G59) -> 0 | I21: =('9.1_nvo'!I52+'9.1_nvo'!I59) - ('9.1_nvo'!H52+'9.1_nvo'!H59) -> 0 | J21: =('9.1_nvo'!J52+'9.1_nvo'!J59) - ('9.1_nvo'!I52+'9.1_nvo'!I59) -> 0 | K21: =('9.1_nvo'!K52+'9.1_nvo'!K59) - ('9.1_nvo'!J52+'9.1_nvo'!J59) -> 0 | L21: =('9.1_nvo'!L52+'9.1_nvo'!L59) - ('9.1_nvo'!K52+'9.1_nvo'!K59) -> 0
B22: 9.3.1.16. | C22: Sukauptų sąnaudų ir ateinančių laikotarpių pajamų padidėjimas (sumažėjimas) | E22: ='9.1_nvo'!E60-'9.1_nvo'!D60 -> 0 | F22: ='9.1_nvo'!F60-'9.1_nvo'!E60 -> 0 | G22: ='9.1_nvo'!G60-'9.1_nvo'!F60 -> 0 | H22: ='9.1_nvo'!H60-'9.1_nvo'!G60 -> 0 | I22: ='9.1_nvo'!I60-'9.1_nvo'!H60 -> 0 | J22: ='9.1_nvo'!J60-'9.1_nvo'!I60 -> 0 | K22: ='9.1_nvo'!K60-'9.1_nvo'!J60 -> 0 | L22: ='9.1_nvo'!L60-'9.1_nvo'!K60 -> 0
B23: 9.3.1.17. | C23: Grynieji pagrindinės veiklos pinigų srautai | D23: =SUM(D8:D22) -> 0 | E23: =SUM(E8:E22) -> 0 | F23: =SUM(F8:F22) -> 0 | G23: =SUM(G8:G22) -> 0 | H23: =SUM(H8:H22) -> 0 | I23: =SUM(I8:I22) -> 0 | J23: =SUM(J8:J22) -> 0 | K23: =SUM(K8:K22) -> 0 | L23: =SUM(L8:L22) -> 0
B24: 9.3.2. | C24: Investicinės veiklos pinigų srautai
B25: 9.3.2.1. | C25: Ilgalaikio turto (išskyrus finansinį) ir biologinio turto įsigijimas | D25: =-'6'!D62 -> 0 | E25: =-'6'!E62 -> 0 | F25: =-'6'!F62 -> 0 | G25: =-'6'!G62 -> 0 | H25: =-'6'!H62 -> 0 | I25: =-'6'!I62 -> 0 | J25: =-'6'!J62 -> 0 | K25: =-'6'!K62 -> 0 | L25: =-'6'!L62 -> 0
B26: 9.3.2.2. | C26: Ilgalaikio turto (išskyrus finansinį) ir biologinio turto perleidimas | N26: Neplanuojama. Prognozuojamu laikotarpiu nematerialiojo ir ilgalaikio materialiojo turto perleidimo pelnas (nuostolis) atsispindi 9.3.2.6 arba 9.3.2.7 eil.
B27: 9.3.2.3. | C27: Ilgalaikio finansinio turto įsigijimas | N27: Atkreipkite dėmesį! Balanso straipsnis "Finansinis turtas" nėra susietas su šia pinigų srautų ataskaitos eilute. Planuoti ateičiai nerekomenduojama. Duomenys gali būti įvesti, jei toks faktas yra įvykęs arba tikrai žinoma, kad įvyks.
B28: 9.3.2.4. | C28: Ilgalaikio finansinio turto perleidimas | N28: Atkreipkite dėmesį! Balanso straipsnis "Finansinis turtas" nėra susietas su šia pinigų srautų ataskaitos eilute. Planuoti ateičiai nerekomenduojama. Duomenys gali būti įvesti, jei toks faktas yra įvykęs arba tikrai žinoma, kad įvyks.
B29: 9.3.2.5. | C29: Gauti dividendai, palūkanos | N29: Neplanuojama.
B30: 9.3.2.6. | C30: Kitas investicinės veiklos pinigų srautų padidėjimas | D30: =IF('9.2_nvo'!D15-'9.2_nvo'!D18>0,'9.2_nvo'!D15-'9.2_nvo'!D18,0) -> 0 | E30: =IF('9.2_nvo'!E15-'9.2_nvo'!E18>0,'9.2_nvo'!E15-'9.2_nvo'!E18,0) -> 0 | F30: =IF('9.2_nvo'!F15-'9.2_nvo'!F18>0,'9.2_nvo'!F15-'9.2_nvo'!F18,0) -> 0 | G30: =IF('9.2_nvo'!G15-'9.2_nvo'!G18>0,'9.2_nvo'!G15-'9.2_nvo'!G18,0) -> 0 | H30: =IF('9.2_nvo'!H15-'9.2_nvo'!H18>0,'9.2_nvo'!H15-'9.2_nvo'!H18,0) -> 0 | I30: =IF('9.2_nvo'!I15-'9.2_nvo'!I18>0,'9.2_nvo'!I15-'9.2_nvo'!I18,0) -> 0 | J30: =IF('9.2_nvo'!J15-'9.2_nvo'!J18>0,'9.2_nvo'!J15-'9.2_nvo'!J18,0) -> 0 | K30: =IF('9.2_nvo'!K15-'9.2_nvo'!K18>0,'9.2_nvo'!K15-'9.2_nvo'!K18,0) -> 0 | L30: =IF('9.2_nvo'!L15-'9.2_nvo'!L18>0,'9.2_nvo'!L15-'9.2_nvo'!L18,0) -> 0 | N30: Prognozuojamu laikotarpiu priskirtas nematerialiojo ir ilgalaikio materialiojo turto perleidimo pelnas. Jei ataskaitiniais metais turime kitą reikšmę, galima ją įvesti ištrinant formulę.
B31: 9.3.2.7. | C31: Kitas investicinės veiklos pinigų srautų sumažėjimas | D31: =IF('9.2_nvo'!D15-'9.2_nvo'!D18<0,'9.2_nvo'!D15-'9.2_nvo'!D18,0) -> 0 | E31: =IF('9.2_nvo'!E15-'9.2_nvo'!E18<0,'9.2_nvo'!E15-'9.2_nvo'!E18,0) -> 0 | F31: =IF('9.2_nvo'!F15-'9.2_nvo'!F18<0,'9.2_nvo'!F15-'9.2_nvo'!F18,0) -> 0 | G31: =IF('9.2_nvo'!G15-'9.2_nvo'!G18<0,'9.2_nvo'!G15-'9.2_nvo'!G18,0) -> 0 | H31: =IF('9.2_nvo'!H15-'9.2_nvo'!H18<0,'9.2_nvo'!H15-'9.2_nvo'!H18,0) -> 0 | I31: =IF('9.2_nvo'!I15-'9.2_nvo'!I18<0,'9.2_nvo'!I15-'9.2_nvo'!I18,0) -> 0 | J31: =IF('9.2_nvo'!J15-'9.2_nvo'!J18<0,'9.2_nvo'!J15-'9.2_nvo'!J18,0) -> 0 | K31: =IF('9.2_nvo'!K15-'9.2_nvo'!K18<0,'9.2_nvo'!K15-'9.2_nvo'!K18,0) -> 0 | L31: =IF('9.2_nvo'!L15-'9.2_nvo'!L18<0,'9.2_nvo'!L15-'9.2_nvo'!L18,0) -> 0 | N31: Prognozuojamu laikotarpiu priskirtas nematerialiojo ir ilgalaikio materialiojo turto perleidimo nuostolis. Jei ataskaitiniais metais turime kitą reikšmę, galima ją įvesti ištrinant formulę.
B32: 9.3.2.8. | C32: Grynieji investicinės veiklos pinigų srautai | D32: =SUM(D25:D31) -> 0 | E32: =SUM(E25:E31) -> 0 | F32: =SUM(F25:F31) -> 0 | G32: =SUM(G25:G31) -> 0 | H32: =SUM(H25:H31) -> 0 | I32: =SUM(I25:I31) -> 0 | J32: =SUM(J25:J31) -> 0 | K32: =SUM(K25:K31) -> 0 | L32: =SUM(L25:L31) -> 0
B33: 9.3.3. | C33: Finansinės veiklos pinigų srautai
B34: 9.3.3.1. | C34: Įplaukos iš gautų paskolų | D34: ='8'!D19+'8'!D20 -> 0 | E34: ='8'!E19+'8'!E20 -> 0 | F34: ='8'!F19+'8'!F20 -> 0 | G34: ='8'!G19+'8'!G20 -> 0 | H34: ='8'!H19+'8'!H20 -> 0 | I34: ='8'!I19+'8'!I20 -> 0 | J34: ='8'!J19+'8'!J20 -> 0 | K34: ='8'!K19+'8'!K20 -> 0 | L34: ='8'!L19+'8'!L20 -> 0
B35: 9.3.3.2. | C35: Gautų paskolų grąžinimas | D35: =-('8'!D21+'8'!D22) -> 0 | E35: =-('8'!E21+'8'!E22) -> 0 | F35: =-('8'!F21+'8'!F22) -> 0 | G35: =-('8'!G21+'8'!G22) -> 0 | H35: =-('8'!H21+'8'!H22) -> 0 | I35: =-('8'!I21+'8'!I22) -> 0 | J35: =-('8'!J21+'8'!J22) -> 0 | K35: =-('8'!K21+'8'!K22) -> 0 | L35: =-('8'!L21+'8'!L22) -> 0
B36: 9.3.3.3. | C36: Gauta finansinės nuomos (lizingo) suma | D36: ='8'!D31 -> 0 | E36: ='8'!E31 -> 0 | F36: ='8'!F31 -> 0 | G36: ='8'!G31 -> 0 | H36: ='8'!H31 -> 0 | I36: ='8'!I31 -> 0 | J36: ='8'!J31 -> 0 | K36: ='8'!K31 -> 0 | L36: ='8'!L31 -> 0
B37: 9.3.3.4. | C37: Finansinės nuomos (lizingo) įsipareigojimų apmokėjimas | D37: =-'8'!D32 -> 0 | E37: =-'8'!E32 -> 0 | F37: =-'8'!F32 -> 0 | G37: =-'8'!G32 -> 0 | H37: =-'8'!H32 -> 0 | I37: =-'8'!I32 -> 0 | J37: =-'8'!J32 -> 0 | K37: =-'8'!K32 -> 0 | L37: =-'8'!L32 -> 0
B38: 9.3.3.5. | C38: Sumokėtos palūkanos | D38: =-('8'!D25+'8'!D35) -> 0 | E38: =-('8'!E25+'8'!E35) -> 0 | F38: =-('8'!F25+'8'!F35) -> 0 | G38: =-('8'!G25+'8'!G35) -> 0 | H38: =-('8'!H25+'8'!H35) -> 0 | I38: =-('8'!I25+'8'!I35) -> 0 | J38: =-('8'!J25+'8'!J35) -> 0 | K38: =-('8'!K25+'8'!K35) -> 0 | L38: =-('8'!L25+'8'!L35) -> 0
B39: 9.3.3.6. | C39: Gautos finansavimo sumos iš ES, valstybės ir savivaldybės biudžetų, išskyrus finansavimą šio projekto investicijoms
B40: 9.3.3.7. | C40: Gautos finansavimo sumos, susijusios su projekto investicijomis | E40: =SUMIFS('5'!$F:$F,'5'!$B:$B,"Paramos išmokėjimas*",'5'!$C:$C,">="&DATE('9.3_nvo'!E6,1,1),'5'!$C:$C,"<="&DATE('9.3_nvo'!E6,12,31))+SUMIFS('5'!$C$14,'9.3_nvo'!E$6,YEAR('5'!$C$15)) -> 0 | F40: =SUMIFS('5'!$F:$F,'5'!$B:$B,"Paramos išmokėjimas*",'5'!$C:$C,">="&DATE('9.3_nvo'!F6,1,1),'5'!$C:$C,"<="&DATE('9.3_nvo'!F6,12,31))+SUMIFS('5'!$C$14,'9.3_nvo'!F$6,YEAR('5'!$C$15)) -> 0 | G40: =SUMIFS('5'!$F:$F,'5'!$B:$B,"Paramos išmokėjimas*",'5'!$C:$C,">="&DATE('9.3_nvo'!G6,1,1),'5'!$C:$C,"<="&DATE('9.3_nvo'!G6,12,31))+SUMIFS('5'!$C$14,'9.3_nvo'!G$6,YEAR('5'!$C$15)) -> 0 | H40: =SUMIFS('5'!$F:$F,'5'!$B:$B,"Paramos išmokėjimas*",'5'!$C:$C,">="&DATE('9.3_nvo'!H6,1,1),'5'!$C:$C,"<="&DATE('9.3_nvo'!H6,12,31))+SUMIFS('5'!$C$14,'9.3_nvo'!H$6,YEAR('5'!$C$15)) -> 0 | I40: =SUMIFS('5'!$F:$F,'5'!$B:$B,"Paramos išmokėjimas*",'5'!$C:$C,">="&DATE('9.3_nvo'!I6,1,1),'5'!$C:$C,"<="&DATE('9.3_nvo'!I6,12,31))+SUMIFS('5'!$C$14,'9.3_nvo'!I$6,YEAR('5'!$C$15)) -> 0 | J40: =SUMIFS('5'!$F:$F,'5'!$B:$B,"Paramos išmokėjimas*",'5'!$C:$C,">="&DATE('9.3_nvo'!J6,1,1),'5'!$C:$C,"<="&DATE('9.3_nvo'!J6,12,31))+SUMIFS('5'!$C$14,'9.3_nvo'!J$6,YEAR('5'!$C$15)) -> 0 | K40: =SUMIFS('5'!$F:$F,'5'!$B:$B,"Paramos išmokėjimas*",'5'!$C:$C,">="&DATE('9.3_nvo'!K6,1,1),'5'!$C:$C,"<="&DATE('9.3_nvo'!K6,12,31))+SUMIFS('5'!$C$14,'9.3_nvo'!K$6,YEAR('5'!$C$15)) -> 0 | L40: =SUMIFS('5'!$F:$F,'5'!$B:$B,"Paramos išmokėjimas*",'5'!$C:$C,">="&DATE('9.3_nvo'!L6,1,1),'5'!$C:$C,"<="&DATE('9.3_nvo'!L6,12,31))+SUMIFS('5'!$C$14,'9.3_nvo'!L$6,YEAR('5'!$C$15)) -> 0 | N40: Paramos suma apskaičiuojama automatiškai, remiantis 5 skyriaus duomenimis. 5 skyriuje būtina teisingai įvesti paramos dydį ir jos gavimo datą (-as).
B41: 9.3.3.8. | C41: Grąžintos finansavimo sumos ilgalaikiam ir biologiniam turtui įsigyti | N41: Neplanuojama.
B42: 9.3.3.9. | C42: Gauti dalininkų įnašai
B43: 9.3.3.10. | C43: Kitų įmonės įsipareigojimų padidėjimas | N43: Neplanuojama.
B44: 9.3.3.11. | C44: Kitų įmonės įsipareigojimų sumažėjimas | N44: Neplanuojama.
B45: 9.3.3.12. | C45: Grynieji finansinės veiklos pinigų srautai | D45: =SUM(D34:D44) -> 0 | E45: =SUM(E34:E44) -> 0 | F45: =SUM(F34:F44) -> 0 | G45: =SUM(G34:G44) -> 0 | H45: =SUM(H34:H44) -> 0 | I45: =SUM(I34:I44) -> 0 | J45: =SUM(J34:J44) -> 0 | K45: =SUM(K34:K44) -> 0 | L45: =SUM(L34:L44) -> 0
B46: 9.3.4. | C46: Valiutų kursų pokyčio įtaka grynųjų pinigų ir pinigų ekvivalentų likučiui | N46: Neplanuojama.
B47: 9.3.5. | C47: Grynasis pinigų srautų padidėjimas (sumažėjimas) | D47: =SUM(D23,D32,D45,D46) -> 0 | E47: =SUM(E23,E32,E45,E46) -> 0 | F47: =SUM(F23,F32,F45,F46) -> 0 | G47: =SUM(G23,G32,G45,G46) -> 0 | H47: =SUM(H23,H32,H45,H46) -> 0 | I47: =SUM(I23,I32,I45,I46) -> 0 | J47: =SUM(J23,J32,J45,J46) -> 0 | K47: =SUM(K23,K32,K45,K46) -> 0 | L47: =SUM(L23,L32,L45,L46) -> 0
B48: 9.3.6. | C48: Pinigai ir pinigų ekvivalentai laikotarpio pradžioje | E48: =+D49 -> 0 | F48: =+E49 -> 0 | G48: =+F49 -> 0 | H48: =+G49 -> 0 | I48: =+H49 -> 0 | J48: =+I49 -> 0 | K48: =+J49 -> 0 | L48: =+K49 -> 0
B49: 9.3.7. | C49: Pinigai ir pinigų ekvivalentai laikotarpio pabaigoje | D49: =D47+D48 -> 0 | E49: =+E48+E47 -> 0 | F49: =+F48+F47 -> 0 | G49: =+G48+G47 -> 0 | H49: =+H48+H47 -> 0 | I49: =+I48+I47 -> 0 | J49: =+J48+J47 -> 0 | K49: =+K48+K47 -> 0 | L49: =+L48+L47 -> 0 | N49: =IF(COUNTIFS(D49:L49,"<0")>0,"Klaida! Pinigų likutis negali būti neigiamas!","ok") -> ok
N50: =IF(ABS(D49-'9.1_nvo'!D29)>1,"Klaida! Ataskaitiniais metais pinigų likutis balanse ir pinigų srautų ataskaitoje nesutampa","ok") -> ok

Sheet 10_nvo
A1: 10. | B1: INFORMACIJA APIE ŪKIO SUBJEKTO EKONOMINIO GYVYBINGUMO RODIKLIUS | O1: Pastabos
O2: Ši dalis nepildoma, kai teikiamas viešųjų paslaugų prieinamumo ( viešųjų paslaugų perdavimo) projektas
A3: Eil. Nr. | B3: Rodikliai | C3: Praėjusieji ataskaitiniai metai | D3: =IF(AND('1'!$C$22="Verslo pradžia",YEAR('1'!$E$22)=YEAR('1'!$C$11)),"Pradžios metai","Ataskaitiniai metai") -> Ataskaitiniai metai | E3: Sekantys metai
C4: =_xlfn.CONCAT("",YEAR(Parametrai!$C$13)-2) -> #NAME? | D4: =IF(D3="Pradžios metai",YEAR('1'!$E$22),IF((YEAR('1'!$C$11)-1)+COUNT($C4:C4)>YEAR('1'!$C$18)+Parametrai!$C$15,"-",(YEAR('1'!$C$11)-1)+COUNT($C4:C4))) -> 1899 | E4: =IF(E3="Pradžios metai",YEAR('1'!$E$22),IF((YEAR('1'!$C$11)-1)+COUNT($C4:D4)>YEAR('1'!$C$18)+Parametrai!$C$15,"-",(YEAR('1'!$C$11)-1)+COUNT($C4:D4))) -> 1900 | F4: =IF(F3="Pradžios metai",YEAR('1'!$E$22),IF((YEAR('1'!$C$11)-1)+COUNT($C4:E4)>YEAR('1'!$C$18)+Parametrai!$C$15,"-",(YEAR('1'!$C$11)-1)+COUNT($C4:E4))) -> 1901 | G4: =IF(G3="Pradžios metai",YEAR('1'!$E$22),IF((YEAR('1'!$C$11)-1)+COUNT($C4:F4)>YEAR('1'!$C$18)+Parametrai!$C$15,"-",(YEAR('1'!$C$11)-1)+COUNT($C4:F4))) -> 1902 | H4: =IF(H3="Pradžios metai",YEAR('1'!$E$22),IF((YEAR('1'!$C$11)-1)+COUNT($C4:G4)>YEAR('1'!$C$18)+Parametrai!$C$15,"-",(YEAR('1'!$C$11)-1)+COUNT($C4:G4))) -> 1903 | I4: =IF(I3="Pradžios metai",YEAR('1'!$E$22),IF((YEAR('1'!$C$11)-1)+COUNT($C4:H4)>YEAR('1'!$C$18)+Parametrai!$C$15,"-",(YEAR('1'!$C$11)-1)+COUNT($C4:H4))) -> - | J4: =IF(J3="Pradžios metai",YEAR('1'!$E$22),IF((YEAR('1'!$C$11)-1)+COUNT($C4:I4)>YEAR('1'!$C$18)+Parametrai!$C$15,"-",(YEAR('1'!$C$11)-1)+COUNT($C4:I4))) -> - | K4: =IF(K3="Pradžios metai",YEAR('1'!$E$22),IF((YEAR('1'!$C$11)-1)+COUNT($C4:J4)>YEAR('1'!$C$18)+Parametrai!$C$15,"-",(YEAR('1'!$C$11)-1)+COUNT($C4:J4))) -> - | L4: =IF(L3="Pradžios metai",YEAR('1'!$E$22),IF((YEAR('1'!$C$11)-1)+COUNT($C4:K4)>YEAR('1'!$C$18)+Parametrai!$C$15,"-",(YEAR('1'!$C$11)-1)+COUNT($C4:K4))) -> - | O4: Kritinės reikšmės
A5: 10.1. | B5: Skolos | D5: =IFERROR('9.1_nvo'!D49/'9.1_nvo'!D31,"-") -> - | E5: =IFERROR('9.1_nvo'!E49/'9.1_nvo'!E31,"-") -> - | F5: =IFERROR('9.1_nvo'!F49/'9.1_nvo'!F31,"-") -> - | G5: =IFERROR('9.1_nvo'!G49/'9.1_nvo'!G31,"-") -> - | H5: =IFERROR('9.1_nvo'!H49/'9.1_nvo'!H31,"-") -> - | I5: =IFERROR('9.1_nvo'!I49/'9.1_nvo'!I31,"-") -> - | J5: =IFERROR('9.1_nvo'!J49/'9.1_nvo'!J31,"-") -> - | K5: =IFERROR('9.1_nvo'!K49/'9.1_nvo'!K31,"-") -> - | L5: =IFERROR('9.1_nvo'!L49/'9.1_nvo'!L31,"-") -> - | O5: =Parametrai!C22 -> 0.65 | P5: ≤ 0,65
A6: 10.2. | B6: Grynasis pelningumas | D6: =IFERROR('9.2_nvo'!D27/'9.2_nvo'!D7,"-") -> - | E6: =IFERROR('9.2_nvo'!E27/'9.2_nvo'!E7,"-") -> - | F6: =IFERROR('9.2_nvo'!F27/'9.2_nvo'!F7,"-") -> - | G6: =IFERROR('9.2_nvo'!G27/'9.2_nvo'!G7,"-") -> - | H6: =IFERROR('9.2_nvo'!H27/'9.2_nvo'!H7,"-") -> - | I6: =IFERROR('9.2_nvo'!I27/'9.2_nvo'!I7,"-") -> - | J6: =IFERROR('9.2_nvo'!J27/'9.2_nvo'!J7,"-") -> - | K6: =IFERROR('9.2_nvo'!K27/'9.2_nvo'!K7,"-") -> - | L6: =IFERROR('9.2_nvo'!L27/'9.2_nvo'!L7,"-") -> - | O6: =Parametrai!C23 -> 0.01 | P6: ≥ 1 proc.
B10: Pagal Vietos projektų, įgyvendinamų bendruomenių inicijuotos vietos plėtros būdu, administravimo taisykles:
B11: 20.6. jeigu vietos projekte numatytos investicijos naujo verslo kūrimui arba esamo verslo plėtrai (įskaitant bendruomeninį ir socialinį verslą), prie vietos projekto paraiškos turi būti pateikiamas vietos projekto verslo planas, įrodantis, kad būsimas naujas verslas arba plėtojamas esamas verslas yra ekonomiškai gyvybingas, t. y. vietos projekto verslo planas turi atitikti ekonominio gyvybingumo kriterijus ir jų reikšmes, nustatytas Taisyklių 20.6.1–20.6.4 papunkčiuose (bendradarbiavimo vietos projektų atveju, ekonominio gyvybingumo rodiklius turi atitikti pareiškėjas ir partneris). Ekonominio gyvybingumo rodiklių skaičiavimo nuostatos ir formulės yra nustatytos Ūkio subjektų, siekiančių pasinaudoti parama pagal Lietuvos kaimo plėtros 2014–2020 metų programos ir Lietuvos žemės ūkio ir kaimo plėtros 2023–2027 m. strateginio plano priemones, ekonominio gyvybingumo nustatymo taisyklėse, patvirtintose Lietuvos Respublikos žemės ūkio ministro 2014 m. liepos 28 d. įsakymu Nr. 3D-440 „Dėl Ūkio subjektų, siekiančių pasinaudoti parama pagal Lietuvos kaimo plėtros 2014–2020 metų programos ir Lietuvos žemės ūkio ir kaimo plėtros 2023–2027 m. strateginio plano priemones, ekonominio gyvybingumo nustatymo taisyklių patvirtinimo“ (toliau – Ekonominio gyvybingumo nustatymo taisyklės):
B12: 20.6.1. bendruomeninio ir socialinio verslo plėtros atveju – grynojo pelningumo, kurio reikšmė ≥ 1 proc., ir skolos, kurios reikšmė ≤ 0,65. Ataskaitiniais arba vienais iš dvejų eilės tvarka einančių praėjusių ataskaitinių metų (pasirinktinai) skaičiuojami grynojo pelningumo ir skolos rodikliai (abu turi būti skaičiuojami pagal tų pačių metų duomenis). Vietos projekto kontrolės laikotarpiu skaičiuojami grynojo pelningumo ir skolos rodikliai;
B13: 20.6.2. bendruomeninio ir socialinio verslo pradžios atveju – grynojo pelningumo, kurio reikšmė ≥ 1, skolos, kurios reikšmė ≤ 0,65. Vietos projekto kontrolės laikotarpiu skaičiuojami grynojo pelningumo ir skolos rodikliai. Verslo pradžia laikoma, kai pareiškėjas yra įsteigtas paramos paraiškos pateikimo metais arba ataskaitiniais metais. Verslo pradžia gali būti laikoma pareiškėjo anksčiau pradėjusio vykdyti verslą, nei paraiškos pateikimo arba ataskaitiniais metais, veikla, jei iki paraiškos pateikimo metų iš projekte numatytos vykdyti ekonominės veiklos pagal ERVK nėra gavęs jokių pajamų;
B14: 20.6.3. verslo, neįvardyto Taisyklių 20.6.1 papunktyje, plėtros atveju – grynojo pelningumo, kurio reikšmė ≥ 0 proc., skolos, kurios reikšmė ≤ 0,65, paskolų padengimo, kurio reikšmė ≥ 1,25 ir einamojo likvidumo koeficiento, kurio reikšmė ≥ 1. Ataskaitiniais arba vienais metais iš dviejų eilės tvarka einančių praėjusių ataskaitinių metų (pasirinktinai) skaičiuojami grynojo pelningumo ir skolos rodikliai; abu rodikliai turi būti skaičiuojami pagal tų pačių metų duomenis). Vietos projekto įgyvendinimo laikotarpiu skaičiuojamas paskolų padengimo rodiklis, o vietos projekto kontrolės laikotarpiu skaičiuojami grynojo pelningumo, skolos, paskolų padengimo ir einamojo likvidumo koeficiento rodikliai;
